Back to Multiple platform build/check report for BioC 3.12
[A]BCDEFGHIJKLMNOPQRSTUVWXYZ

BUILD report for AneuFinder on malbec1

This page was generated on 2020-08-12 11:19:25 -0400 (Wed, 12 Aug 2020).

TO THE DEVELOPERS/MAINTAINERS OF THE AneuFinder PACKAGE: Please make sure to use the following settings in order to reproduce any error or warning you see on this page.
Package 52/1885HostnameOS / ArchINSTALLBUILDCHECKBUILD BIN
AneuFinder 1.17.0
Aaron Taudt
Snapshot Date: 2020-08-11 14:50:16 -0400 (Tue, 11 Aug 2020)
URL: https://git.bioconductor.org/packages/AneuFinder
Branch: master
Last Commit: e64f35e
Last Changed Date: 2020-04-27 14:55:57 -0400 (Mon, 27 Apr 2020)
malbec1 Linux (Ubuntu 18.04.4 LTS) / x86_64  OK [ OK ] OK UNNEEDED, same version exists in internal repository
nebbiolo1 Linux (Ubuntu 20.04.1 LTS) / x86_64  OK  OK  OK 
tokay1 Windows Server 2012 R2 Standard / x64  OK  OK  OK  OK UNNEEDED, same version exists in internal repository
merida1 macOS 10.14.6 Mojave / x86_64  OK  OK  OK  OK UNNEEDED, same version exists in internal repository

Summary

Package: AneuFinder
Version: 1.17.0
Command: /home/biocbuild/bbs-3.12-bioc/R/bin/R CMD build --keep-empty-dirs --no-resave-data AneuFinder
StartedAt: 2020-08-11 20:26:04 -0400 (Tue, 11 Aug 2020)
EndedAt: 2020-08-11 20:29:48 -0400 (Tue, 11 Aug 2020)
EllapsedTime: 223.6 seconds
RetCode: 0
Status:  OK 
PackageFile: AneuFinder_1.17.0.tar.gz
PackageFileSize: 2.021 MiB

Command output

##############################################################################
##############################################################################
###
### Running command:
###
###   /home/biocbuild/bbs-3.12-bioc/R/bin/R CMD build --keep-empty-dirs --no-resave-data AneuFinder
###
##############################################################################
##############################################################################


* checking for file ‘AneuFinder/DESCRIPTION’ ... OK
* preparing ‘AneuFinder’:
* checking DESCRIPTION meta-information ... OK
* cleaning src
* installing the package to build vignettes
* creating vignettes ... OK
* cleaning src
* checking for LF line-endings in source and make files and shell scripts
* checking for empty or unneeded directories
* building ‘AneuFinder_1.17.0.tar.gz’