Back to Multiple platform build/check report for BioC 3.12
A[B]CDEFGHIJKLMNOPQRSTUVWXYZ

BUILD report for bigmemoryExtras on malbec1

This page was generated on 2020-08-07 11:18:57 -0400 (Fri, 07 Aug 2020).

TO THE DEVELOPERS/MAINTAINERS OF THE bigmemoryExtras PACKAGE: Please make sure to use the following settings in order to reproduce any error or warning you see on this page.
Package 141/1882HostnameOS / ArchINSTALLBUILDCHECKBUILD BIN
bigmemoryExtras 1.37.0
Peter M. Haverty
Snapshot Date: 2020-08-06 14:50:46 -0400 (Thu, 06 Aug 2020)
URL: https://git.bioconductor.org/packages/bigmemoryExtras
Branch: master
Last Commit: 7d5bdae
Last Changed Date: 2020-04-27 14:31:32 -0400 (Mon, 27 Apr 2020)
malbec1 Linux (Ubuntu 18.04.4 LTS) / x86_64  OK [ OK ] WARNINGS UNNEEDED, same version exists in internal repository
tokay1 Windows Server 2012 R2 Standard / x64 ...NOT SUPPORTED...
merida1 macOS 10.14.6 Mojave / x86_64  OK  OK  WARNINGS  OK UNNEEDED, same version exists in internal repository

Summary

Package: bigmemoryExtras
Version: 1.37.0
Command: /home/biocbuild/bbs-3.12-bioc/R/bin/R CMD build --keep-empty-dirs --no-resave-data bigmemoryExtras
StartedAt: 2020-08-06 18:24:13 -0400 (Thu, 06 Aug 2020)
EndedAt: 2020-08-06 18:24:14 -0400 (Thu, 06 Aug 2020)
EllapsedTime: 1.0 seconds
RetCode: 0
Status:  OK 
PackageFile: bigmemoryExtras_1.37.0.tar.gz
PackageFileSize: 52.02 KiB

Command output

##############################################################################
##############################################################################
###
### Running command:
###
###   /home/biocbuild/bbs-3.12-bioc/R/bin/R CMD build --keep-empty-dirs --no-resave-data bigmemoryExtras
###
##############################################################################
##############################################################################


* checking for file ‘bigmemoryExtras/DESCRIPTION’ ... OK
* preparing ‘bigmemoryExtras’:
* checking DESCRIPTION meta-information ... OK
* checking for LF line-endings in source and make files and shell scripts
* checking for empty or unneeded directories
* building ‘bigmemoryExtras_1.37.0.tar.gz’