Back to Multiple platform build/check report for BioC 3.12
A[B]CDEFGHIJKLMNOPQRSTUVWXYZ

BUILD report for BRAIN on malbec1

This page was generated on 2021-04-14 12:08:40 -0400 (Wed, 14 Apr 2021).

To the developers/maintainers of the BRAIN package:
Please make sure to use the following settings in order to reproduce any error or warning you see on this page.
Package 201/1974HostnameOS / ArchINSTALLBUILDCHECKBUILD BIN
BRAIN 1.36.0  (landing page)
Piotr Dittwald
Snapshot Date: 2021-04-13 14:50:13 -0400 (Tue, 13 Apr 2021)
URL: https://git.bioconductor.org/packages/BRAIN
Branch: RELEASE_3_12
Last Commit: 2637aed
Last Changed Date: 2020-10-27 10:45:00 -0400 (Tue, 27 Oct 2020)
malbec1Linux (Ubuntu 18.04.5 LTS) / x86_64  OK    OK    WARNINGS  UNNEEDED, same version exists in internal repository
tokay1Windows Server 2012 R2 Standard / x64  OK    OK    WARNINGS    OK  UNNEEDED, same version exists in internal repository
merida1macOS 10.14.6 Mojave / x86_64  OK    OK    WARNINGS    OK  UNNEEDED, same version exists in internal repository

Summary

Package: BRAIN
Version: 1.36.0
Command: /home/biocbuild/bbs-3.12-bioc/R/bin/R CMD build --keep-empty-dirs --no-resave-data BRAIN
StartedAt: 2021-04-13 17:57:31 -0400 (Tue, 13 Apr 2021)
EndedAt: 2021-04-13 17:57:50 -0400 (Tue, 13 Apr 2021)
EllapsedTime: 19.2 seconds
RetCode: 0
Status:   OK  
PackageFile: BRAIN_1.36.0.tar.gz
PackageFileSize: 1.932 MiB

Command output

##############################################################################
##############################################################################
###
### Running command:
###
###   /home/biocbuild/bbs-3.12-bioc/R/bin/R CMD build --keep-empty-dirs --no-resave-data BRAIN
###
##############################################################################
##############################################################################


* checking for file ‘BRAIN/DESCRIPTION’ ... OK
* preparing ‘BRAIN’:
* checking DESCRIPTION meta-information ... OK
* installing the package to build vignettes
* creating vignettes ... OK
* checking for LF line-endings in source and make files and shell scripts
* checking for empty or unneeded directories
* building ‘BRAIN_1.36.0.tar.gz’