Back to Multiple platform build/check report for BioC 3.12 |
|
This page was generated on 2021-02-22 12:32:15 -0500 (Mon, 22 Feb 2021).
To the developers/maintainers of the rTRMui package: Please make sure to use the following settings in order to reproduce any error or warning you see on this page. |
Package 1601/1974 | Hostname | OS / Arch | INSTALL | BUILD | CHECK | BUILD BIN | ||||||||
rTRMui 1.28.0 Diego Diez
| malbec1 | Linux (Ubuntu 18.04.5 LTS) / x86_64 | OK | OK | OK | ![]() | ||||||||
nebbiolo1 | Linux (Ubuntu 20.04.2 LTS) / x86_64 | OK | OK | OK | ||||||||||
tokay1 | Windows Server 2012 R2 Standard / x64 | OK | OK | OK | OK | ![]() | ||||||||
merida1 | macOS 10.14.6 Mojave / x86_64 | OK | OK | OK | OK | ![]() | ||||||||
Package: rTRMui |
Version: 1.28.0 |
Command: /home/biocbuild/bbs-3.12-bioc/R/bin/R CMD build --keep-empty-dirs --no-resave-data rTRMui |
StartedAt: 2021-02-21 22:01:53 -0500 (Sun, 21 Feb 2021) |
EndedAt: 2021-02-21 22:03:06 -0500 (Sun, 21 Feb 2021) |
EllapsedTime: 72.5 seconds |
RetCode: 0 |
Status: OK |
PackageFile: rTRMui_1.28.0.tar.gz |
PackageFileSize: 1.067 MiB |
############################################################################## ############################################################################## ### ### Running command: ### ### /home/biocbuild/bbs-3.12-bioc/R/bin/R CMD build --keep-empty-dirs --no-resave-data rTRMui ### ############################################################################## ############################################################################## * checking for file ‘rTRMui/DESCRIPTION’ ... OK * preparing ‘rTRMui’: * checking DESCRIPTION meta-information ... OK * installing the package to build vignettes * creating vignettes ... OK * checking for LF line-endings in source and make files and shell scripts * checking for empty or unneeded directories * building ‘rTRMui_1.28.0.tar.gz’