Back to Multiple platform build/check report for BioC 3.12
A[B]CDEFGHIJKLMNOPQRSTUVWXYZ

BUILD BIN report for BridgeDbR on merida1

This page was generated on 2020-08-10 12:36:41 -0400 (Mon, 10 Aug 2020).

TO THE DEVELOPERS/MAINTAINERS OF THE BridgeDbR PACKAGE: Please make sure to use the following settings in order to reproduce any error or warning you see on this page.
Package 200/1882HostnameOS / ArchINSTALLBUILDCHECKBUILD BIN
BridgeDbR 1.23.0
Egon Willighagen
Snapshot Date: 2020-08-09 14:51:29 -0400 (Sun, 09 Aug 2020)
URL: https://git.bioconductor.org/packages/BridgeDbR
Branch: master
Last Commit: ee9ccef
Last Changed Date: 2020-04-27 14:45:02 -0400 (Mon, 27 Apr 2020)
malbec1 Linux (Ubuntu 18.04.4 LTS) / x86_64  OK  OK  OK UNNEEDED, same version exists in internal repository
nebbiolo1 Linux (Ubuntu 20.04.1 LTS) / x86_64  OK  OK  OK 
tokay1 Windows Server 2012 R2 Standard / x64  ERROR  OK  ERROR  ERROR 
merida1 macOS 10.14.6 Mojave / x86_64  OK  OK  OK [ OK ]UNNEEDED, same version exists in internal repository

Summary

Package: BridgeDbR
Version: 1.23.0
Command: rm -rf BridgeDbR.buildbin-libdir && mkdir BridgeDbR.buildbin-libdir && /Users/biocbuild/BBS/utils/build-universal.sh BridgeDbR_1.23.0.tar.gz /Library/Frameworks/R.framework/Versions/Current/Resources/bin/R BridgeDbR.buildbin-libdir
StartedAt: 2020-08-10 06:45:18 -0400 (Mon, 10 Aug 2020)
EndedAt: 2020-08-10 06:46:01 -0400 (Mon, 10 Aug 2020)
EllapsedTime: 43.5 seconds
RetCode: 0
Status:  OK 
PackageFile: BridgeDbR_1.23.0.tgz
PackageFileSize: 2.617 MiB

Command output

##############################################################################
##############################################################################
###
### Running command:
###
###   rm -rf BridgeDbR.buildbin-libdir && mkdir BridgeDbR.buildbin-libdir && /Users/biocbuild/BBS/utils/build-universal.sh BridgeDbR_1.23.0.tar.gz /Library/Frameworks/R.framework/Versions/Current/Resources/bin/R BridgeDbR.buildbin-libdir
###
##############################################################################
##############################################################################


>>>>>>> 
>>>>>>> INSTALLATION WITH 'R CMD INSTALL --preclean --no-multiarch --library=BridgeDbR.buildbin-libdir BridgeDbR_1.23.0.tar.gz'
>>>>>>> 

* installing *source* package ‘BridgeDbR’ ...
** using staged installation
** R
** inst
** byte-compile and prepare package for lazy loading
** help
*** installing help indices
** building package indices
** installing vignettes
** testing if installed package can be loaded from temporary location
** testing if installed package can be loaded from final location
** testing if installed package keeps a record of temporary installation path
* DONE (BridgeDbR)