Back to Multiple platform build/check report for BioC 3.12
A[B]CDEFGHIJKLMNOPQRSTUVWXYZ

BUILD BIN report for beachmat on tokay1

This page was generated on 2020-08-06 12:05:21 -0400 (Thu, 06 Aug 2020).

TO THE DEVELOPERS/MAINTAINERS OF THE beachmat PACKAGE: Please make sure to use the following settings in order to reproduce any error or warning you see on this page.
Package 125/1882HostnameOS / ArchINSTALLBUILDCHECKBUILD BIN
beachmat 2.5.1
Aaron Lun
Snapshot Date: 2020-08-05 14:50:59 -0400 (Wed, 05 Aug 2020)
URL: https://git.bioconductor.org/packages/beachmat
Branch: master
Last Commit: 6ed4d18
Last Changed Date: 2020-07-27 00:17:02 -0400 (Mon, 27 Jul 2020)
malbec1 Linux (Ubuntu 18.04.4 LTS) / x86_64  OK  OK  OK UNNEEDED, same version exists in internal repository
tokay1 Windows Server 2012 R2 Standard / x64  OK  OK  OK [ OK ]UNNEEDED, same version exists in internal repository
merida1 macOS 10.14.6 Mojave / x86_64  OK  OK  OK  OK UNNEEDED, same version exists in internal repository

Summary

Package: beachmat
Version: 2.5.1
Command: rm -rf beachmat.buildbin-libdir && mkdir beachmat.buildbin-libdir && C:\Users\biocbuild\bbs-3.12-bioc\R\bin\R.exe CMD INSTALL --merge-multiarch --build --library=beachmat.buildbin-libdir beachmat_2.5.1.tar.gz
StartedAt: 2020-08-06 08:18:43 -0400 (Thu, 06 Aug 2020)
EndedAt: 2020-08-06 08:19:22 -0400 (Thu, 06 Aug 2020)
EllapsedTime: 39.5 seconds
RetCode: 0
Status:  OK  
PackageFile: beachmat_2.5.1.zip
PackageFileSize: 1.187 MiB

Command output

##############################################################################
##############################################################################
###
### Running command:
###
###   rm -rf beachmat.buildbin-libdir && mkdir beachmat.buildbin-libdir && C:\Users\biocbuild\bbs-3.12-bioc\R\bin\R.exe CMD INSTALL --merge-multiarch --build --library=beachmat.buildbin-libdir beachmat_2.5.1.tar.gz
###
##############################################################################
##############################################################################



install for i386

* installing *source* package 'beachmat' ...
** using staged installation
** R
** inst
** byte-compile and prepare package for lazy loading
** help
No man pages found in package  'beachmat' 
*** installing help indices
** building package indices
** installing vignettes
** testing if installed package can be loaded from temporary location
** testing if installed package can be loaded from final location
** testing if installed package keeps a record of temporary installation path

install for x64

* installing *source* package 'beachmat' ...
** testing if installed package can be loaded
* MD5 sums
packaged installation of 'beachmat' as beachmat_2.5.1.zip
* DONE (beachmat)