Back to Multiple platform build/check report for BioC 3.12
ABCDEFGHIJKLMNO[P]QRSTUVWXYZ

BUILD BIN report for Prize on tokay1

This page was generated on 2021-01-19 11:56:05 -0500 (Tue, 19 Jan 2021).

TO THE DEVELOPERS/MAINTAINERS OF THE Prize PACKAGE: Please make sure to use the following settings in order to reproduce any error or warning you see on this page.
Package 1385/1974HostnameOS / ArchINSTALLBUILDCHECKBUILD BIN
Prize 1.20.0
Daryanaz Dargahi
Snapshot Date: 2021-01-18 14:42:24 -0500 (Mon, 18 Jan 2021)
URL: https://git.bioconductor.org/packages/Prize
Branch: RELEASE_3_12
Last Commit: 278a85d
Last Changed Date: 2020-10-27 11:06:15 -0500 (Tue, 27 Oct 2020)
malbec1 Linux (Ubuntu 18.04.5 LTS) / x86_64  OK  OK  ERROR 
nebbiolo1 Linux (Ubuntu 20.04.1 LTS) / x86_64  OK  OK  ERROR 
tokay1 Windows Server 2012 R2 Standard / x64  OK  OK  ERROR [ OK ]
merida1 macOS 10.14.6 Mojave / x86_64  OK  OK  ERROR  OK 

Summary

Package: Prize
Version: 1.20.0
Command: rm -rf Prize.buildbin-libdir && mkdir Prize.buildbin-libdir && C:\Users\biocbuild\bbs-3.12-bioc\R\bin\R.exe CMD INSTALL --merge-multiarch --build --library=Prize.buildbin-libdir Prize_1.20.0.tar.gz
StartedAt: 2021-01-19 10:19:13 -0500 (Tue, 19 Jan 2021)
EndedAt: 2021-01-19 10:20:14 -0500 (Tue, 19 Jan 2021)
EllapsedTime: 61.2 seconds
RetCode: 0
Status:  OK  
PackageFile: Prize_1.20.0.zip
PackageFileSize: 535.7 KiB

Command output

##############################################################################
##############################################################################
###
### Running command:
###
###   rm -rf Prize.buildbin-libdir && mkdir Prize.buildbin-libdir && C:\Users\biocbuild\bbs-3.12-bioc\R\bin\R.exe CMD INSTALL --merge-multiarch --build --library=Prize.buildbin-libdir Prize_1.20.0.tar.gz
###
##############################################################################
##############################################################################



install for i386

* installing *source* package 'Prize' ...
** using staged installation
** R
** inst
** byte-compile and prepare package for lazy loading
** help
*** installing help indices
  converting help for package 'Prize'
    finding HTML links ... done
    AIJ                                     html  
    AIP                                     html  
    CI                                      html  
    GCR                                     html  
    ICR                                     html  
    IP                                      html  
    Prize-package                           html  
    RM                                      html  
    aggreg.judgement-data                   html  
    ahmatrix                                html  
    ahmatrixObj-class                       html  
    ahp                                     html  
    ahpObj-class                            html  
    ahp_matrix                              html  
    ahp_plot                                html  
    ahp_weights                             html  
    ahplot                                  html  
    ariAggreg-class                         html  
    crplot                                  html  
    dplot                                   html  
    epitope.PCM-data                        html  
    epitopeLength.PCM-data                  html  
    epitopeNum.PCM-data                     html  
    epitope_num_rating-data                 html  
    epitope_size_rating-data                html  
    freq.PCM-data                           html  
    freq_exp_rating-data                    html  
    gaggregate                              html  
    genes.list-data                         html  
    geoAggreg-class                         html  
    ind1-data                               html  
    ind2-data                               html  
    ind3-data                               html  
    ind4-data                               html  
    normal.PCM-data                         html  
    normal_exp_rating-data                  html  
    numEpitope_alternative_category-data    html  
    number-data                             html  
    pipeline                                html  
    pipelineObj-class                       html  
    rainbow_plot                            html  
    rainbowplot                             html  
    rating                                  html  
    ratingObj-class                         html  
    saaty_inconsistency                     html  
    simulation                              html  
    tumor.PCM-data                          html  
    tumor_exp_rating-data                   html  
    weight                                  html  
    weight_plot                             html  
    wplot                                   html  
** building package indices
** installing vignettes
** testing if installed package can be loaded from temporary location
Warning: Package 'Prize' is deprecated and will be removed from Bioconductor
  version 3.13
** testing if installed package can be loaded from final location
Warning: Package 'Prize' is deprecated and will be removed from Bioconductor
  version 3.13
** testing if installed package keeps a record of temporary installation path

install for x64

* installing *source* package 'Prize' ...
** testing if installed package can be loaded
Warning: Package 'Prize' is deprecated and will be removed from Bioconductor
  version 3.13
* MD5 sums
packaged installation of 'Prize' as Prize_1.20.0.zip
* DONE (Prize)