Back to Multiple platform build/check report for BioC 3.12
A[B]CDEFGHIJKLMNOPQRSTUVWXYZ

CHECK report for BiocNeighbors on tokay1

This page was generated on 2020-08-13 11:44:08 -0400 (Thu, 13 Aug 2020).

TO THE DEVELOPERS/MAINTAINERS OF THE BiocNeighbors PACKAGE: Please make sure to use the following settings in order to reproduce any error or warning you see on this page.
Package 154/1885HostnameOS / ArchINSTALLBUILDCHECKBUILD BIN
BiocNeighbors 1.7.0
Aaron Lun
Snapshot Date: 2020-08-12 14:52:00 -0400 (Wed, 12 Aug 2020)
URL: https://git.bioconductor.org/packages/BiocNeighbors
Branch: master
Last Commit: 1dcfaf3
Last Changed Date: 2020-04-27 15:17:53 -0400 (Mon, 27 Apr 2020)
malbec1 Linux (Ubuntu 18.04.4 LTS) / x86_64  OK  OK  OK UNNEEDED, same version exists in internal repository
nebbiolo1 Linux (Ubuntu 20.04.1 LTS) / x86_64  OK  OK  OK 
tokay1 Windows Server 2012 R2 Standard / x64  OK  OK [ OK ] OK UNNEEDED, same version exists in internal repository
merida1 macOS 10.14.6 Mojave / x86_64  OK  OK  OK  OK UNNEEDED, same version exists in internal repository

Summary

Package: BiocNeighbors
Version: 1.7.0
Command: C:\Users\biocbuild\bbs-3.12-bioc\R\bin\R.exe CMD check --force-multiarch --install=check:BiocNeighbors.install-out.txt --library=C:\Users\biocbuild\bbs-3.12-bioc\R\library --no-vignettes --timings BiocNeighbors_1.7.0.tar.gz
StartedAt: 2020-08-13 05:08:27 -0400 (Thu, 13 Aug 2020)
EndedAt: 2020-08-13 05:20:11 -0400 (Thu, 13 Aug 2020)
EllapsedTime: 704.0 seconds
RetCode: 0
Status:  OK  
CheckDir: BiocNeighbors.Rcheck
Warnings: 0

Command output

##############################################################################
##############################################################################
###
### Running command:
###
###   C:\Users\biocbuild\bbs-3.12-bioc\R\bin\R.exe CMD check --force-multiarch --install=check:BiocNeighbors.install-out.txt --library=C:\Users\biocbuild\bbs-3.12-bioc\R\library --no-vignettes --timings BiocNeighbors_1.7.0.tar.gz
###
##############################################################################
##############################################################################


* using log directory 'C:/Users/biocbuild/bbs-3.12-bioc/meat/BiocNeighbors.Rcheck'
* using R version 4.0.2 (2020-06-22)
* using platform: x86_64-w64-mingw32 (64-bit)
* using session charset: ISO8859-1
* using option '--no-vignettes'
* checking for file 'BiocNeighbors/DESCRIPTION' ... OK
* this is package 'BiocNeighbors' version '1.7.0'
* checking package namespace information ... OK
* checking package dependencies ... OK
* checking if this is a source package ... OK
* checking if there is a namespace ... OK
* checking for hidden files and directories ... OK
* checking for portable file names ... OK
* checking whether package 'BiocNeighbors' can be installed ... OK
* checking installed package size ... OK
* checking package directory ... OK
* checking 'build' directory ... OK
* checking DESCRIPTION meta-information ... OK
* checking top-level files ... OK
* checking for left-over files ... OK
* checking index information ... OK
* checking package subdirectories ... OK
* checking R files for non-ASCII characters ... OK
* checking R files for syntax errors ... OK
* loading checks for arch 'i386'
** checking whether the package can be loaded ... OK
** checking whether the package can be loaded with stated dependencies ... OK
** checking whether the package can be unloaded cleanly ... OK
** checking whether the namespace can be loaded with stated dependencies ... OK
** checking whether the namespace can be unloaded cleanly ... OK
* loading checks for arch 'x64'
** checking whether the package can be loaded ... OK
** checking whether the package can be loaded with stated dependencies ... OK
** checking whether the package can be unloaded cleanly ... OK
** checking whether the namespace can be loaded with stated dependencies ... OK
** checking whether the namespace can be unloaded cleanly ... OK
* checking dependencies in R code ... OK
* checking S3 generic/method consistency ... OK
* checking replacement functions ... OK
* checking foreign function calls ... OK
* checking R code for possible problems ... OK
* checking Rd files ... OK
* checking Rd metadata ... OK
* checking Rd cross-references ... OK
* checking for missing documentation entries ... OK
* checking for code/documentation mismatches ... OK
* checking Rd \usage sections ... OK
* checking Rd contents ... OK
* checking for unstated dependencies in examples ... OK
* checking line endings in C/C++/Fortran sources/headers ... OK
* checking compiled code ... NOTE
Note: information on .o files for i386 is not available
Note: information on .o files for x64 is not available
File 'C:/Users/biocbuild/bbs-3.12-bioc/R/library/BiocNeighbors/libs/i386/BiocNeighbors.dll':
  Found 'abort', possibly from 'abort' (C), 'runtime' (Fortran)
  Found 'exit', possibly from 'exit' (C), 'stop' (Fortran)
  Found 'printf', possibly from 'printf' (C)
File 'C:/Users/biocbuild/bbs-3.12-bioc/R/library/BiocNeighbors/libs/x64/BiocNeighbors.dll':
  Found 'abort', possibly from 'abort' (C), 'runtime' (Fortran)
  Found 'exit', possibly from 'exit' (C), 'stop' (Fortran)
  Found 'printf', possibly from 'printf' (C)

Compiled code should not call entry points which might terminate R nor
write to stdout/stderr instead of to the console, nor use Fortran I/O
nor system RNGs. The detected symbols are linked into the code but
might come from libraries and not actually be called.

See 'Writing portable packages' in the 'Writing R Extensions' manual.
* checking files in 'vignettes' ... OK
* checking examples ...
** running examples for arch 'i386' ... OK
Examples with CPU (user + system) or elapsed time > 5s
                  user system elapsed
rangeFind-methods 9.13   5.85   14.97
findKNN           9.27   0.03    9.29
findNeighbors     8.28   0.00    8.28
find-methods      6.31   0.02    6.33
** running examples for arch 'x64' ... OK
Examples with CPU (user + system) or elapsed time > 5s
                  user system elapsed
rangeFind-methods 8.59   0.44    9.03
findNeighbors     7.81   0.00    7.82
findKNN           6.71   0.00    6.70
find-methods      5.47   0.03    5.77
* checking for unstated dependencies in 'tests' ... OK
* checking tests ...
** running tests for arch 'i386' ...
  Running 'testthat.R'
 OK
** running tests for arch 'x64' ...
  Running 'testthat.R'
 OK
* checking for unstated dependencies in vignettes ... OK
* checking package vignettes in 'inst/doc' ... OK
* checking running R code from vignettes ... SKIPPED
* checking re-building of vignette outputs ... SKIPPED
* checking PDF version of manual ... OK
* DONE

Status: 1 NOTE
See
  'C:/Users/biocbuild/bbs-3.12-bioc/meat/BiocNeighbors.Rcheck/00check.log'
for details.



Installation output

BiocNeighbors.Rcheck/00install.out

##############################################################################
##############################################################################
###
### Running command:
###
###   C:\cygwin\bin\curl.exe -O https://malbec1.bioconductor.org/BBS/3.12/bioc/src/contrib/BiocNeighbors_1.7.0.tar.gz && rm -rf BiocNeighbors.buildbin-libdir && mkdir BiocNeighbors.buildbin-libdir && C:\Users\biocbuild\bbs-3.12-bioc\R\bin\R.exe CMD INSTALL --merge-multiarch --build --library=BiocNeighbors.buildbin-libdir BiocNeighbors_1.7.0.tar.gz && C:\Users\biocbuild\bbs-3.12-bioc\R\bin\R.exe CMD INSTALL BiocNeighbors_1.7.0.zip && rm BiocNeighbors_1.7.0.tar.gz BiocNeighbors_1.7.0.zip
###
##############################################################################
##############################################################################


  % Total    % Received % Xferd  Average Speed   Time    Time     Time  Current
                                 Dload  Upload   Total   Spent    Left  Speed

  0     0    0     0    0     0      0      0 --:--:-- --:--:-- --:--:--     0
100 66143  100 66143    0     0  1105k      0 --:--:-- --:--:-- --:--:-- 1196k

install for i386

* installing *source* package 'BiocNeighbors' ...
** using staged installation
** libs
"C:/rtools40/mingw32/bin/"g++  -std=gnu++11 -I"C:/Users/BIOCBU~1/BBS-3~1.12-/R/include" -DNDEBUG  -I'C:/Users/biocbuild/bbs-3.12-bioc/R/library/Rcpp/include' -I'C:/Users/biocbuild/bbs-3.12-bioc/R/library/RcppAnnoy/include' -I'C:/Users/biocbuild/bbs-3.12-bioc/R/library/RcppHNSW/include'   -I"C:/extsoft/include"     -O2 -Wall  -mfpmath=sse -msse2 -mstackrealign -c RcppExports.cpp -o RcppExports.o
"C:/rtools40/mingw32/bin/"g++  -std=gnu++11 -I"C:/Users/BIOCBU~1/BBS-3~1.12-/R/include" -DNDEBUG  -I'C:/Users/biocbuild/bbs-3.12-bioc/R/library/Rcpp/include' -I'C:/Users/biocbuild/bbs-3.12-bioc/R/library/RcppAnnoy/include' -I'C:/Users/biocbuild/bbs-3.12-bioc/R/library/RcppHNSW/include'   -I"C:/extsoft/include"     -O2 -Wall  -mfpmath=sse -msse2 -mstackrealign -c annoy.cpp -o annoy.o
"C:/rtools40/mingw32/bin/"g++  -std=gnu++11 -I"C:/Users/BIOCBU~1/BBS-3~1.12-/R/include" -DNDEBUG  -I'C:/Users/biocbuild/bbs-3.12-bioc/R/library/Rcpp/include' -I'C:/Users/biocbuild/bbs-3.12-bioc/R/library/RcppAnnoy/include' -I'C:/Users/biocbuild/bbs-3.12-bioc/R/library/RcppHNSW/include'   -I"C:/extsoft/include"     -O2 -Wall  -mfpmath=sse -msse2 -mstackrealign -c build_annoy.cpp -o build_annoy.o
"C:/rtools40/mingw32/bin/"g++  -std=gnu++11 -I"C:/Users/BIOCBU~1/BBS-3~1.12-/R/include" -DNDEBUG  -I'C:/Users/biocbuild/bbs-3.12-bioc/R/library/Rcpp/include' -I'C:/Users/biocbuild/bbs-3.12-bioc/R/library/RcppAnnoy/include' -I'C:/Users/biocbuild/bbs-3.12-bioc/R/library/RcppHNSW/include'   -I"C:/extsoft/include"     -O2 -Wall  -mfpmath=sse -msse2 -mstackrealign -c build_hnsw.cpp -o build_hnsw.o
"C:/rtools40/mingw32/bin/"g++  -std=gnu++11 -I"C:/Users/BIOCBU~1/BBS-3~1.12-/R/include" -DNDEBUG  -I'C:/Users/biocbuild/bbs-3.12-bioc/R/library/Rcpp/include' -I'C:/Users/biocbuild/bbs-3.12-bioc/R/library/RcppAnnoy/include' -I'C:/Users/biocbuild/bbs-3.12-bioc/R/library/RcppHNSW/include'   -I"C:/extsoft/include"     -O2 -Wall  -mfpmath=sse -msse2 -mstackrealign -c build_vptree.cpp -o build_vptree.o
"C:/rtools40/mingw32/bin/"g++  -std=gnu++11 -I"C:/Users/BIOCBU~1/BBS-3~1.12-/R/include" -DNDEBUG  -I'C:/Users/biocbuild/bbs-3.12-bioc/R/library/Rcpp/include' -I'C:/Users/biocbuild/bbs-3.12-bioc/R/library/RcppAnnoy/include' -I'C:/Users/biocbuild/bbs-3.12-bioc/R/library/RcppHNSW/include'   -I"C:/extsoft/include"     -O2 -Wall  -mfpmath=sse -msse2 -mstackrealign -c distances.cpp -o distances.o
"C:/rtools40/mingw32/bin/"g++  -std=gnu++11 -I"C:/Users/BIOCBU~1/BBS-3~1.12-/R/include" -DNDEBUG  -I'C:/Users/biocbuild/bbs-3.12-bioc/R/library/Rcpp/include' -I'C:/Users/biocbuild/bbs-3.12-bioc/R/library/RcppAnnoy/include' -I'C:/Users/biocbuild/bbs-3.12-bioc/R/library/RcppHNSW/include'   -I"C:/extsoft/include"     -O2 -Wall  -mfpmath=sse -msse2 -mstackrealign -c exhaustive.cpp -o exhaustive.o
"C:/rtools40/mingw32/bin/"g++  -std=gnu++11 -I"C:/Users/BIOCBU~1/BBS-3~1.12-/R/include" -DNDEBUG  -I'C:/Users/biocbuild/bbs-3.12-bioc/R/library/Rcpp/include' -I'C:/Users/biocbuild/bbs-3.12-bioc/R/library/RcppAnnoy/include' -I'C:/Users/biocbuild/bbs-3.12-bioc/R/library/RcppHNSW/include'   -I"C:/extsoft/include"     -O2 -Wall  -mfpmath=sse -msse2 -mstackrealign -c find_annoy.cpp -o find_annoy.o
"C:/rtools40/mingw32/bin/"g++  -std=gnu++11 -I"C:/Users/BIOCBU~1/BBS-3~1.12-/R/include" -DNDEBUG  -I'C:/Users/biocbuild/bbs-3.12-bioc/R/library/Rcpp/include' -I'C:/Users/biocbuild/bbs-3.12-bioc/R/library/RcppAnnoy/include' -I'C:/Users/biocbuild/bbs-3.12-bioc/R/library/RcppHNSW/include'   -I"C:/extsoft/include"     -O2 -Wall  -mfpmath=sse -msse2 -mstackrealign -c find_exhaustive.cpp -o find_exhaustive.o
"C:/rtools40/mingw32/bin/"g++  -std=gnu++11 -I"C:/Users/BIOCBU~1/BBS-3~1.12-/R/include" -DNDEBUG  -I'C:/Users/biocbuild/bbs-3.12-bioc/R/library/Rcpp/include' -I'C:/Users/biocbuild/bbs-3.12-bioc/R/library/RcppAnnoy/include' -I'C:/Users/biocbuild/bbs-3.12-bioc/R/library/RcppHNSW/include'   -I"C:/extsoft/include"     -O2 -Wall  -mfpmath=sse -msse2 -mstackrealign -c find_hnsw.cpp -o find_hnsw.o
"C:/rtools40/mingw32/bin/"g++  -std=gnu++11 -I"C:/Users/BIOCBU~1/BBS-3~1.12-/R/include" -DNDEBUG  -I'C:/Users/biocbuild/bbs-3.12-bioc/R/library/Rcpp/include' -I'C:/Users/biocbuild/bbs-3.12-bioc/R/library/RcppAnnoy/include' -I'C:/Users/biocbuild/bbs-3.12-bioc/R/library/RcppHNSW/include'   -I"C:/extsoft/include"     -O2 -Wall  -mfpmath=sse -msse2 -mstackrealign -c find_kmknn.cpp -o find_kmknn.o
"C:/rtools40/mingw32/bin/"g++  -std=gnu++11 -I"C:/Users/BIOCBU~1/BBS-3~1.12-/R/include" -DNDEBUG  -I'C:/Users/biocbuild/bbs-3.12-bioc/R/library/Rcpp/include' -I'C:/Users/biocbuild/bbs-3.12-bioc/R/library/RcppAnnoy/include' -I'C:/Users/biocbuild/bbs-3.12-bioc/R/library/RcppHNSW/include'   -I"C:/extsoft/include"     -O2 -Wall  -mfpmath=sse -msse2 -mstackrealign -c find_vptree.cpp -o find_vptree.o
"C:/rtools40/mingw32/bin/"g++  -std=gnu++11 -I"C:/Users/BIOCBU~1/BBS-3~1.12-/R/include" -DNDEBUG  -I'C:/Users/biocbuild/bbs-3.12-bioc/R/library/Rcpp/include' -I'C:/Users/biocbuild/bbs-3.12-bioc/R/library/RcppAnnoy/include' -I'C:/Users/biocbuild/bbs-3.12-bioc/R/library/RcppHNSW/include'   -I"C:/extsoft/include"     -O2 -Wall  -mfpmath=sse -msse2 -mstackrealign -c hnsw.cpp -o hnsw.o
"C:/rtools40/mingw32/bin/"g++  -std=gnu++11 -I"C:/Users/BIOCBU~1/BBS-3~1.12-/R/include" -DNDEBUG  -I'C:/Users/biocbuild/bbs-3.12-bioc/R/library/Rcpp/include' -I'C:/Users/biocbuild/bbs-3.12-bioc/R/library/RcppAnnoy/include' -I'C:/Users/biocbuild/bbs-3.12-bioc/R/library/RcppHNSW/include'   -I"C:/extsoft/include"     -O2 -Wall  -mfpmath=sse -msse2 -mstackrealign -c kmknn.cpp -o kmknn.o
"C:/rtools40/mingw32/bin/"g++  -std=gnu++11 -I"C:/Users/BIOCBU~1/BBS-3~1.12-/R/include" -DNDEBUG  -I'C:/Users/biocbuild/bbs-3.12-bioc/R/library/Rcpp/include' -I'C:/Users/biocbuild/bbs-3.12-bioc/R/library/RcppAnnoy/include' -I'C:/Users/biocbuild/bbs-3.12-bioc/R/library/RcppHNSW/include'   -I"C:/extsoft/include"     -O2 -Wall  -mfpmath=sse -msse2 -mstackrealign -c query_annoy.cpp -o query_annoy.o
"C:/rtools40/mingw32/bin/"g++  -std=gnu++11 -I"C:/Users/BIOCBU~1/BBS-3~1.12-/R/include" -DNDEBUG  -I'C:/Users/biocbuild/bbs-3.12-bioc/R/library/Rcpp/include' -I'C:/Users/biocbuild/bbs-3.12-bioc/R/library/RcppAnnoy/include' -I'C:/Users/biocbuild/bbs-3.12-bioc/R/library/RcppHNSW/include'   -I"C:/extsoft/include"     -O2 -Wall  -mfpmath=sse -msse2 -mstackrealign -c query_exhaustive.cpp -o query_exhaustive.o
"C:/rtools40/mingw32/bin/"g++  -std=gnu++11 -I"C:/Users/BIOCBU~1/BBS-3~1.12-/R/include" -DNDEBUG  -I'C:/Users/biocbuild/bbs-3.12-bioc/R/library/Rcpp/include' -I'C:/Users/biocbuild/bbs-3.12-bioc/R/library/RcppAnnoy/include' -I'C:/Users/biocbuild/bbs-3.12-bioc/R/library/RcppHNSW/include'   -I"C:/extsoft/include"     -O2 -Wall  -mfpmath=sse -msse2 -mstackrealign -c query_hnsw.cpp -o query_hnsw.o
"C:/rtools40/mingw32/bin/"g++  -std=gnu++11 -I"C:/Users/BIOCBU~1/BBS-3~1.12-/R/include" -DNDEBUG  -I'C:/Users/biocbuild/bbs-3.12-bioc/R/library/Rcpp/include' -I'C:/Users/biocbuild/bbs-3.12-bioc/R/library/RcppAnnoy/include' -I'C:/Users/biocbuild/bbs-3.12-bioc/R/library/RcppHNSW/include'   -I"C:/extsoft/include"     -O2 -Wall  -mfpmath=sse -msse2 -mstackrealign -c query_kmknn.cpp -o query_kmknn.o
"C:/rtools40/mingw32/bin/"g++  -std=gnu++11 -I"C:/Users/BIOCBU~1/BBS-3~1.12-/R/include" -DNDEBUG  -I'C:/Users/biocbuild/bbs-3.12-bioc/R/library/Rcpp/include' -I'C:/Users/biocbuild/bbs-3.12-bioc/R/library/RcppAnnoy/include' -I'C:/Users/biocbuild/bbs-3.12-bioc/R/library/RcppHNSW/include'   -I"C:/extsoft/include"     -O2 -Wall  -mfpmath=sse -msse2 -mstackrealign -c query_vptree.cpp -o query_vptree.o
"C:/rtools40/mingw32/bin/"g++  -std=gnu++11 -I"C:/Users/BIOCBU~1/BBS-3~1.12-/R/include" -DNDEBUG  -I'C:/Users/biocbuild/bbs-3.12-bioc/R/library/Rcpp/include' -I'C:/Users/biocbuild/bbs-3.12-bioc/R/library/RcppAnnoy/include' -I'C:/Users/biocbuild/bbs-3.12-bioc/R/library/RcppHNSW/include'   -I"C:/extsoft/include"     -O2 -Wall  -mfpmath=sse -msse2 -mstackrealign -c utils.cpp -o utils.o
"C:/rtools40/mingw32/bin/"g++  -std=gnu++11 -I"C:/Users/BIOCBU~1/BBS-3~1.12-/R/include" -DNDEBUG  -I'C:/Users/biocbuild/bbs-3.12-bioc/R/library/Rcpp/include' -I'C:/Users/biocbuild/bbs-3.12-bioc/R/library/RcppAnnoy/include' -I'C:/Users/biocbuild/bbs-3.12-bioc/R/library/RcppHNSW/include'   -I"C:/extsoft/include"     -O2 -Wall  -mfpmath=sse -msse2 -mstackrealign -c vptree.cpp -o vptree.o
C:/rtools40/mingw32/bin/g++ -shared -s -static-libgcc -o BiocNeighbors.dll tmp.def RcppExports.o annoy.o build_annoy.o build_hnsw.o build_vptree.o distances.o exhaustive.o find_annoy.o find_exhaustive.o find_hnsw.o find_kmknn.o find_vptree.o hnsw.o kmknn.o query_annoy.o query_exhaustive.o query_hnsw.o query_kmknn.o query_vptree.o utils.o vptree.o -LC:/extsoft/lib/i386 -LC:/extsoft/lib -LC:/Users/BIOCBU~1/BBS-3~1.12-/R/bin/i386 -lR
installing to C:/Users/biocbuild/bbs-3.12-bioc/meat/BiocNeighbors.buildbin-libdir/00LOCK-BiocNeighbors/00new/BiocNeighbors/libs/i386
** R
** inst
** byte-compile and prepare package for lazy loading
** help
*** installing help indices
  converting help for package 'BiocNeighbors'
    finding HTML links ... done
    AnnoyIndex                              html  
    AnnoyParam                              html  
    BiocNeighborIndex                       html  
    BiocNeighborParam                       html  
    BiocNeighbors-algorithms                html  
    BiocNeighbors-raw-index                 html  
    BiocNeighbors-ties                      html  
    ExhaustiveIndex                         html  
    ExhaustiveParam                         html  
    HnswIndex                               html  
    HnswParam                               html  
    KmknnIndex                              html  
    KmknnParam                              html  
    VptreeIndex                             html  
    VptreeParam                             html  
    buildAnnoy                              html  
    buildExhaustive                         html  
    buildHnsw                               html  
    buildIndex                              html  
    buildKmknn                              html  
    buildVptree                             html  
    find-methods                            html  
    finding level-2 HTML links ... done

    findKNN                                 html  
    findNeighbors                           html  
    query-methods                           html  
    queryKNN                                html  
    queryNeighbors                          html  
    rangeFind-methods                       html  
    rangeQuery-methods                      html  
** building package indices
** installing vignettes
** testing if installed package can be loaded from temporary location
** testing if installed package can be loaded from final location
** testing if installed package keeps a record of temporary installation path

install for x64

* installing *source* package 'BiocNeighbors' ...
** libs
"C:/rtools40/mingw64/bin/"g++  -std=gnu++11 -I"C:/Users/BIOCBU~1/BBS-3~1.12-/R/include" -DNDEBUG  -I'C:/Users/biocbuild/bbs-3.12-bioc/R/library/Rcpp/include' -I'C:/Users/biocbuild/bbs-3.12-bioc/R/library/RcppAnnoy/include' -I'C:/Users/biocbuild/bbs-3.12-bioc/R/library/RcppHNSW/include'   -I"C:/extsoft/include"     -O2 -Wall  -mfpmath=sse -msse2 -mstackrealign -c RcppExports.cpp -o RcppExports.o
"C:/rtools40/mingw64/bin/"g++  -std=gnu++11 -I"C:/Users/BIOCBU~1/BBS-3~1.12-/R/include" -DNDEBUG  -I'C:/Users/biocbuild/bbs-3.12-bioc/R/library/Rcpp/include' -I'C:/Users/biocbuild/bbs-3.12-bioc/R/library/RcppAnnoy/include' -I'C:/Users/biocbuild/bbs-3.12-bioc/R/library/RcppHNSW/include'   -I"C:/extsoft/include"     -O2 -Wall  -mfpmath=sse -msse2 -mstackrealign -c annoy.cpp -o annoy.o
"C:/rtools40/mingw64/bin/"g++  -std=gnu++11 -I"C:/Users/BIOCBU~1/BBS-3~1.12-/R/include" -DNDEBUG  -I'C:/Users/biocbuild/bbs-3.12-bioc/R/library/Rcpp/include' -I'C:/Users/biocbuild/bbs-3.12-bioc/R/library/RcppAnnoy/include' -I'C:/Users/biocbuild/bbs-3.12-bioc/R/library/RcppHNSW/include'   -I"C:/extsoft/include"     -O2 -Wall  -mfpmath=sse -msse2 -mstackrealign -c build_annoy.cpp -o build_annoy.o
"C:/rtools40/mingw64/bin/"g++  -std=gnu++11 -I"C:/Users/BIOCBU~1/BBS-3~1.12-/R/include" -DNDEBUG  -I'C:/Users/biocbuild/bbs-3.12-bioc/R/library/Rcpp/include' -I'C:/Users/biocbuild/bbs-3.12-bioc/R/library/RcppAnnoy/include' -I'C:/Users/biocbuild/bbs-3.12-bioc/R/library/RcppHNSW/include'   -I"C:/extsoft/include"     -O2 -Wall  -mfpmath=sse -msse2 -mstackrealign -c build_hnsw.cpp -o build_hnsw.o
"C:/rtools40/mingw64/bin/"g++  -std=gnu++11 -I"C:/Users/BIOCBU~1/BBS-3~1.12-/R/include" -DNDEBUG  -I'C:/Users/biocbuild/bbs-3.12-bioc/R/library/Rcpp/include' -I'C:/Users/biocbuild/bbs-3.12-bioc/R/library/RcppAnnoy/include' -I'C:/Users/biocbuild/bbs-3.12-bioc/R/library/RcppHNSW/include'   -I"C:/extsoft/include"     -O2 -Wall  -mfpmath=sse -msse2 -mstackrealign -c build_vptree.cpp -o build_vptree.o
"C:/rtools40/mingw64/bin/"g++  -std=gnu++11 -I"C:/Users/BIOCBU~1/BBS-3~1.12-/R/include" -DNDEBUG  -I'C:/Users/biocbuild/bbs-3.12-bioc/R/library/Rcpp/include' -I'C:/Users/biocbuild/bbs-3.12-bioc/R/library/RcppAnnoy/include' -I'C:/Users/biocbuild/bbs-3.12-bioc/R/library/RcppHNSW/include'   -I"C:/extsoft/include"     -O2 -Wall  -mfpmath=sse -msse2 -mstackrealign -c distances.cpp -o distances.o
"C:/rtools40/mingw64/bin/"g++  -std=gnu++11 -I"C:/Users/BIOCBU~1/BBS-3~1.12-/R/include" -DNDEBUG  -I'C:/Users/biocbuild/bbs-3.12-bioc/R/library/Rcpp/include' -I'C:/Users/biocbuild/bbs-3.12-bioc/R/library/RcppAnnoy/include' -I'C:/Users/biocbuild/bbs-3.12-bioc/R/library/RcppHNSW/include'   -I"C:/extsoft/include"     -O2 -Wall  -mfpmath=sse -msse2 -mstackrealign -c exhaustive.cpp -o exhaustive.o
"C:/rtools40/mingw64/bin/"g++  -std=gnu++11 -I"C:/Users/BIOCBU~1/BBS-3~1.12-/R/include" -DNDEBUG  -I'C:/Users/biocbuild/bbs-3.12-bioc/R/library/Rcpp/include' -I'C:/Users/biocbuild/bbs-3.12-bioc/R/library/RcppAnnoy/include' -I'C:/Users/biocbuild/bbs-3.12-bioc/R/library/RcppHNSW/include'   -I"C:/extsoft/include"     -O2 -Wall  -mfpmath=sse -msse2 -mstackrealign -c find_annoy.cpp -o find_annoy.o
"C:/rtools40/mingw64/bin/"g++  -std=gnu++11 -I"C:/Users/BIOCBU~1/BBS-3~1.12-/R/include" -DNDEBUG  -I'C:/Users/biocbuild/bbs-3.12-bioc/R/library/Rcpp/include' -I'C:/Users/biocbuild/bbs-3.12-bioc/R/library/RcppAnnoy/include' -I'C:/Users/biocbuild/bbs-3.12-bioc/R/library/RcppHNSW/include'   -I"C:/extsoft/include"     -O2 -Wall  -mfpmath=sse -msse2 -mstackrealign -c find_exhaustive.cpp -o find_exhaustive.o
"C:/rtools40/mingw64/bin/"g++  -std=gnu++11 -I"C:/Users/BIOCBU~1/BBS-3~1.12-/R/include" -DNDEBUG  -I'C:/Users/biocbuild/bbs-3.12-bioc/R/library/Rcpp/include' -I'C:/Users/biocbuild/bbs-3.12-bioc/R/library/RcppAnnoy/include' -I'C:/Users/biocbuild/bbs-3.12-bioc/R/library/RcppHNSW/include'   -I"C:/extsoft/include"     -O2 -Wall  -mfpmath=sse -msse2 -mstackrealign -c find_hnsw.cpp -o find_hnsw.o
"C:/rtools40/mingw64/bin/"g++  -std=gnu++11 -I"C:/Users/BIOCBU~1/BBS-3~1.12-/R/include" -DNDEBUG  -I'C:/Users/biocbuild/bbs-3.12-bioc/R/library/Rcpp/include' -I'C:/Users/biocbuild/bbs-3.12-bioc/R/library/RcppAnnoy/include' -I'C:/Users/biocbuild/bbs-3.12-bioc/R/library/RcppHNSW/include'   -I"C:/extsoft/include"     -O2 -Wall  -mfpmath=sse -msse2 -mstackrealign -c find_kmknn.cpp -o find_kmknn.o
"C:/rtools40/mingw64/bin/"g++  -std=gnu++11 -I"C:/Users/BIOCBU~1/BBS-3~1.12-/R/include" -DNDEBUG  -I'C:/Users/biocbuild/bbs-3.12-bioc/R/library/Rcpp/include' -I'C:/Users/biocbuild/bbs-3.12-bioc/R/library/RcppAnnoy/include' -I'C:/Users/biocbuild/bbs-3.12-bioc/R/library/RcppHNSW/include'   -I"C:/extsoft/include"     -O2 -Wall  -mfpmath=sse -msse2 -mstackrealign -c find_vptree.cpp -o find_vptree.o
"C:/rtools40/mingw64/bin/"g++  -std=gnu++11 -I"C:/Users/BIOCBU~1/BBS-3~1.12-/R/include" -DNDEBUG  -I'C:/Users/biocbuild/bbs-3.12-bioc/R/library/Rcpp/include' -I'C:/Users/biocbuild/bbs-3.12-bioc/R/library/RcppAnnoy/include' -I'C:/Users/biocbuild/bbs-3.12-bioc/R/library/RcppHNSW/include'   -I"C:/extsoft/include"     -O2 -Wall  -mfpmath=sse -msse2 -mstackrealign -c hnsw.cpp -o hnsw.o
"C:/rtools40/mingw64/bin/"g++  -std=gnu++11 -I"C:/Users/BIOCBU~1/BBS-3~1.12-/R/include" -DNDEBUG  -I'C:/Users/biocbuild/bbs-3.12-bioc/R/library/Rcpp/include' -I'C:/Users/biocbuild/bbs-3.12-bioc/R/library/RcppAnnoy/include' -I'C:/Users/biocbuild/bbs-3.12-bioc/R/library/RcppHNSW/include'   -I"C:/extsoft/include"     -O2 -Wall  -mfpmath=sse -msse2 -mstackrealign -c kmknn.cpp -o kmknn.o
"C:/rtools40/mingw64/bin/"g++  -std=gnu++11 -I"C:/Users/BIOCBU~1/BBS-3~1.12-/R/include" -DNDEBUG  -I'C:/Users/biocbuild/bbs-3.12-bioc/R/library/Rcpp/include' -I'C:/Users/biocbuild/bbs-3.12-bioc/R/library/RcppAnnoy/include' -I'C:/Users/biocbuild/bbs-3.12-bioc/R/library/RcppHNSW/include'   -I"C:/extsoft/include"     -O2 -Wall  -mfpmath=sse -msse2 -mstackrealign -c query_annoy.cpp -o query_annoy.o
"C:/rtools40/mingw64/bin/"g++  -std=gnu++11 -I"C:/Users/BIOCBU~1/BBS-3~1.12-/R/include" -DNDEBUG  -I'C:/Users/biocbuild/bbs-3.12-bioc/R/library/Rcpp/include' -I'C:/Users/biocbuild/bbs-3.12-bioc/R/library/RcppAnnoy/include' -I'C:/Users/biocbuild/bbs-3.12-bioc/R/library/RcppHNSW/include'   -I"C:/extsoft/include"     -O2 -Wall  -mfpmath=sse -msse2 -mstackrealign -c query_exhaustive.cpp -o query_exhaustive.o
"C:/rtools40/mingw64/bin/"g++  -std=gnu++11 -I"C:/Users/BIOCBU~1/BBS-3~1.12-/R/include" -DNDEBUG  -I'C:/Users/biocbuild/bbs-3.12-bioc/R/library/Rcpp/include' -I'C:/Users/biocbuild/bbs-3.12-bioc/R/library/RcppAnnoy/include' -I'C:/Users/biocbuild/bbs-3.12-bioc/R/library/RcppHNSW/include'   -I"C:/extsoft/include"     -O2 -Wall  -mfpmath=sse -msse2 -mstackrealign -c query_hnsw.cpp -o query_hnsw.o
"C:/rtools40/mingw64/bin/"g++  -std=gnu++11 -I"C:/Users/BIOCBU~1/BBS-3~1.12-/R/include" -DNDEBUG  -I'C:/Users/biocbuild/bbs-3.12-bioc/R/library/Rcpp/include' -I'C:/Users/biocbuild/bbs-3.12-bioc/R/library/RcppAnnoy/include' -I'C:/Users/biocbuild/bbs-3.12-bioc/R/library/RcppHNSW/include'   -I"C:/extsoft/include"     -O2 -Wall  -mfpmath=sse -msse2 -mstackrealign -c query_kmknn.cpp -o query_kmknn.o
"C:/rtools40/mingw64/bin/"g++  -std=gnu++11 -I"C:/Users/BIOCBU~1/BBS-3~1.12-/R/include" -DNDEBUG  -I'C:/Users/biocbuild/bbs-3.12-bioc/R/library/Rcpp/include' -I'C:/Users/biocbuild/bbs-3.12-bioc/R/library/RcppAnnoy/include' -I'C:/Users/biocbuild/bbs-3.12-bioc/R/library/RcppHNSW/include'   -I"C:/extsoft/include"     -O2 -Wall  -mfpmath=sse -msse2 -mstackrealign -c query_vptree.cpp -o query_vptree.o
"C:/rtools40/mingw64/bin/"g++  -std=gnu++11 -I"C:/Users/BIOCBU~1/BBS-3~1.12-/R/include" -DNDEBUG  -I'C:/Users/biocbuild/bbs-3.12-bioc/R/library/Rcpp/include' -I'C:/Users/biocbuild/bbs-3.12-bioc/R/library/RcppAnnoy/include' -I'C:/Users/biocbuild/bbs-3.12-bioc/R/library/RcppHNSW/include'   -I"C:/extsoft/include"     -O2 -Wall  -mfpmath=sse -msse2 -mstackrealign -c utils.cpp -o utils.o
"C:/rtools40/mingw64/bin/"g++  -std=gnu++11 -I"C:/Users/BIOCBU~1/BBS-3~1.12-/R/include" -DNDEBUG  -I'C:/Users/biocbuild/bbs-3.12-bioc/R/library/Rcpp/include' -I'C:/Users/biocbuild/bbs-3.12-bioc/R/library/RcppAnnoy/include' -I'C:/Users/biocbuild/bbs-3.12-bioc/R/library/RcppHNSW/include'   -I"C:/extsoft/include"     -O2 -Wall  -mfpmath=sse -msse2 -mstackrealign -c vptree.cpp -o vptree.o
C:/rtools40/mingw64/bin/g++ -shared -s -static-libgcc -o BiocNeighbors.dll tmp.def RcppExports.o annoy.o build_annoy.o build_hnsw.o build_vptree.o distances.o exhaustive.o find_annoy.o find_exhaustive.o find_hnsw.o find_kmknn.o find_vptree.o hnsw.o kmknn.o query_annoy.o query_exhaustive.o query_hnsw.o query_kmknn.o query_vptree.o utils.o vptree.o -LC:/extsoft/lib/x64 -LC:/extsoft/lib -LC:/Users/BIOCBU~1/BBS-3~1.12-/R/bin/x64 -lR
installing to C:/Users/biocbuild/bbs-3.12-bioc/meat/BiocNeighbors.buildbin-libdir/BiocNeighbors/libs/x64
** testing if installed package can be loaded
* MD5 sums
packaged installation of 'BiocNeighbors' as BiocNeighbors_1.7.0.zip
* DONE (BiocNeighbors)
* installing to library 'C:/Users/biocbuild/bbs-3.12-bioc/R/library'
package 'BiocNeighbors' successfully unpacked and MD5 sums checked

Tests output

BiocNeighbors.Rcheck/tests_i386/testthat.Rout


R version 4.0.2 (2020-06-22) -- "Taking Off Again"
Copyright (C) 2020 The R Foundation for Statistical Computing
Platform: i386-w64-mingw32/i386 (32-bit)

R is free software and comes with ABSOLUTELY NO WARRANTY.
You are welcome to redistribute it under certain conditions.
Type 'license()' or 'licence()' for distribution details.

R is a collaborative project with many contributors.
Type 'contributors()' for more information and
'citation()' on how to cite R or R packages in publications.

Type 'demo()' for some demos, 'help()' for on-line help, or
'help.start()' for an HTML browser interface to help.
Type 'q()' to quit R.

> library(testthat)
> library(BiocNeighbors)
> test_check("BiocNeighbors")
== testthat results  ===========================================================
[ OK: 3216 | SKIPPED: 2 | WARNINGS: 39 | FAILED: 0 ]
> 
> proc.time()
   user  system elapsed 
  99.14    3.21  221.45 

BiocNeighbors.Rcheck/tests_x64/testthat.Rout


R version 4.0.2 (2020-06-22) -- "Taking Off Again"
Copyright (C) 2020 The R Foundation for Statistical Computing
Platform: x86_64-w64-mingw32/x64 (64-bit)

R is free software and comes with ABSOLUTELY NO WARRANTY.
You are welcome to redistribute it under certain conditions.
Type 'license()' or 'licence()' for distribution details.

R is a collaborative project with many contributors.
Type 'contributors()' for more information and
'citation()' on how to cite R or R packages in publications.

Type 'demo()' for some demos, 'help()' for on-line help, or
'help.start()' for an HTML browser interface to help.
Type 'q()' to quit R.

> library(testthat)
> library(BiocNeighbors)
> test_check("BiocNeighbors")
== testthat results  ===========================================================
[ OK: 3441 | SKIPPED: 0 | WARNINGS: 44 | FAILED: 0 ]
> 
> proc.time()
   user  system elapsed 
 123.73    2.85  265.78 

Example timings

BiocNeighbors.Rcheck/examples_i386/BiocNeighbors-Ex.timings

nameusersystemelapsed
AnnoyIndex0.640.020.65
AnnoyParam0.010.000.02
BiocNeighbors-raw-index2.090.002.10
BiocNeighbors-ties0.020.000.01
ExhaustiveIndex0.030.000.03
ExhaustiveParam0.010.000.02
HnswIndex1.140.001.14
HnswParam000
KmknnIndex0.400.010.41
KmknnParam000
VptreeIndex0.040.000.04
VptreeParam000
buildAnnoy0.490.030.52
buildExhaustive000
buildHnsw1.180.001.18
buildIndex0.80.00.8
buildKmknn0.280.000.28
buildVptree0.050.000.05
find-methods6.310.026.33
findKNN9.270.039.29
findNeighbors8.280.008.28
query-methods3.200.063.39
queryKNN2.690.052.74
queryNeighbors1.340.011.36
rangeFind-methods 9.13 5.8514.97
rangeQuery-methods0.620.060.68

BiocNeighbors.Rcheck/examples_x64/BiocNeighbors-Ex.timings

nameusersystemelapsed
AnnoyIndex0.610.010.70
AnnoyParam0.010.000.02
BiocNeighbors-raw-index2.140.022.16
BiocNeighbors-ties000
ExhaustiveIndex0.030.020.05
ExhaustiveParam000
HnswIndex1.200.001.33
HnswParam000
KmknnIndex0.540.000.53
KmknnParam000
VptreeIndex0.040.000.05
VptreeParam000
buildAnnoy0.440.000.43
buildExhaustive0.020.000.02
buildHnsw1.150.001.16
buildIndex0.770.010.78
buildKmknn0.230.000.23
buildVptree0.060.000.06
find-methods5.470.035.77
findKNN6.710.006.70
findNeighbors7.810.007.82
query-methods2.750.003.11
queryKNN2.110.052.16
queryNeighbors1.130.001.12
rangeFind-methods8.590.449.03
rangeQuery-methods0.470.000.49