Back to Multiple platform build/check report for BioC 3.12
A[B]CDEFGHIJKLMNOPQRSTUVWXYZ

BUILD report for bcSeq on tokay1

This page was generated on 2020-08-12 11:47:07 -0400 (Wed, 12 Aug 2020).

TO THE DEVELOPERS/MAINTAINERS OF THE bcSeq PACKAGE: Please make sure to use the following settings in order to reproduce any error or warning you see on this page.
Package 123/1885HostnameOS / ArchINSTALLBUILDCHECKBUILD BIN
bcSeq 1.11.0
Jiaxing Lin
Snapshot Date: 2020-08-11 14:50:16 -0400 (Tue, 11 Aug 2020)
URL: https://git.bioconductor.org/packages/bcSeq
Branch: master
Last Commit: ed5bf3d
Last Changed Date: 2020-04-27 15:12:22 -0400 (Mon, 27 Apr 2020)
malbec1 Linux (Ubuntu 18.04.4 LTS) / x86_64  OK  OK  OK UNNEEDED, same version exists in internal repository
nebbiolo1 Linux (Ubuntu 20.04.1 LTS) / x86_64  OK  OK  WARNINGS 
tokay1 Windows Server 2012 R2 Standard / x64  OK [ OK ] WARNINGS  OK UNNEEDED, same version exists in internal repository
merida1 macOS 10.14.6 Mojave / x86_64  OK  OK  OK  OK UNNEEDED, same version exists in internal repository

Summary

Package: bcSeq
Version: 1.11.0
Command: chmod a+r bcSeq -R && C:\Users\biocbuild\bbs-3.12-bioc\R\bin\R.exe CMD build --keep-empty-dirs --no-resave-data bcSeq
StartedAt: 2020-08-11 21:58:23 -0400 (Tue, 11 Aug 2020)
EndedAt: 2020-08-11 21:59:40 -0400 (Tue, 11 Aug 2020)
EllapsedTime: 76.7 seconds
RetCode: 0
Status:  OK  
PackageFile: bcSeq_1.11.0.tar.gz
PackageFileSize: 225 KiB

Command output

##############################################################################
##############################################################################
###
### Running command:
###
###   chmod a+r bcSeq -R && C:\Users\biocbuild\bbs-3.12-bioc\R\bin\R.exe CMD build --keep-empty-dirs --no-resave-data bcSeq
###
##############################################################################
##############################################################################


* checking for file 'bcSeq/DESCRIPTION' ... OK
* preparing 'bcSeq':
* checking DESCRIPTION meta-information ... OK
* cleaning src
* installing the package to build vignettes
* creating vignettes ... OK
* cleaning src
* checking for LF line-endings in source and make files and shell scripts
* checking for empty or unneeded directories
* building 'bcSeq_1.11.0.tar.gz'