Back to Multiple platform build/check report for BioC 3.12
ABCDEFGHIJKLMNOPQRSTUVWXY[Z]

Multiple platform build/check report for BioC 3.12

Results for zinbwave

This page was generated on 2020-10-31 12:02:03 -0400 (Sat, 31 Oct 2020).

Package 1973/1974HostnameOS / ArchINSTALLBUILDCHECKBUILD BIN
zinbwave 1.12.0
Davide Risso
Snapshot Date: 2020-10-30 14:46:53 -0400 (Fri, 30 Oct 2020)
URL: https://git.bioconductor.org/packages/zinbwave
Branch: RELEASE_3_12
Last Commit: b936f8e
Last Changed Date: 2020-10-27 11:24:55 -0400 (Tue, 27 Oct 2020)
malbec1 Linux (Ubuntu 18.04.4 LTS) / x86_64  OK  OK  OK UNNEEDED, same version exists in internal repository
nebbiolo1 Linux (Ubuntu 20.04.1 LTS) / x86_64  OK  OK  OK 
tokay1 Windows Server 2012 R2 Standard / x64  OK  OK  WARNINGS  NA 
merida1 macOS 10.14.6 Mojave / x86_64  OK  OK  OK  OK UNNEEDED, same version exists in internal repository