Back to Multiple platform build/check report for BioC 3.12
A[B]CDEFGHIJKLMNOPQRSTUVWXYZ

BUILD report for BufferedMatrix on merida1

This page was generated on 2020-08-06 12:13:50 -0400 (Thu, 06 Aug 2020).

TO THE DEVELOPERS/MAINTAINERS OF THE BufferedMatrix PACKAGE: Please make sure to use the following settings in order to reproduce any error or warning you see on this page.
Package 205/1882HostnameOS / ArchINSTALLBUILDCHECKBUILD BIN
BufferedMatrix 1.53.0
Ben Bolstad
Snapshot Date: 2020-08-05 14:50:59 -0400 (Wed, 05 Aug 2020)
URL: https://git.bioconductor.org/packages/BufferedMatrix
Branch: master
Last Commit: 35d9382
Last Changed Date: 2020-04-27 14:14:34 -0400 (Mon, 27 Apr 2020)
malbec1 Linux (Ubuntu 18.04.4 LTS) / x86_64  OK  OK  OK UNNEEDED, same version exists in internal repository
tokay1 Windows Server 2012 R2 Standard / x64  OK  OK  OK  OK UNNEEDED, same version exists in internal repository
merida1 macOS 10.14.6 Mojave / x86_64  OK [ OK ] OK  OK UNNEEDED, same version exists in internal repository

Summary

Package: BufferedMatrix
Version: 1.53.0
Command: /Library/Frameworks/R.framework/Versions/Current/Resources/bin/R CMD build --keep-empty-dirs --no-resave-data BufferedMatrix
StartedAt: 2020-08-05 18:03:45 -0400 (Wed, 05 Aug 2020)
EndedAt: 2020-08-05 18:04:13 -0400 (Wed, 05 Aug 2020)
EllapsedTime: 27.8 seconds
RetCode: 0
Status:  OK 
PackageFile: BufferedMatrix_1.53.0.tar.gz
PackageFileSize: 506.1 KiB

Command output

##############################################################################
##############################################################################
###
### Running command:
###
###   /Library/Frameworks/R.framework/Versions/Current/Resources/bin/R CMD build --keep-empty-dirs --no-resave-data BufferedMatrix
###
##############################################################################
##############################################################################


* checking for file ‘BufferedMatrix/DESCRIPTION’ ... OK
* preparing ‘BufferedMatrix’:
* checking DESCRIPTION meta-information ... OK
* cleaning src
* installing the package to build vignettes
* creating vignettes ... OK
* cleaning src
* checking for LF line-endings in source and make files and shell scripts
* checking for empty or unneeded directories
* building ‘BufferedMatrix_1.53.0.tar.gz’