Back to Multiple platform build/check report for BioC 3.12
[A]BCDEFGHIJKLMNOPQRSTUVWXYZ

BUILD BIN report for AneuFinder on merida1

This page was generated on 2020-08-09 12:34:01 -0400 (Sun, 09 Aug 2020).

TO THE DEVELOPERS/MAINTAINERS OF THE AneuFinder PACKAGE: Please make sure to use the following settings in order to reproduce any error or warning you see on this page.
Package 52/1882HostnameOS / ArchINSTALLBUILDCHECKBUILD BIN
AneuFinder 1.17.0
Aaron Taudt
Snapshot Date: 2020-08-08 14:51:01 -0400 (Sat, 08 Aug 2020)
URL: https://git.bioconductor.org/packages/AneuFinder
Branch: master
Last Commit: e64f35e
Last Changed Date: 2020-04-27 14:55:57 -0400 (Mon, 27 Apr 2020)
malbec1 Linux (Ubuntu 18.04.4 LTS) / x86_64  OK  OK  OK UNNEEDED, same version exists in internal repository
nebbiolo1 Linux (Ubuntu 20.04.1 LTS) / x86_64  OK  OK  OK 
tokay1 Windows Server 2012 R2 Standard / x64  OK  OK  OK  OK UNNEEDED, same version exists in internal repository
merida1 macOS 10.14.6 Mojave / x86_64  OK  OK  OK [ OK ]UNNEEDED, same version exists in internal repository

Summary

Package: AneuFinder
Version: 1.17.0
Command: rm -rf AneuFinder.buildbin-libdir && mkdir AneuFinder.buildbin-libdir && /Users/biocbuild/BBS/utils/build-universal.sh AneuFinder_1.17.0.tar.gz /Library/Frameworks/R.framework/Versions/Current/Resources/bin/R AneuFinder.buildbin-libdir
StartedAt: 2020-08-09 06:59:02 -0400 (Sun, 09 Aug 2020)
EndedAt: 2020-08-09 07:00:10 -0400 (Sun, 09 Aug 2020)
EllapsedTime: 67.8 seconds
RetCode: 0
Status:  OK 
PackageFile: AneuFinder_1.17.0.tgz
PackageFileSize: 2.444 MiB

Command output

##############################################################################
##############################################################################
###
### Running command:
###
###   rm -rf AneuFinder.buildbin-libdir && mkdir AneuFinder.buildbin-libdir && /Users/biocbuild/BBS/utils/build-universal.sh AneuFinder_1.17.0.tar.gz /Library/Frameworks/R.framework/Versions/Current/Resources/bin/R AneuFinder.buildbin-libdir
###
##############################################################################
##############################################################################


>>>>>>> 
>>>>>>> INSTALLATION WITH 'R CMD INSTALL --preclean --no-multiarch --library=AneuFinder.buildbin-libdir AneuFinder_1.17.0.tar.gz'
>>>>>>> 

* installing *source* package ‘AneuFinder’ ...
** using staged installation
** libs
clang++ -mmacosx-version-min=10.13 -std=gnu++11 -I"/Library/Frameworks/R.framework/Resources/include" -DNDEBUG   -I/usr/local/include   -fPIC  -Wall -g -O2  -c R_interface.cpp -o R_interface.o
clang++ -mmacosx-version-min=10.13 -std=gnu++11 -I"/Library/Frameworks/R.framework/Resources/include" -DNDEBUG   -I/usr/local/include   -fPIC  -Wall -g -O2  -c densities.cpp -o densities.o
clang++ -mmacosx-version-min=10.13 -std=gnu++11 -I"/Library/Frameworks/R.framework/Resources/include" -DNDEBUG   -I/usr/local/include   -fPIC  -Wall -g -O2  -c init.cpp -o init.o
clang++ -mmacosx-version-min=10.13 -std=gnu++11 -I"/Library/Frameworks/R.framework/Resources/include" -DNDEBUG   -I/usr/local/include   -fPIC  -Wall -g -O2  -c loghmm.cpp -o loghmm.o
clang++ -mmacosx-version-min=10.13 -std=gnu++11 -I"/Library/Frameworks/R.framework/Resources/include" -DNDEBUG   -I/usr/local/include   -fPIC  -Wall -g -O2  -c scalehmm.cpp -o scalehmm.o
clang++ -mmacosx-version-min=10.13 -std=gnu++11 -I"/Library/Frameworks/R.framework/Resources/include" -DNDEBUG   -I/usr/local/include   -fPIC  -Wall -g -O2  -c utility.cpp -o utility.o
clang++ -mmacosx-version-min=10.13 -std=gnu++11 -dynamiclib -Wl,-headerpad_max_install_names -undefined dynamic_lookup -single_module -multiply_defined suppress -L/Library/Frameworks/R.framework/Resources/lib -L/usr/local/lib -o AneuFinder.so R_interface.o densities.o init.o loghmm.o scalehmm.o utility.o -F/Library/Frameworks/R.framework/.. -framework R -Wl,-framework -Wl,CoreFoundation
installing to /Users/biocbuild/bbs-3.12-bioc/meat/AneuFinder.buildbin-libdir/00LOCK-AneuFinder/00new/AneuFinder/libs
** R
** inst
** byte-compile and prepare package for lazy loading
** help
*** installing help indices
** building package indices
** installing vignettes
** testing if installed package can be loaded from temporary location
** checking absolute paths in shared objects and dynamic libraries
** testing if installed package can be loaded from final location
** testing if installed package keeps a record of temporary installation path
* DONE (AneuFinder)


>>>>>>> 
>>>>>>> FIXING LINKS FOR AneuFinder.buildbin-libdir/AneuFinder/libs/AneuFinder.so
>>>>>>> 

install_name_tool -change "/usr/local/lib/libgcc_s.1.dylib" "/Library/Frameworks/R.framework/Versions/4.0/Resources/lib/libgcc_s.1.dylib" "AneuFinder.buildbin-libdir/AneuFinder/libs/AneuFinder.so"
install_name_tool -change "/usr/local/lib/libgfortran.5.dylib" "/Library/Frameworks/R.framework/Versions/4.0/Resources/lib/libgfortran.5.dylib" "AneuFinder.buildbin-libdir/AneuFinder/libs/AneuFinder.so"
install_name_tool -change "/usr/local/lib/libquadmath.0.dylib" "/Library/Frameworks/R.framework/Versions/4.0/Resources/lib/libquadmath.0.dylib" "AneuFinder.buildbin-libdir/AneuFinder/libs/AneuFinder.so"