Back to Multiple platform build/check report for BioC 3.12
[A]BCDEFGHIJKLMNOPQRSTUVWXYZ

INSTALL report for ASpli on tokay1

This page was generated on 2020-08-12 11:45:03 -0400 (Wed, 12 Aug 2020).

TO THE DEVELOPERS/MAINTAINERS OF THE ASpli PACKAGE: Please make sure to use the following settings in order to reproduce any error or warning you see on this page.
Package 89/1885HostnameOS / ArchINSTALLBUILDCHECKBUILD BIN
ASpli 1.99.2
Estefania Mancini
Snapshot Date: 2020-08-11 14:50:16 -0400 (Tue, 11 Aug 2020)
URL: https://git.bioconductor.org/packages/ASpli
Branch: master
Last Commit: dda9b82
Last Changed Date: 2020-07-21 10:22:53 -0400 (Tue, 21 Jul 2020)
malbec1 Linux (Ubuntu 18.04.4 LTS) / x86_64  OK  OK  OK UNNEEDED, same version exists in internal repository
nebbiolo1 Linux (Ubuntu 20.04.1 LTS) / x86_64  OK  OK  OK 
tokay1 Windows Server 2012 R2 Standard / x64 [ OK ] OK  OK  OK UNNEEDED, same version exists in internal repository
merida1 macOS 10.14.6 Mojave / x86_64  OK  OK  OK  OK UNNEEDED, same version exists in internal repository

Summary

Package: ASpli
Version: 1.99.2
Command: C:\cygwin\bin\curl.exe -O https://malbec1.bioconductor.org/BBS/3.12/bioc/src/contrib/ASpli_1.99.2.tar.gz && rm -rf ASpli.buildbin-libdir && mkdir ASpli.buildbin-libdir && C:\Users\biocbuild\bbs-3.12-bioc\R\bin\R.exe CMD INSTALL --merge-multiarch --build --library=ASpli.buildbin-libdir ASpli_1.99.2.tar.gz && C:\Users\biocbuild\bbs-3.12-bioc\R\bin\R.exe CMD INSTALL ASpli_1.99.2.zip && rm ASpli_1.99.2.tar.gz ASpli_1.99.2.zip
StartedAt: 2020-08-11 18:52:55 -0400 (Tue, 11 Aug 2020)
EndedAt: 2020-08-11 18:54:48 -0400 (Tue, 11 Aug 2020)
EllapsedTime: 113.1 seconds
RetCode: 0
Status:  OK  

Command output

##############################################################################
##############################################################################
###
### Running command:
###
###   C:\cygwin\bin\curl.exe -O https://malbec1.bioconductor.org/BBS/3.12/bioc/src/contrib/ASpli_1.99.2.tar.gz && rm -rf ASpli.buildbin-libdir && mkdir ASpli.buildbin-libdir && C:\Users\biocbuild\bbs-3.12-bioc\R\bin\R.exe CMD INSTALL --merge-multiarch --build --library=ASpli.buildbin-libdir ASpli_1.99.2.tar.gz && C:\Users\biocbuild\bbs-3.12-bioc\R\bin\R.exe CMD INSTALL ASpli_1.99.2.zip && rm ASpli_1.99.2.tar.gz ASpli_1.99.2.zip
###
##############################################################################
##############################################################################


  % Total    % Received % Xferd  Average Speed   Time    Time     Time  Current
                                 Dload  Upload   Total   Spent    Left  Speed

  0     0    0     0    0     0      0      0 --:--:-- --:--:-- --:--:--     0
100 4046k  100 4046k    0     0  33.6M      0 --:--:-- --:--:-- --:--:-- 34.6M

install for i386

* installing *source* package 'ASpli' ...
** using staged installation
** R
** inst
** byte-compile and prepare package for lazy loading
** help
*** installing help indices
  converting help for package 'ASpli'
    finding HTML links ... done
    ASpli-deprecated                        html  
    ASpli-package                           html  
    ASpliAS-class                           html  
    ASpliCounts-class                       html  
    ASpliCounts                             html  
    ASpliDU-class                           html  
    ASpliFeatures-class                     html  
    ASpliIntegratedSignals-class            html  
    ASpliJDU-class                          html  
    ASpliSplicingReport-class               html  
    DUreport                                html  
    finding level-2 HTML links ... done

    DUreport.norm                           html  
    DUreport.offset                         html  
    DUreportBinSplice-method                html  
    acc_AS                                  html  
    acc_DU                                  html  
    acc_JDU                                 html  
    acc_MergedReport                        html  
    acc_counts                              html  
    acc_features                            html  
    acc_is                                  html  
    binGenome-methods                       html  
    binGenome                               html  
    containsJunctions-function              html  
    example_data                            html  
    exportIntegratedSignals                 html  
    exportSplicingReports                   html  
    filterDU-method                         html  
    filterSignals                           html  
    gbCounts                                html  
    gbDUreport-method                       html  
    getConditions-function                  html  
    integrateSignals                        html  
    jCounts-methods                         html  
    jDUreport                               html  
    junctionDUreport                        html  
    loadBAM                                 html  
    mergeBinDUAS-method                     html  
    plotBins                                html  
    plotGenomicRegions                      html  
    rds                                     html  
    show-methods                            html  
    splicingReport                          html  
    subset-methods                          html  
    write-methods                           html  
    write                                   html  
** building package indices
** installing vignettes
** testing if installed package can be loaded from temporary location
** testing if installed package can be loaded from final location
** testing if installed package keeps a record of temporary installation path

install for x64

* installing *source* package 'ASpli' ...
** testing if installed package can be loaded
* MD5 sums
packaged installation of 'ASpli' as ASpli_1.99.2.zip
* DONE (ASpli)
* installing to library 'C:/Users/biocbuild/bbs-3.12-bioc/R/library'
package 'ASpli' successfully unpacked and MD5 sums checked