Back to Multiple platform build/check report for BioC 3.12
A[B]CDEFGHIJKLMNOPQRSTUVWXYZ

BUILD report for BiSeq on tokay1

This page was generated on 2020-08-07 12:02:10 -0400 (Fri, 07 Aug 2020).

TO THE DEVELOPERS/MAINTAINERS OF THE BiSeq PACKAGE: Please make sure to use the following settings in order to reproduce any error or warning you see on this page.
Package 183/1882HostnameOS / ArchINSTALLBUILDCHECKBUILD BIN
BiSeq 1.29.0
Katja Hebestreit
Snapshot Date: 2020-08-06 14:50:46 -0400 (Thu, 06 Aug 2020)
URL: https://git.bioconductor.org/packages/BiSeq
Branch: master
Last Commit: 6155da2
Last Changed Date: 2020-04-27 14:34:25 -0400 (Mon, 27 Apr 2020)
malbec1 Linux (Ubuntu 18.04.4 LTS) / x86_64  OK  OK  OK UNNEEDED, same version exists in internal repository
tokay1 Windows Server 2012 R2 Standard / x64  OK [ OK ] OK  OK UNNEEDED, same version exists in internal repository
merida1 macOS 10.14.6 Mojave / x86_64  OK  OK  OK  OK UNNEEDED, same version exists in internal repository

Summary

Package: BiSeq
Version: 1.29.0
Command: chmod a+r BiSeq -R && C:\Users\biocbuild\bbs-3.12-bioc\R\bin\R.exe --arch x64 CMD build --keep-empty-dirs --no-resave-data BiSeq
StartedAt: 2020-08-06 19:57:59 -0400 (Thu, 06 Aug 2020)
EndedAt: 2020-08-06 20:00:07 -0400 (Thu, 06 Aug 2020)
EllapsedTime: 128.5 seconds
RetCode: 0
Status:  OK  
PackageFile: BiSeq_1.29.0.tar.gz
PackageFileSize: 951 KiB

Command output

##############################################################################
##############################################################################
###
### Running command:
###
###   chmod a+r BiSeq -R && C:\Users\biocbuild\bbs-3.12-bioc\R\bin\R.exe --arch x64 CMD build --keep-empty-dirs --no-resave-data BiSeq
###
##############################################################################
##############################################################################


* checking for file 'BiSeq/DESCRIPTION' ... OK
* preparing 'BiSeq':
* checking DESCRIPTION meta-information ... OK
* installing the package to build vignettes
* creating vignettes ... OK
* checking for LF line-endings in source and make files and shell scripts
* checking for empty or unneeded directories
* looking to see if a 'data/datalist' file should be added
* building 'BiSeq_1.29.0.tar.gz'