Back to Multiple platform build/check report for BioC 3.12
[A]BCDEFGHIJKLMNOPQRSTUVWXYZ

INSTALL report for a4 on malbec1

This page was generated on 2020-08-13 11:14:06 -0400 (Thu, 13 Aug 2020).

TO THE DEVELOPERS/MAINTAINERS OF THE a4 PACKAGE: Please make sure to use the following settings in order to reproduce any error or warning you see on this page.
Package 1/1885HostnameOS / ArchINSTALLBUILDCHECKBUILD BIN
a4 1.37.0
Tobias Verbeke
Snapshot Date: 2020-08-12 14:52:00 -0400 (Wed, 12 Aug 2020)
URL: https://git.bioconductor.org/packages/a4
Branch: master
Last Commit: e86c9f6
Last Changed Date: 2020-04-27 14:25:31 -0400 (Mon, 27 Apr 2020)
malbec1 Linux (Ubuntu 18.04.4 LTS) / x86_64 [ OK ] ERROR  skipped 
nebbiolo1 Linux (Ubuntu 20.04.1 LTS) / x86_64  OK  ERROR  skipped 
tokay1 Windows Server 2012 R2 Standard / x64  OK  ERROR  skipped  skipped 
merida1 macOS 10.14.6 Mojave / x86_64  OK  ERROR  skipped  skipped 

Summary

Package: a4
Version: 1.37.0
Command: /home/biocbuild/bbs-3.12-bioc/R/bin/R CMD INSTALL a4
StartedAt: 2020-08-12 16:21:38 -0400 (Wed, 12 Aug 2020)
EndedAt: 2020-08-12 16:21:57 -0400 (Wed, 12 Aug 2020)
EllapsedTime: 18.5 seconds
RetCode: 0
Status:  OK 

Command output

##############################################################################
##############################################################################
###
### Running command:
###
###   /home/biocbuild/bbs-3.12-bioc/R/bin/R CMD INSTALL a4
###
##############################################################################
##############################################################################


* installing to library ‘/home/biocbuild/bbs-3.12-bioc/R/library’
* installing *source* package ‘a4’ ...
** using staged installation
** R
** inst
** byte-compile and prepare package for lazy loading
Warning message:
Package 'KEGG.db' is deprecated and will be removed from Bioconductor
  version 3.12 
** help
No man pages found in package  ‘a4’ 
*** installing help indices
** building package indices
** installing vignettes
** testing if installed package can be loaded from temporary location
Warning: Package 'KEGG.db' is deprecated and will be removed from Bioconductor
  version 3.12
** testing if installed package can be loaded from final location
Warning: Package 'KEGG.db' is deprecated and will be removed from Bioconductor
  version 3.12
** testing if installed package keeps a record of temporary installation path
* DONE (a4)