Back to Multiple platform build/check report for BioC 3.12
AB[C]DEFGHIJKLMNOPQRSTUVWXYZ

BUILD BIN report for CEMiTool on tokay1

This page was generated on 2020-08-10 12:23:01 -0400 (Mon, 10 Aug 2020).

TO THE DEVELOPERS/MAINTAINERS OF THE CEMiTool PACKAGE: Please make sure to use the following settings in order to reproduce any error or warning you see on this page.
Package 250/1882HostnameOS / ArchINSTALLBUILDCHECKBUILD BIN
CEMiTool 1.13.1
Helder Nakaya
Snapshot Date: 2020-08-09 14:51:29 -0400 (Sun, 09 Aug 2020)
URL: https://git.bioconductor.org/packages/CEMiTool
Branch: master
Last Commit: 18c5654
Last Changed Date: 2020-07-02 12:14:01 -0400 (Thu, 02 Jul 2020)
malbec1 Linux (Ubuntu 18.04.4 LTS) / x86_64  OK  OK  OK UNNEEDED, same version exists in internal repository
nebbiolo1 Linux (Ubuntu 20.04.1 LTS) / x86_64  OK  OK  OK 
tokay1 Windows Server 2012 R2 Standard / x64  OK  OK  OK [ OK ]UNNEEDED, same version exists in internal repository
merida1 macOS 10.14.6 Mojave / x86_64  OK  OK  OK  OK UNNEEDED, same version exists in internal repository

Summary

Package: CEMiTool
Version: 1.13.1
Command: rm -rf CEMiTool.buildbin-libdir && mkdir CEMiTool.buildbin-libdir && C:\Users\biocbuild\bbs-3.12-bioc\R\bin\R.exe CMD INSTALL --merge-multiarch --build --library=CEMiTool.buildbin-libdir CEMiTool_1.13.1.tar.gz
StartedAt: 2020-08-10 08:16:59 -0400 (Mon, 10 Aug 2020)
EndedAt: 2020-08-10 08:17:42 -0400 (Mon, 10 Aug 2020)
EllapsedTime: 43.3 seconds
RetCode: 0
Status:  OK  
PackageFile: CEMiTool_1.13.1.zip
PackageFileSize: 5.053 MiB

Command output

##############################################################################
##############################################################################
###
### Running command:
###
###   rm -rf CEMiTool.buildbin-libdir && mkdir CEMiTool.buildbin-libdir && C:\Users\biocbuild\bbs-3.12-bioc\R\bin\R.exe CMD INSTALL --merge-multiarch --build --library=CEMiTool.buildbin-libdir CEMiTool_1.13.1.tar.gz
###
##############################################################################
##############################################################################



install for i386

* installing *source* package 'CEMiTool' ...
** using staged installation
** R
** data
*** moving datasets to lazyload DB
** exec
** inst
** byte-compile and prepare package for lazy loading
** help
*** installing help indices
  converting help for package 'CEMiTool'
    finding HTML links ... done
    CEMiTool-class                          html  
    adj_data                                html  
    cem                                     html  
    cemitool                                html  
    diagnostic_report                       html  
    expr0                                   html  
    expr_data                               html  
    expr_pct_filter                         html  
    filter_expr                             html  
    find_modules                            html  
    fit_data                                html  
    generate_report                         html  
    get_adj                                 html  
    get_beta_data                           html  
    get_cemitool_r2_beta                    html  
    get_connectivity                        html  
    get_hubs                                html  
    get_merged_mods                         html  
    get_mods                                html  
    get_phi                                 html  
    gsea_data                               html  
    interactions_data                       html  
    mod_colors                              html  
    mod_gene_num                            html  
    mod_gsea                                html  
    mod_names                               html  
    mod_ora                                 html  
    mod_summary                             html  
    module_genes                            html  
    module_to_gmt                           html  
    new_cem                                 html  
    nmodules                                html  
    ora_data                                html  
    plot_beta_r2                            html  
    plot_gsea                               html  
    plot_hist                               html  
    plot_interactions                       html  
    plot_mean_k                             html  
    plot_mean_var                           html  
    plot_ora                                html  
    plot_ora_single                         html  
    plot_profile                            html  
    plot_qq                                 html  
    plot_sample_tree                        html  
    read_gmt                                html  
    sample_annot                            html  
    sample_annotation                       html  
    save_plots                              html  
    select_genes                            html  
    show-CEMiTool-method                    html  
    show_plot                               html  
    vst                                     html  
    write_files                             html  
** building package indices
** installing vignettes
** testing if installed package can be loaded from temporary location
** testing if installed package can be loaded from final location
** testing if installed package keeps a record of temporary installation path

install for x64

* installing *source* package 'CEMiTool' ...
** testing if installed package can be loaded
* MD5 sums
packaged installation of 'CEMiTool' as CEMiTool_1.13.1.zip
* DONE (CEMiTool)