Back to Multiple platform build/check report for BioC 3.12
A[B]CDEFGHIJKLMNOPQRSTUVWXYZ

BUILD report for bgx on tokay1

This page was generated on 2020-08-06 11:50:41 -0400 (Thu, 06 Aug 2020).

TO THE DEVELOPERS/MAINTAINERS OF THE bgx PACKAGE: Please make sure to use the following settings in order to reproduce any error or warning you see on this page.
Package 135/1882HostnameOS / ArchINSTALLBUILDCHECKBUILD BIN
bgx 1.55.0
Ernest Turro
Snapshot Date: 2020-08-05 14:50:59 -0400 (Wed, 05 Aug 2020)
URL: https://git.bioconductor.org/packages/bgx
Branch: master
Last Commit: de3e291
Last Changed Date: 2020-04-27 14:15:13 -0400 (Mon, 27 Apr 2020)
malbec1 Linux (Ubuntu 18.04.4 LTS) / x86_64  OK  OK  OK UNNEEDED, same version exists in internal repository
tokay1 Windows Server 2012 R2 Standard / x64  ERROR [ ERROR ] skipped  skipped 
merida1 macOS 10.14.6 Mojave / x86_64  OK  OK  WARNINGS  OK UNNEEDED, same version exists in internal repository

Summary

Package: bgx
Version: 1.55.0
Command: chmod a+r bgx -R && C:\Users\biocbuild\bbs-3.12-bioc\R\bin\R.exe CMD build --keep-empty-dirs --no-resave-data bgx
StartedAt: 2020-08-05 19:18:59 -0400 (Wed, 05 Aug 2020)
EndedAt: 2020-08-05 19:19:11 -0400 (Wed, 05 Aug 2020)
EllapsedTime: 12.2 seconds
RetCode: 1
Status:  ERROR  
PackageFile: bgx_1.55.0.tar.gz
PackageFileSize: 1.075 MiB

Command output

##############################################################################
##############################################################################
###
### Running command:
###
###   chmod a+r bgx -R && C:\Users\biocbuild\bbs-3.12-bioc\R\bin\R.exe CMD build --keep-empty-dirs --no-resave-data bgx
###
##############################################################################
##############################################################################


* checking for file 'bgx/DESCRIPTION' ... OK
* preparing 'bgx':
* checking DESCRIPTION meta-information ... OK
* cleaning src
* installing the package to build vignettes
      -----------------------------------
* installing *source* package 'bgx' ...
** using staged installation
Untarring Boost header files...
** libs
"C:/rtools40/mingw64/bin/"g++ -std=gnu++11  -I"C:/Users/BIOCBU~1/BBS-3~1.12-/R/include" -DNDEBUG -I ../boostIncl -I'C:/Users/biocbuild/bbs-3.12-bioc/R/library/Rcpp/include'   -I"C:/extsoft/include"  -DUSING_R -ffast-math -O3   -O2 -Wall  -mfpmath=sse -msse2 -mstackrealign -c bgx.cc -o bgx.o
In file included from ../boostIncl/boost/config.hpp:57,
                 from ../boostIncl/boost/random/linear_congruential.hpp:22,
                 from ../boostIncl/boost/random.hpp:36,
                 from rand.hh:32,
                 from bgx.cc:32:
../boostIncl/boost/random/detail/const_mod.hpp: In static member function 'static IntType boost::random::const_mod<IntType, m>::invert_euclidian(IntType)':
../boostIncl/boost/static_assert.hpp:105:21: warning: typedef 'boost_static_assert_typedef_148' locally defined but not used [-Wunused-local-typedefs]
          BOOST_JOIN(boost_static_assert_typedef_, __LINE__)
                     ^~~~~~~~~~~~~~~~~~~~~~~~~~~~
../boostIncl/boost/config/suffix.hpp:523:32: note: in definition of macro 'BOOST_DO_JOIN2'
 #define BOOST_DO_JOIN2( X, Y ) X##Y
                                ^
../boostIncl/boost/config/suffix.hpp:521:28: note: in expansion of macro 'BOOST_DO_JOIN'
 #define BOOST_JOIN( X, Y ) BOOST_DO_JOIN( X, Y )
                            ^~~~~~~~~~~~~
../boostIncl/boost/static_assert.hpp:105:10: note: in expansion of macro 'BOOST_JOIN'
          BOOST_JOIN(boost_static_assert_typedef_, __LINE__)
          ^~~~~~~~~~
../boostIncl/boost/random/detail/const_mod.hpp:148:5: note: in expansion of macro 'BOOST_STATIC_ASSERT'
     BOOST_STATIC_ASSERT(m > 0);
     ^~~~~~~~~~~~~~~~~~~
../boostIncl/boost/static_assert.hpp:105:21: warning: typedef 'boost_static_assert_typedef_152' locally defined but not used [-Wunused-local-typedefs]
          BOOST_JOIN(boost_static_assert_typedef_, __LINE__)
                     ^~~~~~~~~~~~~~~~~~~~~~~~~~~~
../boostIncl/boost/config/suffix.hpp:523:32: note: in definition of macro 'BOOST_DO_JOIN2'
 #define BOOST_DO_JOIN2( X, Y ) X##Y
                                ^
../boostIncl/boost/config/suffix.hpp:521:28: note: in expansion of macro 'BOOST_DO_JOIN'
 #define BOOST_JOIN( X, Y ) BOOST_DO_JOIN( X, Y )
                            ^~~~~~~~~~~~~
../boostIncl/boost/static_assert.hpp:105:10: note: in expansion of macro 'BOOST_JOIN'
          BOOST_JOIN(boost_static_assert_typedef_, __LINE__)
          ^~~~~~~~~~
../boostIncl/boost/random/detail/const_mod.hpp:152:5: note: in expansion of macro 'BOOST_STATIC_ASSERT'
     BOOST_STATIC_ASSERT(boost::integer_traits<IntType>::is_signed);
     ^~~~~~~~~~~~~~~~~~~
../boostIncl/boost/random/linear_congruential.hpp: In constructor 'boost::random::linear_congruential<IntType, a, c, m, val>::linear_congruential(IntType)':
../boostIncl/boost/static_assert.hpp:105:21: warning: typedef 'boost_static_assert_typedef_63' locally defined but not used [-Wunused-local-typedefs]
          BOOST_JOIN(boost_static_assert_typedef_, __LINE__)
                     ^~~~~~~~~~~~~~~~~~~~~~~~~~~~
../boostIncl/boost/config/suffix.hpp:523:32: note: in definition of macro 'BOOST_DO_JOIN2'
 #define BOOST_DO_JOIN2( X, Y ) X##Y
                                ^
../boostIncl/boost/config/suffix.hpp:521:28: note: in expansion of macro 'BOOST_DO_JOIN'
 #define BOOST_JOIN( X, Y ) BOOST_DO_JOIN( X, Y )
                            ^~~~~~~~~~~~~
../boostIncl/boost/static_assert.hpp:105:10: note: in expansion of macro 'BOOST_JOIN'
          BOOST_JOIN(boost_static_assert_typedef_, __LINE__)
          ^~~~~~~~~~
../boostIncl/boost/random/linear_congruential.hpp:63:5: note: in expansion of macro 'BOOST_STATIC_ASSERT'
     BOOST_STATIC_ASSERT(std::numeric_limits<IntType>::is_integer);
     ^~~~~~~~~~~~~~~~~~~
../boostIncl/boost/random/inversive_congruential.hpp: In constructor 'boost::random::inversive_congruential<IntType, a, b, p, val>::inversive_congruential(IntType)':
../boostIncl/boost/static_assert.hpp:105:21: warning: typedef 'boost_static_assert_typedef_50' locally defined but not used [-Wunused-local-typedefs]
          BOOST_JOIN(boost_static_assert_typedef_, __LINE__)
                     ^~~~~~~~~~~~~~~~~~~~~~~~~~~~
../boostIncl/boost/config/suffix.hpp:523:32: note: in definition of macro 'BOOST_DO_JOIN2'
 #define BOOST_DO_JOIN2( X, Y ) X##Y
                                ^
../boostIncl/boost/config/suffix.hpp:521:28: note: in expansion of macro 'BOOST_DO_JOIN'
 #define BOOST_JOIN( X, Y ) BOOST_DO_JOIN( X, Y )
                            ^~~~~~~~~~~~~
../boostIncl/boost/static_assert.hpp:105:10: note: in expansion of macro 'BOOST_JOIN'
          BOOST_JOIN(boost_static_assert_typedef_, __LINE__)
          ^~~~~~~~~~
../boostIncl/boost/random/inversive_congruential.hpp:50:5: note: in expansion of macro 'BOOST_STATIC_ASSERT'
     BOOST_STATIC_ASSERT(b >= 0);
     ^~~~~~~~~~~~~~~~~~~
../boostIncl/boost/static_assert.hpp:105:21: warning: typedef 'boost_static_assert_typedef_51' locally defined but not used [-Wunused-local-typedefs]
          BOOST_JOIN(boost_static_assert_typedef_, __LINE__)
                     ^~~~~~~~~~~~~~~~~~~~~~~~~~~~
../boostIncl/boost/config/suffix.hpp:523:32: note: in definition of macro 'BOOST_DO_JOIN2'
 #define BOOST_DO_JOIN2( X, Y ) X##Y
                                ^
../boostIncl/boost/config/suffix.hpp:521:28: note: in expansion of macro 'BOOST_DO_JOIN'
 #define BOOST_JOIN( X, Y ) BOOST_DO_JOIN( X, Y )
                            ^~~~~~~~~~~~~
../boostIncl/boost/static_assert.hpp:105:10: note: in expansion of macro 'BOOST_JOIN'
          BOOST_JOIN(boost_static_assert_typedef_, __LINE__)
          ^~~~~~~~~~
../boostIncl/boost/random/inversive_congruential.hpp:51:5: note: in expansion of macro 'BOOST_STATIC_ASSERT'
     BOOST_STATIC_ASSERT(p > 1);
     ^~~~~~~~~~~~~~~~~~~
../boostIncl/boost/static_assert.hpp:105:21: warning: typedef 'boost_static_assert_typedef_52' locally defined but not used [-Wunused-local-typedefs]
          BOOST_JOIN(boost_static_assert_typedef_, __LINE__)
                     ^~~~~~~~~~~~~~~~~~~~~~~~~~~~
../boostIncl/boost/config/suffix.hpp:523:32: note: in definition of macro 'BOOST_DO_JOIN2'
 #define BOOST_DO_JOIN2( X, Y ) X##Y
                                ^
../boostIncl/boost/config/suffix.hpp:521:28: note: in expansion of macro 'BOOST_DO_JOIN'
 #define BOOST_JOIN( X, Y ) BOOST_DO_JOIN( X, Y )
                            ^~~~~~~~~~~~~
../boostIncl/boost/static_assert.hpp:105:10: note: in expansion of macro 'BOOST_JOIN'
          BOOST_JOIN(boost_static_assert_typedef_, __LINE__)
          ^~~~~~~~~~
../boostIncl/boost/random/inversive_congruential.hpp:52:5: note: in expansion of macro 'BOOST_STATIC_ASSERT'
     BOOST_STATIC_ASSERT(a >= 1);
     ^~~~~~~~~~~~~~~~~~~
../boostIncl/boost/random/shuffle_output.hpp: In member function 'void boost::random::shuffle_output<UniformRandomNumberGenerator, k, val>::init()':
../boostIncl/boost/static_assert.hpp:105:21: warning: typedef 'boost_static_assert_typedef_124' locally defined but not used [-Wunused-local-typedefs]
          BOOST_JOIN(boost_static_assert_typedef_, __LINE__)
                     ^~~~~~~~~~~~~~~~~~~~~~~~~~~~
../boostIncl/boost/config/suffix.hpp:523:32: note: in definition of macro 'BOOST_DO_JOIN2'
 #define BOOST_DO_JOIN2( X, Y ) X##Y
                                ^
../boostIncl/boost/config/suffix.hpp:521:28: note: in expansion of macro 'BOOST_DO_JOIN'
 #define BOOST_JOIN( X, Y ) BOOST_DO_JOIN( X, Y )
                            ^~~~~~~~~~~~~
../boostIncl/boost/static_assert.hpp:105:10: note: in expansion of macro 'BOOST_JOIN'
          BOOST_JOIN(boost_static_assert_typedef_, __LINE__)
          ^~~~~~~~~~
../boostIncl/boost/random/shuffle_output.hpp:124:5: note: in expansion of macro 'BOOST_STATIC_ASSERT'
     BOOST_STATIC_ASSERT(std::numeric_limits<result_type>::is_integer);
     ^~~~~~~~~~~~~~~~~~~
../boostIncl/boost/random/mersenne_twister.hpp: In member function 'void boost::random::mersenne_twister<UIntType, w, n, m, r, a, u, s, b, t, c, l, val>::seed(Generator&)':
../boostIncl/boost/static_assert.hpp:105:21: warning: typedef 'boost_static_assert_typedef_99' locally defined but not used [-Wunused-local-typedefs]
          BOOST_JOIN(boost_static_assert_typedef_, __LINE__)
                     ^~~~~~~~~~~~~~~~~~~~~~~~~~~~
../boostIncl/boost/config/suffix.hpp:523:32: note: in definition of macro 'BOOST_DO_JOIN2'
 #define BOOST_DO_JOIN2( X, Y ) X##Y
                                ^
../boostIncl/boost/config/suffix.hpp:521:28: note: in expansion of macro 'BOOST_DO_JOIN'
 #define BOOST_JOIN( X, Y ) BOOST_DO_JOIN( X, Y )
                            ^~~~~~~~~~~~~
../boostIncl/boost/static_assert.hpp:105:10: note: in expansion of macro 'BOOST_JOIN'
          BOOST_JOIN(boost_static_assert_typedef_, __LINE__)
          ^~~~~~~~~~
../boostIncl/boost/random/mersenne_twister.hpp:99:5: note: in expansion of macro 'BOOST_STATIC_ASSERT'
     BOOST_STATIC_ASSERT(!std::numeric_limits<result_type>::is_signed);
     ^~~~~~~~~~~~~~~~~~~
../boostIncl/boost/random/subtract_with_carry.hpp: In constructor 'boost::random::subtract_with_carry<IntType, m, s, r, val>::subtract_with_carry()':
../boostIncl/boost/static_assert.hpp:105:21: warning: typedef 'boost_static_assert_typedef_83' locally defined but not used [-Wunused-local-typedefs]
          BOOST_JOIN(boost_static_assert_typedef_, __LINE__)
                     ^~~~~~~~~~~~~~~~~~~~~~~~~~~~
../boostIncl/boost/config/suffix.hpp:523:32: note: in definition of macro 'BOOST_DO_JOIN2'
 #define BOOST_DO_JOIN2( X, Y ) X##Y
                                ^
../boostIncl/boost/config/suffix.hpp:521:28: note: in expansion of macro 'BOOST_DO_JOIN'
 #define BOOST_JOIN( X, Y ) BOOST_DO_JOIN( X, Y )
                            ^~~~~~~~~~~~~
../boostIncl/boost/static_assert.hpp:105:10: note: in expansion of macro 'BOOST_JOIN'
          BOOST_JOIN(boost_static_assert_typedef_, __LINE__)
          ^~~~~~~~~~
../boostIncl/boost/random/subtract_with_carry.hpp:83:5: note: in expansion of macro 'BOOST_STATIC_ASSERT'
     BOOST_STATIC_ASSERT(std::numeric_limits<result_type>::is_signed);
     ^~~~~~~~~~~~~~~~~~~
../boostIncl/boost/static_assert.hpp:105:21: warning: typedef 'boost_static_assert_typedef_84' locally defined but not used [-Wunused-local-typedefs]
          BOOST_JOIN(boost_static_assert_typedef_, __LINE__)
                     ^~~~~~~~~~~~~~~~~~~~~~~~~~~~
../boostIncl/boost/config/suffix.hpp:523:32: note: in definition of macro 'BOOST_DO_JOIN2'
 #define BOOST_DO_JOIN2( X, Y ) X##Y
                                ^
../boostIncl/boost/config/suffix.hpp:521:28: note: in expansion of macro 'BOOST_DO_JOIN'
 #define BOOST_JOIN( X, Y ) BOOST_DO_JOIN( X, Y )
                            ^~~~~~~~~~~~~
../boostIncl/boost/static_assert.hpp:105:10: note: in expansion of macro 'BOOST_JOIN'
          BOOST_JOIN(boost_static_assert_typedef_, __LINE__)
          ^~~~~~~~~~
../boostIncl/boost/random/subtract_with_carry.hpp:84:5: note: in expansion of macro 'BOOST_STATIC_ASSERT'
     BOOST_STATIC_ASSERT(std::numeric_limits<result_type>::is_integer);
     ^~~~~~~~~~~~~~~~~~~
../boostIncl/boost/random/linear_feedback_shift.hpp: In constructor 'boost::random::linear_feedback_shift<UIntType, w, k, q, s, val>::linear_feedback_shift(UIntType)':
../boostIncl/boost/static_assert.hpp:105:21: warning: typedef 'boost_static_assert_typedef_55' locally defined but not used [-Wunused-local-typedefs]
          BOOST_JOIN(boost_static_assert_typedef_, __LINE__)
                     ^~~~~~~~~~~~~~~~~~~~~~~~~~~~
../boostIncl/boost/config/suffix.hpp:523:32: note: in definition of macro 'BOOST_DO_JOIN2'
 #define BOOST_DO_JOIN2( X, Y ) X##Y
                                ^
../boostIncl/boost/config/suffix.hpp:521:28: note: in expansion of macro 'BOOST_DO_JOIN'
 #define BOOST_JOIN( X, Y ) BOOST_DO_JOIN( X, Y )
                            ^~~~~~~~~~~~~
../boostIncl/boost/static_assert.hpp:105:10: note: in expansion of macro 'BOOST_JOIN'
          BOOST_JOIN(boost_static_assert_typedef_, __LINE__)
          ^~~~~~~~~~
../boostIncl/boost/random/linear_feedback_shift.hpp:55:5: note: in expansion of macro 'BOOST_STATIC_ASSERT'
     BOOST_STATIC_ASSERT(std::numeric_limits<UIntType>::is_integer);
     ^~~~~~~~~~~~~~~~~~~
../boostIncl/boost/static_assert.hpp:105:21: warning: typedef 'boost_static_assert_typedef_56' locally defined but not used [-Wunused-local-typedefs]
          BOOST_JOIN(boost_static_assert_typedef_, __LINE__)
                     ^~~~~~~~~~~~~~~~~~~~~~~~~~~~
../boostIncl/boost/config/suffix.hpp:523:32: note: in definition of macro 'BOOST_DO_JOIN2'
 #define BOOST_DO_JOIN2( X, Y ) X##Y
                                ^
../boostIncl/boost/config/suffix.hpp:521:28: note: in expansion of macro 'BOOST_DO_JOIN'
 #define BOOST_JOIN( X, Y ) BOOST_DO_JOIN( X, Y )
                            ^~~~~~~~~~~~~
../boostIncl/boost/static_assert.hpp:105:10: note: in expansion of macro 'BOOST_JOIN'
          BOOST_JOIN(boost_static_assert_typedef_, __LINE__)
          ^~~~~~~~~~
../boostIncl/boost/random/linear_feedback_shift.hpp:56:5: note: in expansion of macro 'BOOST_STATIC_ASSERT'
     BOOST_STATIC_ASSERT(!std::numeric_limits<UIntType>::is_signed);
     ^~~~~~~~~~~~~~~~~~~
../boostIncl/boost/random/linear_feedback_shift.hpp: In constructor 'boost::random::linear_feedback_shift<UIntType, w, k, q, s, val>::linear_feedback_shift(It&, It)':
../boostIncl/boost/static_assert.hpp:105:21: warning: typedef 'boost_static_assert_typedef_69' locally defined but not used [-Wunused-local-typedefs]
          BOOST_JOIN(boost_static_assert_typedef_, __LINE__)
                     ^~~~~~~~~~~~~~~~~~~~~~~~~~~~
../boostIncl/boost/config/suffix.hpp:523:32: note: in definition of macro 'BOOST_DO_JOIN2'
 #define BOOST_DO_JOIN2( X, Y ) X##Y
                                ^
../boostIncl/boost/config/suffix.hpp:521:28: note: in expansion of macro 'BOOST_DO_JOIN'
 #define BOOST_JOIN( X, Y ) BOOST_DO_JOIN( X, Y )
                            ^~~~~~~~~~~~~
../boostIncl/boost/static_assert.hpp:105:10: note: in expansion of macro 'BOOST_JOIN'
          BOOST_JOIN(boost_static_assert_typedef_, __LINE__)
          ^~~~~~~~~~
../boostIncl/boost/random/linear_feedback_shift.hpp:69:5: note: in expansion of macro 'BOOST_STATIC_ASSERT'
     BOOST_STATIC_ASSERT(std::numeric_limits<UIntType>::is_integer);
     ^~~~~~~~~~~~~~~~~~~
../boostIncl/boost/static_assert.hpp:105:21: warning: typedef 'boost_static_assert_typedef_70' locally defined but not used [-Wunused-local-typedefs]
          BOOST_JOIN(boost_static_assert_typedef_, __LINE__)
                     ^~~~~~~~~~~~~~~~~~~~~~~~~~~~
../boostIncl/boost/config/suffix.hpp:523:32: note: in definition of macro 'BOOST_DO_JOIN2'
 #define BOOST_DO_JOIN2( X, Y ) X##Y
                                ^
../boostIncl/boost/config/suffix.hpp:521:28: note: in expansion of macro 'BOOST_DO_JOIN'
 #define BOOST_JOIN( X, Y ) BOOST_DO_JOIN( X, Y )
                            ^~~~~~~~~~~~~
../boostIncl/boost/static_assert.hpp:105:10: note: in expansion of macro 'BOOST_JOIN'
          BOOST_JOIN(boost_static_assert_typedef_, __LINE__)
          ^~~~~~~~~~
../boostIncl/boost/random/linear_feedback_shift.hpp:70:5: note: in expansion of macro 'BOOST_STATIC_ASSERT'
     BOOST_STATIC_ASSERT(!std::numeric_limits<UIntType>::is_signed);
     ^~~~~~~~~~~~~~~~~~~
../boostIncl/boost/random/xor_combine.hpp: In member function 'boost::random::xor_combine<URNG1, s1, URNG2, s2, val>::result_type boost::random::xor_combine<URNG1, s1, URNG2, s2, val>::operator()()':
../boostIncl/boost/static_assert.hpp:105:21: warning: typedef 'boost_static_assert_typedef_67' locally defined but not used [-Wunused-local-typedefs]
          BOOST_JOIN(boost_static_assert_typedef_, __LINE__)
                     ^~~~~~~~~~~~~~~~~~~~~~~~~~~~
../boostIncl/boost/config/suffix.hpp:523:32: note: in definition of macro 'BOOST_DO_JOIN2'
 #define BOOST_DO_JOIN2( X, Y ) X##Y
                                ^
../boostIncl/boost/config/suffix.hpp:521:28: note: in expansion of macro 'BOOST_DO_JOIN'
 #define BOOST_JOIN( X, Y ) BOOST_DO_JOIN( X, Y )
                            ^~~~~~~~~~~~~
../boostIncl/boost/static_assert.hpp:105:10: note: in expansion of macro 'BOOST_JOIN'
          BOOST_JOIN(boost_static_assert_typedef_, __LINE__)
          ^~~~~~~~~~
../boostIncl/boost/random/xor_combine.hpp:67:5: note: in expansion of macro 'BOOST_STATIC_ASSERT'
     BOOST_STATIC_ASSERT(std::numeric_limits<typename base1_type::result_type>::is_integer);
     ^~~~~~~~~~~~~~~~~~~
../boostIncl/boost/static_assert.hpp:105:21: warning: typedef 'boost_static_assert_typedef_68' locally defined but not used [-Wunused-local-typedefs]
          BOOST_JOIN(boost_static_assert_typedef_, __LINE__)
                     ^~~~~~~~~~~~~~~~~~~~~~~~~~~~
../boostIncl/boost/config/suffix.hpp:523:32: note: in definition of macro 'BOOST_DO_JOIN2'
 #define BOOST_DO_JOIN2( X, Y ) X##Y
                                ^
../boostIncl/boost/config/suffix.hpp:521:28: note: in expansion of macro 'BOOST_DO_JOIN'
 #define BOOST_JOIN( X, Y ) BOOST_DO_JOIN( X, Y )
                            ^~~~~~~~~~~~~
../boostIncl/boost/static_assert.hpp:105:10: note: in expansion of macro 'BOOST_JOIN'
          BOOST_JOIN(boost_static_assert_typedef_, __LINE__)
          ^~~~~~~~~~
../boostIncl/boost/random/xor_combine.hpp:68:5: note: in expansion of macro 'BOOST_STATIC_ASSERT'
     BOOST_STATIC_ASSERT(std::numeric_limits<typename base2_type::result_type>::is_integer);
     ^~~~~~~~~~~~~~~~~~~
../boostIncl/boost/static_assert.hpp:105:21: warning: typedef 'boost_static_assert_typedef_69' locally defined but not used [-Wunused-local-typedefs]
          BOOST_JOIN(boost_static_assert_typedef_, __LINE__)
                     ^~~~~~~~~~~~~~~~~~~~~~~~~~~~
../boostIncl/boost/config/suffix.hpp:523:32: note: in definition of macro 'BOOST_DO_JOIN2'
 #define BOOST_DO_JOIN2( X, Y ) X##Y
                                ^
../boostIncl/boost/config/suffix.hpp:521:28: note: in expansion of macro 'BOOST_DO_JOIN'
 #define BOOST_JOIN( X, Y ) BOOST_DO_JOIN( X, Y )
                            ^~~~~~~~~~~~~
../boostIncl/boost/static_assert.hpp:105:10: note: in expansion of macro 'BOOST_JOIN'
          BOOST_JOIN(boost_static_assert_typedef_, __LINE__)
          ^~~~~~~~~~
../boostIncl/boost/random/xor_combine.hpp:69:5: note: in expansion of macro 'BOOST_STATIC_ASSERT'
     BOOST_STATIC_ASSERT(std::numeric_limits<typename base1_type::result_type>::digits >= std::numeric_limits<typename base2_type::result_type>::digits);
     ^~~~~~~~~~~~~~~~~~~
../boostIncl/boost/random/uniform_smallint.hpp: In constructor 'boost::detail::uniform_smallint_float<UniformRandomNumberGenerator, IntType>::uniform_smallint_float(boost::detail::uniform_smallint_float<UniformRandomNumberGenerator, IntType>::base_type&, IntType, IntType)':
../boostIncl/boost/static_assert.hpp:105:21: warning: typedef 'boost_static_assert_typedef_121' locally defined but not used [-Wunused-local-typedefs]
          BOOST_JOIN(boost_static_assert_typedef_, __LINE__)
                     ^~~~~~~~~~~~~~~~~~~~~~~~~~~~
../boostIncl/boost/config/suffix.hpp:523:32: note: in definition of macro 'BOOST_DO_JOIN2'
 #define BOOST_DO_JOIN2( X, Y ) X##Y
                                ^
../boostIncl/boost/config/suffix.hpp:521:28: note: in expansion of macro 'BOOST_DO_JOIN'
 #define BOOST_JOIN( X, Y ) BOOST_DO_JOIN( X, Y )
                            ^~~~~~~~~~~~~
../boostIncl/boost/static_assert.hpp:105:10: note: in expansion of macro 'BOOST_JOIN'
          BOOST_JOIN(boost_static_assert_typedef_, __LINE__)
          ^~~~~~~~~~
../boostIncl/boost/random/uniform_smallint.hpp:121:5: note: in expansion of macro 'BOOST_STATIC_ASSERT'
     BOOST_STATIC_ASSERT(std::numeric_limits<IntType>::is_integer);
     ^~~~~~~~~~~~~~~~~~~
../boostIncl/boost/static_assert.hpp:105:21: warning: typedef 'boost_static_assert_typedef_122' locally defined but not used [-Wunused-local-typedefs]
          BOOST_JOIN(boost_static_assert_typedef_, __LINE__)
                     ^~~~~~~~~~~~~~~~~~~~~~~~~~~~
../boostIncl/boost/config/suffix.hpp:523:32: note: in definition of macro 'BOOST_DO_JOIN2'
 #define BOOST_DO_JOIN2( X, Y ) X##Y
                                ^
../boostIncl/boost/config/suffix.hpp:521:28: note: in expansion of macro 'BOOST_DO_JOIN'
 #define BOOST_JOIN( X, Y ) BOOST_DO_JOIN( X, Y )
                            ^~~~~~~~~~~~~
../boostIncl/boost/static_assert.hpp:105:10: note: in expansion of macro 'BOOST_JOIN'
          BOOST_JOIN(boost_static_assert_typedef_, __LINE__)
          ^~~~~~~~~~
../boostIncl/boost/random/uniform_smallint.hpp:122:5: note: in expansion of macro 'BOOST_STATIC_ASSERT'
     BOOST_STATIC_ASSERT(!std::numeric_limits<typename base_type::result_type>::is_integer);
     ^~~~~~~~~~~~~~~~~~~
../boostIncl/boost/random/uniform_smallint.hpp: In constructor 'boost::uniform_smallint<IntType>::uniform_smallint(IntType, IntType)':
../boostIncl/boost/static_assert.hpp:105:21: warning: typedef 'boost_static_assert_typedef_170' locally defined but not used [-Wunused-local-typedefs]
          BOOST_JOIN(boost_static_assert_typedef_, __LINE__)
                     ^~~~~~~~~~~~~~~~~~~~~~~~~~~~
../boostIncl/boost/config/suffix.hpp:523:32: note: in definition of macro 'BOOST_DO_JOIN2'
 #define BOOST_DO_JOIN2( X, Y ) X##Y
                                ^
../boostIncl/boost/config/suffix.hpp:521:28: note: in expansion of macro 'BOOST_DO_JOIN'
 #define BOOST_JOIN( X, Y ) BOOST_DO_JOIN( X, Y )
                            ^~~~~~~~~~~~~
../boostIncl/boost/static_assert.hpp:105:10: note: in expansion of macro 'BOOST_JOIN'
          BOOST_JOIN(boost_static_assert_typedef_, __LINE__)
          ^~~~~~~~~~
../boostIncl/boost/random/uniform_smallint.hpp:170:5: note: in expansion of macro 'BOOST_STATIC_ASSERT'
     BOOST_STATIC_ASSERT(std::numeric_limits<IntType>::is_integer);
     ^~~~~~~~~~~~~~~~~~~
../boostIncl/boost/random/uniform_int.hpp: In constructor 'boost::uniform_int<IntType>::uniform_int(IntType, IntType)':
../boostIncl/boost/static_assert.hpp:105:21: warning: typedef 'boost_static_assert_typedef_47' locally defined but not used [-Wunused-local-typedefs]
          BOOST_JOIN(boost_static_assert_typedef_, __LINE__)
                     ^~~~~~~~~~~~~~~~~~~~~~~~~~~~
../boostIncl/boost/config/suffix.hpp:523:32: note: in definition of macro 'BOOST_DO_JOIN2'
 #define BOOST_DO_JOIN2( X, Y ) X##Y
                                ^
../boostIncl/boost/config/suffix.hpp:521:28: note: in expansion of macro 'BOOST_DO_JOIN'
 #define BOOST_JOIN( X, Y ) BOOST_DO_JOIN( X, Y )
                            ^~~~~~~~~~~~~
../boostIncl/boost/static_assert.hpp:105:10: note: in expansion of macro 'BOOST_JOIN'
          BOOST_JOIN(boost_static_assert_typedef_, __LINE__)
          ^~~~~~~~~~
../boostIncl/boost/random/uniform_int.hpp:47:5: note: in expansion of macro 'BOOST_STATIC_ASSERT'
     BOOST_STATIC_ASSERT(std::numeric_limits<IntType>::is_integer);
     ^~~~~~~~~~~~~~~~~~~
../boostIncl/boost/random/random_number_generator.hpp: In constructor 'boost::random_number_generator<UniformRandomNumberGenerator, IntType>::random_number_generator(boost::random_number_generator<UniformRandomNumberGenerator, IntType>::base_type&)':
../boostIncl/boost/static_assert.hpp:105:21: warning: typedef 'boost_static_assert_typedef_38' locally defined but not used [-Wunused-local-typedefs]
          BOOST_JOIN(boost_static_assert_typedef_, __LINE__)
                     ^~~~~~~~~~~~~~~~~~~~~~~~~~~~
../boostIncl/boost/config/suffix.hpp:523:32: note: in definition of macro 'BOOST_DO_JOIN2'
 #define BOOST_DO_JOIN2( X, Y ) X##Y
                                ^
../boostIncl/boost/config/suffix.hpp:521:28: note: in expansion of macro 'BOOST_DO_JOIN'
 #define BOOST_JOIN( X, Y ) BOOST_DO_JOIN( X, Y )
                            ^~~~~~~~~~~~~
../boostIncl/boost/static_assert.hpp:105:10: note: in expansion of macro 'BOOST_JOIN'
          BOOST_JOIN(boost_static_assert_typedef_, __LINE__)
          ^~~~~~~~~~
../boostIncl/boost/random/random_number_generator.hpp:38:5: note: in expansion of macro 'BOOST_STATIC_ASSERT'
     BOOST_STATIC_ASSERT(std::numeric_limits<result_type>::is_integer);
     ^~~~~~~~~~~~~~~~~~~
../boostIncl/boost/random/uniform_real.hpp: In constructor 'boost::uniform_real<RealType>::uniform_real(RealType, RealType)':
../boostIncl/boost/static_assert.hpp:105:21: warning: typedef 'boost_static_assert_typedef_41' locally defined but not used [-Wunused-local-typedefs]
          BOOST_JOIN(boost_static_assert_typedef_, __LINE__)
                     ^~~~~~~~~~~~~~~~~~~~~~~~~~~~
../boostIncl/boost/config/suffix.hpp:523:32: note: in definition of macro 'BOOST_DO_JOIN2'
 #define BOOST_DO_JOIN2( X, Y ) X##Y
                                ^
../boostIncl/boost/config/suffix.hpp:521:28: note: in expansion of macro 'BOOST_DO_JOIN'
 #define BOOST_JOIN( X, Y ) BOOST_DO_JOIN( X, Y )
                            ^~~~~~~~~~~~~
../boostIncl/boost/static_assert.hpp:105:10: note: in expansion of macro 'BOOST_JOIN'
          BOOST_JOIN(boost_static_assert_typedef_, __LINE__)
          ^~~~~~~~~~
../boostIncl/boost/random/uniform_real.hpp:41:5: note: in expansion of macro 'BOOST_STATIC_ASSERT'
     BOOST_STATIC_ASSERT(!std::numeric_limits<RealType>::is_integer);
     ^~~~~~~~~~~~~~~~~~~
../boostIncl/boost/random/poisson_distribution.hpp: In constructor 'boost::poisson_distribution<IntType, RealType>::poisson_distribution(const RealType&)':
../boostIncl/boost/static_assert.hpp:105:21: warning: typedef 'boost_static_assert_typedef_38' locally defined but not used [-Wunused-local-typedefs]
          BOOST_JOIN(boost_static_assert_typedef_, __LINE__)
                     ^~~~~~~~~~~~~~~~~~~~~~~~~~~~
../boostIncl/boost/config/suffix.hpp:523:32: note: in definition of macro 'BOOST_DO_JOIN2'
 #define BOOST_DO_JOIN2( X, Y ) X##Y
                                ^
../boostIncl/boost/config/suffix.hpp:521:28: note: in expansion of macro 'BOOST_DO_JOIN'
 #define BOOST_JOIN( X, Y ) BOOST_DO_JOIN( X, Y )
                            ^~~~~~~~~~~~~
../boostIncl/boost/static_assert.hpp:105:10: note: in expansion of macro 'BOOST_JOIN'
          BOOST_JOIN(boost_static_assert_typedef_, __LINE__)
          ^~~~~~~~~~
../boostIncl/boost/random/poisson_distribution.hpp:38:5: note: in expansion of macro 'BOOST_STATIC_ASSERT'
     BOOST_STATIC_ASSERT(std::numeric_limits<IntType>::is_integer);
     ^~~~~~~~~~~~~~~~~~~
../boostIncl/boost/static_assert.hpp:105:21: warning: typedef 'boost_static_assert_typedef_39' locally defined but not used [-Wunused-local-typedefs]
          BOOST_JOIN(boost_static_assert_typedef_, __LINE__)
                     ^~~~~~~~~~~~~~~~~~~~~~~~~~~~
../boostIncl/boost/config/suffix.hpp:523:32: note: in definition of macro 'BOOST_DO_JOIN2'
 #define BOOST_DO_JOIN2( X, Y ) X##Y
                                ^
../boostIncl/boost/config/suffix.hpp:521:28: note: in expansion of macro 'BOOST_DO_JOIN'
 #define BOOST_JOIN( X, Y ) BOOST_DO_JOIN( X, Y )
                            ^~~~~~~~~~~~~
../boostIncl/boost/static_assert.hpp:105:10: note: in expansion of macro 'BOOST_JOIN'
          BOOST_JOIN(boost_static_assert_typedef_, __LINE__)
          ^~~~~~~~~~
../boostIncl/boost/random/poisson_distribution.hpp:39:5: note: in expansion of macro 'BOOST_STATIC_ASSERT'
     BOOST_STATIC_ASSERT(!std::numeric_limits<RealType>::is_integer);
     ^~~~~~~~~~~~~~~~~~~
In file included from bgx.cc:32:
rand.hh: In member function 'RealType Rand<GenType, RealType>::Normal()':
rand.hh:399:7: warning: this 'if' clause does not guard... [-Wmisleading-indentation]
       if(u0<.5) return y; return -y;
       ^~
rand.hh:399:27: note: ...this statement, but the latter is misleadingly indented as if it were guarded by the 'if'
       if(u0<.5) return y; return -y;
                           ^~~~~~
rand.hh:406:7: warning: this 'if' clause does not guard... [-Wmisleading-indentation]
       if(u0<.5) return y; return -y;
       ^~
rand.hh:406:27: note: ...this statement, but the latter is misleadingly indented as if it were guarded by the 'if'
       if(u0<.5) return y; return -y;
                           ^~~~~~
rand.hh:413:7: warning: this 'if' clause does not guard... [-Wmisleading-indentation]
       if(u0<.5) return y; return -y;
       ^~
rand.hh:413:27: note: ...this statement, but the latter is misleadingly indented as if it were guarded by the 'if'
       if(u0<.5) return y; return -y;
                           ^~~~~~
rand.hh:420:5: warning: this 'if' clause does not guard... [-Wmisleading-indentation]
     if(u0<.5) return y; return -y;
     ^~
rand.hh:420:25: note: ...this statement, but the latter is misleadingly indented as if it were guarded by the 'if'
     if(u0<.5) return y; return -y;
                         ^~~~~~
In file included from C:/Users/BIOCBU~1/BBS-3~1.12-/R/include/R.h:86,
                 from rand.hh:38,
                 from bgx.cc:32:
C:/rtools40/mingw64/include/c++/8.3.0/bits/locale_conv.h: In function 'bool std::__do_str_codecvt(const _InChar*, const _InChar*, _OutStr&, const _Codecvt&, _State&, std::size_t&, _Fn)':
C:/Users/BIOCBU~1/BBS-3~1.12-/R/include/R_ext/Error.h:52:15: error: 'Rf_error' is not a member of 'std::codecvt_base'
 #define error Rf_error
               ^~~~~~~~
C:/rtools40/mingw64/include/c++/8.3.0/bits/locale_conv.h: In member function 'bool std::wbuffer_convert<_Codecvt, _Elem, _Tr>::_M_conv_get()':
C:/Users/BIOCBU~1/BBS-3~1.12-/R/include/R_ext/Error.h:52:15: error: 'Rf_error' is not a member of 'std::codecvt_base'
 #define error Rf_error
               ^~~~~~~~
C:/rtools40/mingw64/include/c++/8.3.0/bits/locale_conv.h: In member function 'bool std::wbuffer_convert<_Codecvt, _Elem, _Tr>::_M_conv_put()':
C:/Users/BIOCBU~1/BBS-3~1.12-/R/include/R_ext/Error.h:52:15: error: 'Rf_error' is not a member of 'std::codecvt_base'
 #define error Rf_error
               ^~~~~~~~
make: *** [C:/Users/BIOCBU~1/BBS-3~1.12-/R/etc/x64/Makeconf:227: bgx.o] Error 1
ERROR: compilation failed for package 'bgx'
* removing 'C:/Users/biocbuild/bbs-3.12-bioc/tmpdir/RtmpYx4t1h/Rinst12fc3bb12e70/bgx'
      -----------------------------------
ERROR: package installation failed