Back to Multiple platform build/check report for BioC 3.12
[A]BCDEFGHIJKLMNOPQRSTUVWXYZ

BUILD report for ACE on malbec1

This page was generated on 2020-08-13 11:20:24 -0400 (Thu, 13 Aug 2020).

TO THE DEVELOPERS/MAINTAINERS OF THE ACE PACKAGE: Please make sure to use the following settings in order to reproduce any error or warning you see on this page.
Package 12/1885HostnameOS / ArchINSTALLBUILDCHECKBUILD BIN
ACE 1.7.0
Jos B Poell
Snapshot Date: 2020-08-12 14:52:00 -0400 (Wed, 12 Aug 2020)
URL: https://git.bioconductor.org/packages/ACE
Branch: master
Last Commit: f89d2ab
Last Changed Date: 2020-04-27 15:18:09 -0400 (Mon, 27 Apr 2020)
malbec1 Linux (Ubuntu 18.04.4 LTS) / x86_64  OK [ OK ] OK UNNEEDED, same version exists in internal repository
nebbiolo1 Linux (Ubuntu 20.04.1 LTS) / x86_64  OK  OK  OK 
tokay1 Windows Server 2012 R2 Standard / x64  OK  OK  OK  OK UNNEEDED, same version exists in internal repository
merida1 macOS 10.14.6 Mojave / x86_64  OK  OK  OK  OK UNNEEDED, same version exists in internal repository

Summary

Package: ACE
Version: 1.7.0
Command: /home/biocbuild/bbs-3.12-bioc/R/bin/R CMD build --keep-empty-dirs --no-resave-data ACE
StartedAt: 2020-08-12 21:45:17 -0400 (Wed, 12 Aug 2020)
EndedAt: 2020-08-12 21:46:18 -0400 (Wed, 12 Aug 2020)
EllapsedTime: 61.4 seconds
RetCode: 0
Status:  OK 
PackageFile: ACE_1.7.0.tar.gz
PackageFileSize: 2.316 MiB

Command output

##############################################################################
##############################################################################
###
### Running command:
###
###   /home/biocbuild/bbs-3.12-bioc/R/bin/R CMD build --keep-empty-dirs --no-resave-data ACE
###
##############################################################################
##############################################################################


* checking for file ‘ACE/DESCRIPTION’ ... OK
* preparing ‘ACE’:
* checking DESCRIPTION meta-information ... OK
* installing the package to build vignettes
* creating vignettes ... OK
* checking for LF line-endings in source and make files and shell scripts
* checking for empty or unneeded directories
* building ‘ACE_1.7.0.tar.gz’