Back to Multiple platform build/check report for BioC 3.12
[A]BCDEFGHIJKLMNOPQRSTUVWXYZ

BUILD report for antiProfiles on malbec1

This page was generated on 2020-08-07 11:19:21 -0400 (Fri, 07 Aug 2020).

TO THE DEVELOPERS/MAINTAINERS OF THE antiProfiles PACKAGE: Please make sure to use the following settings in order to reproduce any error or warning you see on this page.
Package 68/1882HostnameOS / ArchINSTALLBUILDCHECKBUILD BIN
antiProfiles 1.29.0
Hector Corrada Bravo
Snapshot Date: 2020-08-06 14:50:46 -0400 (Thu, 06 Aug 2020)
URL: https://git.bioconductor.org/packages/antiProfiles
Branch: master
Last Commit: d37e7c1
Last Changed Date: 2020-04-27 14:34:13 -0400 (Mon, 27 Apr 2020)
malbec1 Linux (Ubuntu 18.04.4 LTS) / x86_64  OK [ OK ] OK UNNEEDED, same version exists in internal repository
tokay1 Windows Server 2012 R2 Standard / x64  OK  OK  OK  OK UNNEEDED, same version exists in internal repository
merida1 macOS 10.14.6 Mojave / x86_64  OK  OK  OK  OK UNNEEDED, same version exists in internal repository

Summary

Package: antiProfiles
Version: 1.29.0
Command: /home/biocbuild/bbs-3.12-bioc/R/bin/R CMD build --keep-empty-dirs --no-resave-data antiProfiles
StartedAt: 2020-08-06 18:31:45 -0400 (Thu, 06 Aug 2020)
EndedAt: 2020-08-06 18:31:51 -0400 (Thu, 06 Aug 2020)
EllapsedTime: 6.1 seconds
RetCode: 0
Status:  OK 
PackageFile: antiProfiles_1.29.0.tar.gz
PackageFileSize: 121.7 KiB

Command output

##############################################################################
##############################################################################
###
### Running command:
###
###   /home/biocbuild/bbs-3.12-bioc/R/bin/R CMD build --keep-empty-dirs --no-resave-data antiProfiles
###
##############################################################################
##############################################################################


* checking for file ‘antiProfiles/DESCRIPTION’ ... OK
* preparing ‘antiProfiles’:
* checking DESCRIPTION meta-information ... OK
* installing the package to build vignettes
* creating vignettes ... OK
* checking for LF line-endings in source and make files and shell scripts
* checking for empty or unneeded directories
* building ‘antiProfiles_1.29.0.tar.gz’