Back to Multiple platform build/check report for BioC 3.12
A[B]CDEFGHIJKLMNOPQRSTUVWXYZ

BUILD report for BAGS on tokay1

This page was generated on 2020-08-11 11:38:41 -0400 (Tue, 11 Aug 2020).

TO THE DEVELOPERS/MAINTAINERS OF THE BAGS PACKAGE: Please make sure to use the following settings in order to reproduce any error or warning you see on this page.
Package 104/1885HostnameOS / ArchINSTALLBUILDCHECKBUILD BIN
BAGS 2.29.0
Alejandro Quiroz-Zarate
Snapshot Date: 2020-08-10 14:50:56 -0400 (Mon, 10 Aug 2020)
URL: https://git.bioconductor.org/packages/BAGS
Branch: master
Last Commit: 171d9d5
Last Changed Date: 2020-04-27 14:28:21 -0400 (Mon, 27 Apr 2020)
malbec1 Linux (Ubuntu 18.04.4 LTS) / x86_64  OK  OK  OK UNNEEDED, same version exists in internal repository
nebbiolo1 Linux (Ubuntu 20.04.1 LTS) / x86_64  OK  OK  NA 
tokay1 Windows Server 2012 R2 Standard / x64  OK [ OK ] OK  OK UNNEEDED, same version exists in internal repository
merida1 macOS 10.14.6 Mojave / x86_64  OK  OK  OK  OK UNNEEDED, same version exists in internal repository

Summary

Package: BAGS
Version: 2.29.0
Command: chmod a+r BAGS -R && C:\Users\biocbuild\bbs-3.12-bioc\R\bin\R.exe CMD build --keep-empty-dirs --no-resave-data BAGS
StartedAt: 2020-08-10 19:42:45 -0400 (Mon, 10 Aug 2020)
EndedAt: 2020-08-10 19:43:41 -0400 (Mon, 10 Aug 2020)
EllapsedTime: 55.5 seconds
RetCode: 0
Status:  OK  
PackageFile: BAGS_2.29.0.tar.gz
PackageFileSize: 240.9 KiB

Command output

##############################################################################
##############################################################################
###
### Running command:
###
###   chmod a+r BAGS -R && C:\Users\biocbuild\bbs-3.12-bioc\R\bin\R.exe CMD build --keep-empty-dirs --no-resave-data BAGS
###
##############################################################################
##############################################################################


* checking for file 'BAGS/DESCRIPTION' ... OK
* preparing 'BAGS':
* checking DESCRIPTION meta-information ... OK
* cleaning src
* installing the package to build vignettes
* creating vignettes ... OK
* cleaning src
* checking for LF line-endings in source and make files and shell scripts
* checking for empty or unneeded directories
* looking to see if a 'data/datalist' file should be added
* building 'BAGS_2.29.0.tar.gz'