Back to Multiple platform build/check report for BioC 3.12
[A]BCDEFGHIJKLMNOPQRSTUVWXYZ

INSTALL report for adaptest on malbec1

This page was generated on 2020-08-06 11:42:49 -0400 (Thu, 06 Aug 2020).

TO THE DEVELOPERS/MAINTAINERS OF THE adaptest PACKAGE: Please make sure to use the following settings in order to reproduce any error or warning you see on this page.
Package 18/1882HostnameOS / ArchINSTALLBUILDCHECKBUILD BIN
adaptest 1.9.1
Weixin Cai
Snapshot Date: 2020-08-05 14:50:59 -0400 (Wed, 05 Aug 2020)
URL: https://git.bioconductor.org/packages/adaptest
Branch: master
Last Commit: 12ef0c6
Last Changed Date: 2020-06-08 10:39:09 -0400 (Mon, 08 Jun 2020)
malbec1 Linux (Ubuntu 18.04.4 LTS) / x86_64 [ ERROR ] ERROR  skipped 
tokay1 Windows Server 2012 R2 Standard / x64  ERROR  ERROR  skipped  skipped 
merida1 macOS 10.14.6 Mojave / x86_64  ERROR  ERROR  skipped  skipped 

Summary

Package: adaptest
Version: 1.9.1
Command: /home/biocbuild/bbs-3.12-bioc/R/bin/R CMD INSTALL adaptest
StartedAt: 2020-08-05 16:25:36 -0400 (Wed, 05 Aug 2020)
EndedAt: 2020-08-05 16:25:49 -0400 (Wed, 05 Aug 2020)
EllapsedTime: 13.8 seconds
RetCode: 1
Status:  ERROR 

Command output

##############################################################################
##############################################################################
###
### Running command:
###
###   /home/biocbuild/bbs-3.12-bioc/R/bin/R CMD INSTALL adaptest
###
##############################################################################
##############################################################################


* installing to library ‘/home/biocbuild/bbs-3.12-bioc/R/library’
* installing *source* package ‘adaptest’ ...
** using staged installation
** R
** data
*** moving datasets to lazyload DB
** inst
** byte-compile and prepare package for lazy loading
** help
*** installing help indices
** building package indices
** installing vignettes
** testing if installed package can be loaded from temporary location
Error: package or namespace load failed for ‘adaptest’:
 .onAttach failed in attachNamespace() for 'adaptest', details:
  call: sprintf("Package '%s' is deprecated and will be removed from Bioconductor\n         version %s", 
  error: object 'pkgname' not found
Error: loading failed
Execution halted
ERROR: loading failed
* removing ‘/home/biocbuild/bbs-3.12-bioc/R/library/adaptest’