Back to Multiple platform build/check report for BioC 3.12
[A]BCDEFGHIJKLMNOPQRSTUVWXYZ

INSTALL report for ASICS on tokay1

This page was generated on 2020-08-06 12:07:08 -0400 (Thu, 06 Aug 2020).

TO THE DEVELOPERS/MAINTAINERS OF THE ASICS PACKAGE: Please make sure to use the following settings in order to reproduce any error or warning you see on this page.
Package 87/1882HostnameOS / ArchINSTALLBUILDCHECKBUILD BIN
ASICS 2.5.3
Gaƫlle Lefort
Snapshot Date: 2020-08-05 14:50:59 -0400 (Wed, 05 Aug 2020)
URL: https://git.bioconductor.org/packages/ASICS
Branch: master
Last Commit: 6bc5327
Last Changed Date: 2020-07-20 02:38:28 -0400 (Mon, 20 Jul 2020)
malbec1 Linux (Ubuntu 18.04.4 LTS) / x86_64  OK  OK  WARNINGS UNNEEDED, same version exists in internal repository
tokay1 Windows Server 2012 R2 Standard / x64 [ OK ] OK  WARNINGS  OK UNNEEDED, same version exists in internal repository
merida1 macOS 10.14.6 Mojave / x86_64  OK  OK  WARNINGS  OK UNNEEDED, same version exists in internal repository

Summary

Package: ASICS
Version: 2.5.3
Command: C:\cygwin\bin\curl.exe -O https://malbec1.bioconductor.org/BBS/3.12/bioc/src/contrib/ASICS_2.5.3.tar.gz && rm -rf ASICS.buildbin-libdir && mkdir ASICS.buildbin-libdir && C:\Users\biocbuild\bbs-3.12-bioc\R\bin\R.exe CMD INSTALL --merge-multiarch --build --library=ASICS.buildbin-libdir ASICS_2.5.3.tar.gz && C:\Users\biocbuild\bbs-3.12-bioc\R\bin\R.exe CMD INSTALL ASICS_2.5.3.zip && rm ASICS_2.5.3.tar.gz ASICS_2.5.3.zip
StartedAt: 2020-08-05 18:07:35 -0400 (Wed, 05 Aug 2020)
EndedAt: 2020-08-05 18:08:55 -0400 (Wed, 05 Aug 2020)
EllapsedTime: 80.2 seconds
RetCode: 0
Status:  OK  

Command output

##############################################################################
##############################################################################
###
### Running command:
###
###   C:\cygwin\bin\curl.exe -O https://malbec1.bioconductor.org/BBS/3.12/bioc/src/contrib/ASICS_2.5.3.tar.gz && rm -rf ASICS.buildbin-libdir && mkdir ASICS.buildbin-libdir && C:\Users\biocbuild\bbs-3.12-bioc\R\bin\R.exe CMD INSTALL --merge-multiarch --build --library=ASICS.buildbin-libdir ASICS_2.5.3.tar.gz && C:\Users\biocbuild\bbs-3.12-bioc\R\bin\R.exe CMD INSTALL ASICS_2.5.3.zip && rm ASICS_2.5.3.tar.gz ASICS_2.5.3.zip
###
##############################################################################
##############################################################################


  % Total    % Received % Xferd  Average Speed   Time    Time     Time  Current
                                 Dload  Upload   Total   Spent    Left  Speed

  0     0    0     0    0     0      0      0 --:--:-- --:--:-- --:--:--     0
100 3613k  100 3613k    0     0  41.8M      0 --:--:-- --:--:-- --:--:-- 44.6M

install for i386

* installing *source* package 'ASICS' ...
** using staged installation
** R
** data
*** moving datasets to lazyload DB
** inst
** byte-compile and prepare package for lazy loading
** help
*** installing help indices
  converting help for package 'ASICS'
    finding HTML links ... done
    ASICS                                   html  
    ASICSResults-class                      html  
    ASICSUsersGuide                         html  
    AnalysisResults-class                   html  
    finding level-2 HTML links ... done

    PureLibrary-class                       html  
    Spectra-class                           html  
    accessors-methods                       html  
    alignSpectra                            html  
    binning                                 html  
    combineAndSubset-methods                html  
    createPureLibrary                       html  
    createSpectra                           html  
    formatForAnalysis                       html  
    importSpectra                           html  
    importSpectraBruker                     html  
    kruskalWallis                           html  
    normaliseSpectra                        html  
    oplsda                                  html  
    pca                                     html  
    plotAlignment                           html  
    pure_library                            html  
    summary-methods                         html  
    visualisation-methods-analyses          html  
    visualisation-methods-spectra           html  
** building package indices
** installing vignettes
   'ASICS.Rmd' using 'UTF-8' 
   'ASICSUsersGuide.Rmd' using 'UTF-8' 
** testing if installed package can be loaded from temporary location
** testing if installed package can be loaded from final location
** testing if installed package keeps a record of temporary installation path

install for x64

* installing *source* package 'ASICS' ...
** testing if installed package can be loaded
* MD5 sums
packaged installation of 'ASICS' as ASICS_2.5.3.zip
* DONE (ASICS)
* installing to library 'C:/Users/biocbuild/bbs-3.12-bioc/R/library'
package 'ASICS' successfully unpacked and MD5 sums checked