Back to Multiple platform build/check report for BioC 3.12
ABCDEFGH[I]JKLMNOPQRSTUVWXYZ

Multiple platform build/check report for BioC 3.12

Results for ImpulseDE2

This page was generated on 2020-10-27 11:49:35 -0400 (Tue, 27 Oct 2020).

Package 890/1974HostnameOS / ArchINSTALLBUILDCHECKBUILD BIN
ImpulseDE2 1.13.1
David S Fischer
Snapshot Date: 2020-10-26 14:42:55 -0400 (Mon, 26 Oct 2020)
URL: https://git.bioconductor.org/packages/ImpulseDE2
Branch: master
Last Commit: 0883aa9
Last Changed Date: 2020-06-08 10:46:57 -0400 (Mon, 08 Jun 2020)
malbec1 Linux (Ubuntu 18.04.4 LTS) / x86_64  OK  OK  ERROR 
nebbiolo1 Linux (Ubuntu 20.04.1 LTS) / x86_64  OK  OK  ERROR 
tokay1 Windows Server 2012 R2 Standard / x64  OK  OK  ERROR  OK 
riesling1 Windows Server 2019 Standard / x64  OK  OK  ERROR  OK 
merida1 macOS 10.14.6 Mojave / x86_64  OK  OK  ERROR  OK