Back to Multiple platform build/check report for BioC 3.12
[A]BCDEFGHIJKLMNOPQRSTUVWXYZ

BUILD report for acde on tokay1

This page was generated on 2020-08-14 11:00:40 -0400 (Fri, 14 Aug 2020).

TO THE DEVELOPERS/MAINTAINERS OF THE acde PACKAGE: Please make sure to use the following settings in order to reproduce any error or warning you see on this page.
Package 11/1889HostnameOS / ArchINSTALLBUILDCHECKBUILD BIN
acde 1.19.0
Juan Pablo Acosta
Snapshot Date: 2020-08-13 14:54:37 -0400 (Thu, 13 Aug 2020)
URL: https://git.bioconductor.org/packages/acde
Branch: master
Last Commit: b0efcae
Last Changed Date: 2020-04-27 14:49:17 -0400 (Mon, 27 Apr 2020)
malbec1 Linux (Ubuntu 18.04.4 LTS) / x86_64  OK  OK  OK UNNEEDED, same version exists in internal repository
nebbiolo1 Linux (Ubuntu 20.04.1 LTS) / x86_64  OK  OK  OK 
tokay1 Windows Server 2012 R2 Standard / x64  OK [ OK ] OK  OK UNNEEDED, same version exists in internal repository
merida1 macOS 10.14.6 Mojave / x86_64  OK  OK  OK  OK UNNEEDED, same version exists in internal repository

Summary

Package: acde
Version: 1.19.0
Command: chmod a+r acde -R && C:\Users\biocbuild\bbs-3.12-bioc\R\bin\R.exe CMD build --keep-empty-dirs --no-resave-data acde
StartedAt: 2020-08-13 20:42:08 -0400 (Thu, 13 Aug 2020)
EndedAt: 2020-08-13 20:42:53 -0400 (Thu, 13 Aug 2020)
EllapsedTime: 45.6 seconds
RetCode: 0
Status:  OK  
PackageFile: acde_1.19.0.tar.gz
PackageFileSize: 8.711 MiB

Command output

##############################################################################
##############################################################################
###
### Running command:
###
###   chmod a+r acde -R && C:\Users\biocbuild\bbs-3.12-bioc\R\bin\R.exe CMD build --keep-empty-dirs --no-resave-data acde
###
##############################################################################
##############################################################################


* checking for file 'acde/DESCRIPTION' ... OK
* preparing 'acde':
* checking DESCRIPTION meta-information ... OK
* installing the package to build vignettes
* creating vignettes ... OK
* checking for LF line-endings in source and make files and shell scripts
* checking for empty or unneeded directories
* building 'acde_1.19.0.tar.gz'