Back to Multiple platform build/check report for BioC 3.12
AB[C]DEFGHIJKLMNOPQRSTUVWXYZ

BUILD report for ChIPanalyser on tokay1

This page was generated on 2020-08-10 12:23:10 -0400 (Mon, 10 Aug 2020).

TO THE DEVELOPERS/MAINTAINERS OF THE ChIPanalyser PACKAGE: Please make sure to use the following settings in order to reproduce any error or warning you see on this page.
Package 270/1882HostnameOS / ArchINSTALLBUILDCHECKBUILD BIN
ChIPanalyser 1.11.0
Patrick C.N. Martin
Snapshot Date: 2020-08-09 14:51:29 -0400 (Sun, 09 Aug 2020)
URL: https://git.bioconductor.org/packages/ChIPanalyser
Branch: master
Last Commit: e6bd584
Last Changed Date: 2020-04-27 15:09:59 -0400 (Mon, 27 Apr 2020)
malbec1 Linux (Ubuntu 18.04.4 LTS) / x86_64  OK  OK  OK UNNEEDED, same version exists in internal repository
nebbiolo1 Linux (Ubuntu 20.04.1 LTS) / x86_64  OK  OK  OK 
tokay1 Windows Server 2012 R2 Standard / x64  OK [ OK ] WARNINGS  OK UNNEEDED, same version exists in internal repository
merida1 macOS 10.14.6 Mojave / x86_64  OK  OK  OK  OK UNNEEDED, same version exists in internal repository

Summary

Package: ChIPanalyser
Version: 1.11.0
Command: chmod a+r ChIPanalyser -R && C:\Users\biocbuild\bbs-3.12-bioc\R\bin\R.exe CMD build --keep-empty-dirs --no-resave-data ChIPanalyser
StartedAt: 2020-08-09 21:48:25 -0400 (Sun, 09 Aug 2020)
EndedAt: 2020-08-09 21:53:38 -0400 (Sun, 09 Aug 2020)
EllapsedTime: 313.4 seconds
RetCode: 0
Status:  OK  
PackageFile: ChIPanalyser_1.11.0.tar.gz
PackageFileSize: 558 KiB

Command output

##############################################################################
##############################################################################
###
### Running command:
###
###   chmod a+r ChIPanalyser -R && C:\Users\biocbuild\bbs-3.12-bioc\R\bin\R.exe CMD build --keep-empty-dirs --no-resave-data ChIPanalyser
###
##############################################################################
##############################################################################


* checking for file 'ChIPanalyser/DESCRIPTION' ... OK
* preparing 'ChIPanalyser':
* checking DESCRIPTION meta-information ... OK
* installing the package to process help pages
* saving partial Rd database
* creating vignettes ... OK
* checking for LF line-endings in source and make files and shell scripts
* checking for empty or unneeded directories
* building 'ChIPanalyser_1.11.0.tar.gz'