Back to Multiple platform build/check report for BioC 3.12
A[B]CDEFGHIJKLMNOPQRSTUVWXYZ

CHECK report for bayNorm on malbec1

This page was generated on 2020-08-07 11:39:01 -0400 (Fri, 07 Aug 2020).

TO THE DEVELOPERS/MAINTAINERS OF THE bayNorm PACKAGE: Please make sure to use the following settings in order to reproduce any error or warning you see on this page.
Package 119/1882HostnameOS / ArchINSTALLBUILDCHECKBUILD BIN
bayNorm 1.7.0
Wenhao Tang
Snapshot Date: 2020-08-06 14:50:46 -0400 (Thu, 06 Aug 2020)
URL: https://git.bioconductor.org/packages/bayNorm
Branch: master
Last Commit: c97943c
Last Changed Date: 2020-04-27 15:20:24 -0400 (Mon, 27 Apr 2020)
malbec1 Linux (Ubuntu 18.04.4 LTS) / x86_64  OK  OK [ OK ]UNNEEDED, same version exists in internal repository
tokay1 Windows Server 2012 R2 Standard / x64  OK  OK  OK  OK UNNEEDED, same version exists in internal repository
merida1 macOS 10.14.6 Mojave / x86_64  OK  OK  OK  OK UNNEEDED, same version exists in internal repository

Summary

Package: bayNorm
Version: 1.7.0
Command: /home/biocbuild/bbs-3.12-bioc/R/bin/R CMD check --install=check:bayNorm.install-out.txt --library=/home/biocbuild/bbs-3.12-bioc/R/library --no-vignettes --timings bayNorm_1.7.0.tar.gz
StartedAt: 2020-08-07 04:14:55 -0400 (Fri, 07 Aug 2020)
EndedAt: 2020-08-07 04:17:38 -0400 (Fri, 07 Aug 2020)
EllapsedTime: 163.4 seconds
RetCode: 0
Status:  OK 
CheckDir: bayNorm.Rcheck
Warnings: 0

Command output

##############################################################################
##############################################################################
###
### Running command:
###
###   /home/biocbuild/bbs-3.12-bioc/R/bin/R CMD check --install=check:bayNorm.install-out.txt --library=/home/biocbuild/bbs-3.12-bioc/R/library --no-vignettes --timings bayNorm_1.7.0.tar.gz
###
##############################################################################
##############################################################################


* using log directory ‘/home/biocbuild/bbs-3.12-bioc/meat/bayNorm.Rcheck’
* using R version 4.0.2 (2020-06-22)
* using platform: x86_64-pc-linux-gnu (64-bit)
* using session charset: UTF-8
* using option ‘--no-vignettes’
* checking for file ‘bayNorm/DESCRIPTION’ ... OK
* checking extension type ... Package
* this is package ‘bayNorm’ version ‘1.7.0’
* package encoding: UTF-8
* checking package namespace information ... OK
* checking package dependencies ... OK
* checking if this is a source package ... OK
* checking if there is a namespace ... OK
* checking for hidden files and directories ... OK
* checking for portable file names ... OK
* checking for sufficient/correct file permissions ... OK
* checking whether package ‘bayNorm’ can be installed ... OK
* checking installed package size ... OK
* checking package directory ... OK
* checking ‘build’ directory ... OK
* checking DESCRIPTION meta-information ... OK
* checking top-level files ... OK
* checking for left-over files ... OK
* checking index information ... OK
* checking package subdirectories ... OK
* checking R files for non-ASCII characters ... OK
* checking R files for syntax errors ... OK
* checking whether the package can be loaded ... OK
* checking whether the package can be loaded with stated dependencies ... OK
* checking whether the package can be unloaded cleanly ... OK
* checking whether the namespace can be loaded with stated dependencies ... OK
* checking whether the namespace can be unloaded cleanly ... OK
* checking dependencies in R code ... OK
* checking S3 generic/method consistency ... OK
* checking replacement functions ... OK
* checking foreign function calls ... OK
* checking R code for possible problems ... OK
* checking Rd files ... OK
* checking Rd metadata ... OK
* checking Rd cross-references ... OK
* checking for missing documentation entries ... OK
* checking for code/documentation mismatches ... OK
* checking Rd \usage sections ... OK
* checking Rd contents ... OK
* checking for unstated dependencies in examples ... OK
* checking contents of ‘data’ directory ... OK
* checking data for non-ASCII characters ... OK
* checking data for ASCII and uncompressed saves ... OK
* checking line endings in C/C++/Fortran sources/headers ... OK
* checking line endings in Makefiles ... OK
* checking compilation flags in Makevars ... OK
* checking for GNU extensions in Makefiles ... OK
* checking for portable use of $(BLAS_LIBS) and $(LAPACK_LIBS) ... OK
* checking use of PKG_*FLAGS in Makefiles ... OK
* checking compiled code ... NOTE
Note: information on .o files is not available
* checking files in ‘vignettes’ ... OK
* checking examples ... OK
* checking for unstated dependencies in ‘tests’ ... OK
* checking tests ...
  Running ‘testthat.R’
 OK
* checking for unstated dependencies in vignettes ... OK
* checking package vignettes in ‘inst/doc’ ... OK
* checking running R code from vignettes ... SKIPPED
* checking re-building of vignette outputs ... SKIPPED
* checking PDF version of manual ... OK
* DONE

Status: 1 NOTE
See
  ‘/home/biocbuild/bbs-3.12-bioc/meat/bayNorm.Rcheck/00check.log’
for details.



Installation output

bayNorm.Rcheck/00install.out

##############################################################################
##############################################################################
###
### Running command:
###
###   /home/biocbuild/bbs-3.12-bioc/R/bin/R CMD INSTALL bayNorm
###
##############################################################################
##############################################################################


* installing to library ‘/home/biocbuild/bbs-3.12-bioc/R/library’
* installing *source* package ‘bayNorm’ ...
** using staged installation
** libs
g++ -std=gnu++11 -I"/home/biocbuild/bbs-3.12-bioc/R/include" -DNDEBUG -DARMA_64BIT_WORD=1  -I'/home/biocbuild/bbs-3.12-bioc/R/library/Rcpp/include' -I'/home/biocbuild/bbs-3.12-bioc/R/library/RcppArmadillo/include' -I'/home/biocbuild/bbs-3.12-bioc/R/library/RcppProgress/include' -I/usr/local/include  -fopenmp  -fpic  -g -O2  -Wall -c RcppExports.cpp -o RcppExports.o
g++ -std=gnu++11 -I"/home/biocbuild/bbs-3.12-bioc/R/include" -DNDEBUG -DARMA_64BIT_WORD=1  -I'/home/biocbuild/bbs-3.12-bioc/R/library/Rcpp/include' -I'/home/biocbuild/bbs-3.12-bioc/R/library/RcppArmadillo/include' -I'/home/biocbuild/bbs-3.12-bioc/R/library/RcppProgress/include' -I/usr/local/include  -fopenmp  -fpic  -g -O2  -Wall -c bayNorm_main.cpp -o bayNorm_main.o
bayNorm_main.cpp: In function ‘Rcpp::List EstPrior_sprcpp(arma::sp_mat)’:
bayNorm_main.cpp:1374:7: warning: variable ‘Nrows’ set but not used [-Wunused-but-set-variable]
   int Nrows;
       ^~~~~
bayNorm_main.cpp: In function ‘Rcpp::List EstPrior_rcpp(Rcpp::NumericMatrix)’:
bayNorm_main.cpp:1427:7: warning: variable ‘Nrows’ set but not used [-Wunused-but-set-variable]
   int Nrows;
       ^~~~~
g++ -std=gnu++11 -shared -L/home/biocbuild/bbs-3.12-bioc/R/lib -L/usr/local/lib -o bayNorm.so RcppExports.o bayNorm_main.o -fopenmp -L/home/biocbuild/bbs-3.12-bioc/R/lib -lRlapack -L/home/biocbuild/bbs-3.12-bioc/R/lib -lRblas -lgfortran -lm -lquadmath -L/home/biocbuild/bbs-3.12-bioc/R/lib -lR
installing to /home/biocbuild/bbs-3.12-bioc/R/library/00LOCK-bayNorm/00new/bayNorm/libs
** R
** data
** inst
** byte-compile and prepare package for lazy loading
** help
*** installing help indices
** building package indices
** installing vignettes
** testing if installed package can be loaded from temporary location
** checking absolute paths in shared objects and dynamic libraries
** testing if installed package can be loaded from final location
** testing if installed package keeps a record of temporary installation path
* DONE (bayNorm)

Tests output

bayNorm.Rcheck/tests/testthat.Rout


R version 4.0.2 (2020-06-22) -- "Taking Off Again"
Copyright (C) 2020 The R Foundation for Statistical Computing
Platform: x86_64-pc-linux-gnu (64-bit)

R is free software and comes with ABSOLUTELY NO WARRANTY.
You are welcome to redistribute it under certain conditions.
Type 'license()' or 'licence()' for distribution details.

R is a collaborative project with many contributors.
Type 'contributors()' for more information and
'citation()' on how to cite R or R packages in publications.

Type 'demo()' for some demos, 'help()' for on-line help, or
'help.start()' for an HTML browser interface to help.
Type 'q()' to quit R.

> library(testthat)
> library(bayNorm)
> 
> test_check("bayNorm")

  |                                                                            
  |                                                                      |   0%
  |                                                                            
  |=======                                                               |  10%
  |                                                                            
  |==============                                                        |  20%
  |                                                                            
  |=====================                                                 |  30%
  |                                                                            
  |============================                                          |  40%
  |                                                                            
  |===================================                                   |  50%
  |                                                                            
  |==========================================                            |  60%
  |                                                                            
  |=================================================                     |  70%
  |                                                                            
  |========================================================              |  80%
  |                                                                            
  |===============================================================       |  90%
  |                                                                            
  |======================================================================| 100%
0%   10   20   30   40   50   60   70   80   90   100%
[----|----|----|----|----|----|----|----|----|----|
**************************************************|

  |                                                                            
  |                                                                      |   0%
  |                                                                            
  |=======                                                               |  10%
  |                                                                            
  |==============                                                        |  20%
  |                                                                            
  |=====================                                                 |  30%
  |                                                                            
  |============================                                          |  40%
  |                                                                            
  |===================================                                   |  50%
  |                                                                            
  |==========================================                            |  60%
  |                                                                            
  |=================================================                     |  70%
  |                                                                            
  |========================================================              |  80%
  |                                                                            
  |===============================================================       |  90%
  |                                                                            
  |======================================================================| 100%
0%   10   20   30   40   50   60   70   80   90   100%
[----|----|----|----|----|----|----|----|----|----|
**************************************************|

  |                                                                            
  |                                                                      |   0%
  |                                                                            
  |=======                                                               |  10%
  |                                                                            
  |==============                                                        |  20%
  |                                                                            
  |=====================                                                 |  30%
  |                                                                            
  |============================                                          |  40%
  |                                                                            
  |===================================                                   |  50%
  |                                                                            
  |==========================================                            |  60%
  |                                                                            
  |=================================================                     |  70%
  |                                                                            
  |========================================================              |  80%
  |                                                                            
  |===============================================================       |  90%
  |                                                                            
  |======================================================================| 100%
0%   10   20   30   40   50   60   70   80   90   100%
[----|----|----|----|----|----|----|----|----|----|
**************************************************|
0%   10   20   30   40   50   60   70   80   90   100%
[----|----|----|----|----|----|----|----|----|----|
**************************************************|
══ testthat results  ═══════════════════════════════════════════════════════════
[ OK: 2 | SKIPPED: 0 | WARNINGS: 0 | FAILED: 0 ]
> 
> proc.time()
   user  system elapsed 
 10.452   0.296  10.756 

Example timings

bayNorm.Rcheck/bayNorm-Ex.timings

nameusersystemelapsed
AdjustSIZE_fun0.0120.0000.013
BB_Fun0.1480.0040.477
BetaFun0.0520.0000.054
Check_input0.0120.0000.013
DownSampling0.0000.0040.003
EXAMPLE_DATA_list0.0040.0000.002
EstPrior0.0000.0040.005
EstPrior_rcpp0.0040.0000.003
EstPrior_sprcpp0.0040.0000.003
NOISY_FUN0.2640.0000.264
Prior_fun0.0920.0080.103
SyntheticControl0.0040.0040.008
asMatrix0.0000.0000.002
as_matrix0.0040.0000.003
bayNorm0.1040.0080.112
bayNorm_sup0.1120.0040.115
noisy_gene_detection0.2040.0040.207
t_sp0.0040.0000.003