Back to Multiple platform build/check report for BioC 3.12
[A]BCDEFGHIJKLMNOPQRSTUVWXYZ

BUILD BIN report for artMS on merida1

This page was generated on 2020-10-12 12:17:42 -0400 (Mon, 12 Oct 2020).

TO THE DEVELOPERS/MAINTAINERS OF THE artMS PACKAGE: Please make sure to use the following settings in order to reproduce any error or warning you see on this page.
Package 85/1930HostnameOS / ArchINSTALLBUILDCHECKBUILD BIN
artMS 1.7.5
David Jimenez-Morales
Snapshot Date: 2020-10-11 14:41:46 -0400 (Sun, 11 Oct 2020)
URL: https://git.bioconductor.org/packages/artMS
Branch: master
Last Commit: 4ab9bd7
Last Changed Date: 2020-05-21 01:16:54 -0400 (Thu, 21 May 2020)
malbec1 Linux (Ubuntu 18.04.4 LTS) / x86_64  OK  OK  WARNINGS UNNEEDED, same version exists in internal repository
nebbiolo1 Linux (Ubuntu 20.04.1 LTS) / x86_64  OK  OK  WARNINGS 
tokay1 Windows Server 2012 R2 Standard / x64  OK  OK  WARNINGS  OK UNNEEDED, same version exists in internal repository
riesling1 Windows Server 2019 Standard / x64  OK  OK  WARNINGS  OK 
merida1 macOS 10.14.6 Mojave / x86_64  OK  OK  WARNINGS [ OK ]UNNEEDED, same version exists in internal repository

Summary

Package: artMS
Version: 1.7.5
Command: rm -rf artMS.buildbin-libdir && mkdir artMS.buildbin-libdir && /Users/biocbuild/BBS/utils/build-universal.sh artMS_1.7.5.tar.gz /Library/Frameworks/R.framework/Versions/Current/Resources/bin/R artMS.buildbin-libdir
StartedAt: 2020-10-12 09:58:37 -0400 (Mon, 12 Oct 2020)
EndedAt: 2020-10-12 09:59:33 -0400 (Mon, 12 Oct 2020)
EllapsedTime: 56.8 seconds
RetCode: 0
Status:  OK 
PackageFile: artMS_1.7.5.tgz
PackageFileSize: 6.815 MiB

Command output

##############################################################################
##############################################################################
###
### Running command:
###
###   rm -rf artMS.buildbin-libdir && mkdir artMS.buildbin-libdir && /Users/biocbuild/BBS/utils/build-universal.sh artMS_1.7.5.tar.gz /Library/Frameworks/R.framework/Versions/Current/Resources/bin/R artMS.buildbin-libdir
###
##############################################################################
##############################################################################


>>>>>>> 
>>>>>>> INSTALLATION WITH 'R CMD INSTALL --preclean --no-multiarch --library=artMS.buildbin-libdir artMS_1.7.5.tar.gz'
>>>>>>> 

* installing *source* package ‘artMS’ ...
** using staged installation
** R
** data
*** moving datasets to lazyload DB
** inst
** byte-compile and prepare package for lazy loading
Warning: replacing previous import ‘ComplexHeatmap::pheatmap’ by ‘pheatmap::pheatmap’ when loading ‘artMS’
** help
*** installing help indices
** building package indices
** installing vignettes
** testing if installed package can be loaded from temporary location
Warning: replacing previous import ‘ComplexHeatmap::pheatmap’ by ‘pheatmap::pheatmap’ when loading ‘artMS’
** testing if installed package can be loaded from final location
Warning: replacing previous import ‘ComplexHeatmap::pheatmap’ by ‘pheatmap::pheatmap’ when loading ‘artMS’
** testing if installed package keeps a record of temporary installation path
* DONE (artMS)