Back to Multiple platform build/check report for BioC 3.12
[A]BCDEFGHIJKLMNOPQRSTUVWXYZ

BUILD BIN report for adSplit on merida1

This page was generated on 2020-08-10 12:30:19 -0400 (Mon, 10 Aug 2020).

TO THE DEVELOPERS/MAINTAINERS OF THE adSplit PACKAGE: Please make sure to use the following settings in order to reproduce any error or warning you see on this page.
Package 20/1882HostnameOS / ArchINSTALLBUILDCHECKBUILD BIN
adSplit 1.59.0
Claudio Lottaz
Snapshot Date: 2020-08-09 14:51:29 -0400 (Sun, 09 Aug 2020)
URL: https://git.bioconductor.org/packages/adSplit
Branch: master
Last Commit: 4069672
Last Changed Date: 2020-06-05 04:09:27 -0400 (Fri, 05 Jun 2020)
malbec1 Linux (Ubuntu 18.04.4 LTS) / x86_64  OK  OK  WARNINGS UNNEEDED, same version exists in internal repository
nebbiolo1 Linux (Ubuntu 20.04.1 LTS) / x86_64  OK  OK  WARNINGS 
tokay1 Windows Server 2012 R2 Standard / x64  OK  OK  WARNINGS  OK UNNEEDED, same version exists in internal repository
merida1 macOS 10.14.6 Mojave / x86_64  OK  OK  WARNINGS [ OK ]UNNEEDED, same version exists in internal repository

Summary

Package: adSplit
Version: 1.59.0
Command: rm -rf adSplit.buildbin-libdir && mkdir adSplit.buildbin-libdir && /Users/biocbuild/BBS/utils/build-universal.sh adSplit_1.59.0.tar.gz /Library/Frameworks/R.framework/Versions/Current/Resources/bin/R adSplit.buildbin-libdir
StartedAt: 2020-08-10 05:56:48 -0400 (Mon, 10 Aug 2020)
EndedAt: 2020-08-10 05:57:51 -0400 (Mon, 10 Aug 2020)
EllapsedTime: 63.5 seconds
RetCode: 0
Status:  OK 
PackageFile: adSplit_1.59.0.tgz
PackageFileSize: 341.9 KiB

Command output

##############################################################################
##############################################################################
###
### Running command:
###
###   rm -rf adSplit.buildbin-libdir && mkdir adSplit.buildbin-libdir && /Users/biocbuild/BBS/utils/build-universal.sh adSplit_1.59.0.tar.gz /Library/Frameworks/R.framework/Versions/Current/Resources/bin/R adSplit.buildbin-libdir
###
##############################################################################
##############################################################################


>>>>>>> 
>>>>>>> INSTALLATION WITH 'R CMD INSTALL --preclean --no-multiarch --library=adSplit.buildbin-libdir adSplit_1.59.0.tar.gz'
>>>>>>> 

* installing *source* package ‘adSplit’ ...
** using staged installation
** libs
clang++ -mmacosx-version-min=10.13 -std=gnu++11 -I"/Library/Frameworks/R.framework/Resources/include" -DNDEBUG   -I/usr/local/include   -fPIC  -Wall -g -O2  -c adSplit.cpp -o adSplit.o
adSplit.cpp:256:28: warning: ISO C++11 does not allow conversion from string literal to 'char *' [-Wwritable-strings]
    throw Tomato(__LINE__, "tscore: internal error, shame on the programmer");
                           ^
adSplit.cpp:469:30: warning: ISO C++11 does not allow conversion from string literal to 'char *' [-Wwritable-strings]
      throw Tomato(__LINE__, "isis() called with unknown function");
                             ^
2 warnings generated.
clang++ -mmacosx-version-min=10.13 -std=gnu++11 -dynamiclib -Wl,-headerpad_max_install_names -undefined dynamic_lookup -single_module -multiply_defined suppress -L/Library/Frameworks/R.framework/Resources/lib -L/usr/local/lib -o adSplit.so adSplit.o -F/Library/Frameworks/R.framework/.. -framework R -Wl,-framework -Wl,CoreFoundation
installing to /Users/biocbuild/bbs-3.12-bioc/meat/adSplit.buildbin-libdir/00LOCK-adSplit/00new/adSplit/libs
** R
** data
** inst
** byte-compile and prepare package for lazy loading
** help
*** installing help indices
** building package indices
** installing vignettes
** testing if installed package can be loaded from temporary location
** checking absolute paths in shared objects and dynamic libraries
** testing if installed package can be loaded from final location
** testing if installed package keeps a record of temporary installation path
* DONE (adSplit)


>>>>>>> 
>>>>>>> FIXING LINKS FOR adSplit.buildbin-libdir/adSplit/libs/adSplit.so
>>>>>>> 

install_name_tool -change "/usr/local/lib/libgcc_s.1.dylib" "/Library/Frameworks/R.framework/Versions/4.0/Resources/lib/libgcc_s.1.dylib" "adSplit.buildbin-libdir/adSplit/libs/adSplit.so"
install_name_tool -change "/usr/local/lib/libgfortran.5.dylib" "/Library/Frameworks/R.framework/Versions/4.0/Resources/lib/libgfortran.5.dylib" "adSplit.buildbin-libdir/adSplit/libs/adSplit.so"
install_name_tool -change "/usr/local/lib/libquadmath.0.dylib" "/Library/Frameworks/R.framework/Versions/4.0/Resources/lib/libquadmath.0.dylib" "adSplit.buildbin-libdir/adSplit/libs/adSplit.so"