Back to Multiple platform build/check report for BioC 3.12
AB[C]DEFGHIJKLMNOPQRSTUVWXYZ

INSTALL report for CAGEr on malbec1

This page was generated on 2020-08-10 11:37:00 -0400 (Mon, 10 Aug 2020).

TO THE DEVELOPERS/MAINTAINERS OF THE CAGEr PACKAGE: Please make sure to use the following settings in order to reproduce any error or warning you see on this page.
Package 214/1882HostnameOS / ArchINSTALLBUILDCHECKBUILD BIN
CAGEr 1.31.4
Vanja Haberle , Charles Plessy , Damir Baranasic , Sarvesh Nikumbh
Snapshot Date: 2020-08-09 14:51:29 -0400 (Sun, 09 Aug 2020)
URL: https://git.bioconductor.org/packages/CAGEr
Branch: master
Last Commit: f845b5c
Last Changed Date: 2020-07-14 02:01:55 -0400 (Tue, 14 Jul 2020)
malbec1 Linux (Ubuntu 18.04.4 LTS) / x86_64 [ OK ] OK  OK UNNEEDED, same version exists in internal repository
nebbiolo1 Linux (Ubuntu 20.04.1 LTS) / x86_64  OK  OK  OK 
tokay1 Windows Server 2012 R2 Standard / x64  OK  OK  WARNINGS  OK UNNEEDED, same version exists in internal repository
merida1 macOS 10.14.6 Mojave / x86_64  OK  OK  OK  OK UNNEEDED, same version exists in internal repository

Summary

Package: CAGEr
Version: 1.31.4
Command: /home/biocbuild/bbs-3.12-bioc/R/bin/R CMD INSTALL CAGEr
StartedAt: 2020-08-09 16:54:36 -0400 (Sun, 09 Aug 2020)
EndedAt: 2020-08-09 16:55:30 -0400 (Sun, 09 Aug 2020)
EllapsedTime: 53.4 seconds
RetCode: 0
Status:  OK 

Command output

##############################################################################
##############################################################################
###
### Running command:
###
###   /home/biocbuild/bbs-3.12-bioc/R/bin/R CMD INSTALL CAGEr
###
##############################################################################
##############################################################################


* installing to library ‘/home/biocbuild/bbs-3.12-bioc/R/library’
* installing *source* package ‘CAGEr’ ...
** using staged installation
** R
** data
*** moving datasets to lazyload DB
** inst
** byte-compile and prepare package for lazy loading
** help
*** installing help indices
** building package indices
** installing vignettes
** testing if installed package can be loaded from temporary location
** testing if installed package can be loaded from final location
** testing if installed package keeps a record of temporary installation path
* DONE (CAGEr)