Back to Multiple platform build/check report for BioC 3.12
A[B]CDEFGHIJKLMNOPQRSTUVWXYZ

BUILD BIN report for BgeeDB on tokay1

This page was generated on 2021-01-24 11:53:41 -0500 (Sun, 24 Jan 2021).

TO THE DEVELOPERS/MAINTAINERS OF THE BgeeDB PACKAGE: Please make sure to use the following settings in order to reproduce any error or warning you see on this page.
Package 141/1974HostnameOS / ArchINSTALLBUILDCHECKBUILD BIN
BgeeDB 2.16.0
Julien Wollbrett , Julien Roux , Andrea Komljenovic , Frederic Bastian
Snapshot Date: 2021-01-23 14:40:16 -0500 (Sat, 23 Jan 2021)
URL: https://git.bioconductor.org/packages/BgeeDB
Branch: RELEASE_3_12
Last Commit: ce6dd8f
Last Changed Date: 2020-10-27 11:14:01 -0500 (Tue, 27 Oct 2020)
malbec1 Linux (Ubuntu 18.04.5 LTS) / x86_64  OK  OK  OK UNNEEDED, same version exists in internal repository
nebbiolo1 Linux (Ubuntu 20.04.1 LTS) / x86_64  OK  OK  OK 
tokay1 Windows Server 2012 R2 Standard / x64  OK  OK  OK [ OK ]UNNEEDED, same version exists in internal repository
merida1 macOS 10.14.6 Mojave / x86_64  OK  OK  OK  OK UNNEEDED, same version exists in internal repository

Summary

Package: BgeeDB
Version: 2.16.0
Command: rm -rf BgeeDB.buildbin-libdir && mkdir BgeeDB.buildbin-libdir && C:\Users\biocbuild\bbs-3.12-bioc\R\bin\R.exe CMD INSTALL --merge-multiarch --build --library=BgeeDB.buildbin-libdir BgeeDB_2.16.0.tar.gz
StartedAt: 2021-01-24 08:50:02 -0500 (Sun, 24 Jan 2021)
EndedAt: 2021-01-24 08:50:38 -0500 (Sun, 24 Jan 2021)
EllapsedTime: 36.2 seconds
RetCode: 0
Status:  OK  
PackageFile: BgeeDB_2.16.0.zip
PackageFileSize: 322 KiB

Command output

##############################################################################
##############################################################################
###
### Running command:
###
###   rm -rf BgeeDB.buildbin-libdir && mkdir BgeeDB.buildbin-libdir && C:\Users\biocbuild\bbs-3.12-bioc\R\bin\R.exe CMD INSTALL --merge-multiarch --build --library=BgeeDB.buildbin-libdir BgeeDB_2.16.0.tar.gz
###
##############################################################################
##############################################################################



install for i386

* installing *source* package 'BgeeDB' ...
** using staged installation
** R
** data
** inst
** byte-compile and prepare package for lazy loading

groupGOTerms: 	GOBPTerm, GOMFTerm, GOCCTerm environments built.
** help
*** installing help indices
  converting help for package 'BgeeDB'
    finding HTML links ... done
    Bgee-class                              html  
    deleteLocalData                         html  
    deleteOldData                           html  
    formatData                              html  
    geneList                                html  
    getAnnotation                           html  
    getData                                 html  
    listBgeeRelease                         html  
    listBgeeSpecies                         html  
    loadTopAnatData                         html  
    makeTable                               html  
    topAnat                                 html  
** building package indices
** installing vignettes
** testing if installed package can be loaded from temporary location

groupGOTerms: 	GOBPTerm, GOMFTerm, GOCCTerm environments built.
** testing if installed package can be loaded from final location

groupGOTerms: 	GOBPTerm, GOMFTerm, GOCCTerm environments built.
** testing if installed package keeps a record of temporary installation path

install for x64

* installing *source* package 'BgeeDB' ...
** testing if installed package can be loaded

groupGOTerms: 	GOBPTerm, GOMFTerm, GOCCTerm environments built.
* MD5 sums
packaged installation of 'BgeeDB' as BgeeDB_2.16.0.zip
* DONE (BgeeDB)