Back to Multiple platform build/check report for BioC 3.12
A[B]CDEFGHIJKLMNOPQRSTUVWXYZ

CHECK report for beadarraySNP on merida1

This page was generated on 2020-08-11 11:51:58 -0400 (Tue, 11 Aug 2020).

TO THE DEVELOPERS/MAINTAINERS OF THE beadarraySNP PACKAGE: Please make sure to use the following settings in order to reproduce any error or warning you see on this page.
Package 127/1885HostnameOS / ArchINSTALLBUILDCHECKBUILD BIN
beadarraySNP 1.55.0
Jan Oosting
Snapshot Date: 2020-08-10 14:50:56 -0400 (Mon, 10 Aug 2020)
URL: https://git.bioconductor.org/packages/beadarraySNP
Branch: master
Last Commit: 5922a97
Last Changed Date: 2020-04-27 14:13:54 -0400 (Mon, 27 Apr 2020)
malbec1 Linux (Ubuntu 18.04.4 LTS) / x86_64  OK  OK  OK UNNEEDED, same version exists in internal repository
nebbiolo1 Linux (Ubuntu 20.04.1 LTS) / x86_64  OK  OK  NA 
tokay1 Windows Server 2012 R2 Standard / x64  OK  OK  OK  OK UNNEEDED, same version exists in internal repository
merida1 macOS 10.14.6 Mojave / x86_64  OK  OK [ OK ] OK UNNEEDED, same version exists in internal repository

Summary

Package: beadarraySNP
Version: 1.55.0
Command: /Library/Frameworks/R.framework/Versions/Current/Resources/bin/R CMD check --install=check:beadarraySNP.install-out.txt --library=/Library/Frameworks/R.framework/Versions/Current/Resources/library --no-vignettes --timings beadarraySNP_1.55.0.tar.gz
StartedAt: 2020-08-10 23:01:36 -0400 (Mon, 10 Aug 2020)
EndedAt: 2020-08-10 23:03:13 -0400 (Mon, 10 Aug 2020)
EllapsedTime: 97.5 seconds
RetCode: 0
Status:  OK 
CheckDir: beadarraySNP.Rcheck
Warnings: 0

Command output

##############################################################################
##############################################################################
###
### Running command:
###
###   /Library/Frameworks/R.framework/Versions/Current/Resources/bin/R CMD check --install=check:beadarraySNP.install-out.txt --library=/Library/Frameworks/R.framework/Versions/Current/Resources/library --no-vignettes --timings beadarraySNP_1.55.0.tar.gz
###
##############################################################################
##############################################################################


* using log directory ‘/Users/biocbuild/bbs-3.12-bioc/meat/beadarraySNP.Rcheck’
* using R version 4.0.2 (2020-06-22)
* using platform: x86_64-apple-darwin17.0 (64-bit)
* using session charset: UTF-8
* using option ‘--no-vignettes’
* checking for file ‘beadarraySNP/DESCRIPTION’ ... OK
* checking extension type ... Package
* this is package ‘beadarraySNP’ version ‘1.55.0’
* checking package namespace information ... OK
* checking package dependencies ... OK
* checking if this is a source package ... OK
* checking if there is a namespace ... OK
* checking for hidden files and directories ... OK
* checking for portable file names ... OK
* checking for sufficient/correct file permissions ... OK
* checking whether package ‘beadarraySNP’ can be installed ... OK
* checking installed package size ... OK
* checking package directory ... OK
* checking ‘build’ directory ... OK
* checking DESCRIPTION meta-information ... OK
* checking top-level files ... OK
* checking for left-over files ... OK
* checking index information ... OK
* checking package subdirectories ... OK
* checking R files for non-ASCII characters ... OK
* checking R files for syntax errors ... OK
* checking whether the package can be loaded ... OK
* checking whether the package can be loaded with stated dependencies ... OK
* checking whether the package can be unloaded cleanly ... OK
* checking whether the namespace can be loaded with stated dependencies ... OK
* checking whether the namespace can be unloaded cleanly ... OK
* checking dependencies in R code ... NOTE
'library' or 'require' calls in package code:
  ‘DNAcopy’ ‘aCGH’ ‘affy’ ‘beadarray’ ‘limma’ ‘snapCGH’
  Please use :: or requireNamespace() instead.
  See section 'Suggested packages' in the 'Writing R Extensions' manual.
* checking S3 generic/method consistency ... OK
* checking replacement functions ... OK
* checking foreign function calls ... OK
* checking R code for possible problems ... NOTE
IlluminaGetGencalls: no visible global function definition for
  ‘read.table’
IlluminaGetOPAinfo: no visible global function definition for
  ‘read.table’
Sample_Map2Samplesheet: no visible global function definition for
  ‘read.table’
Sample_Map2Samplesheet: no visible global function definition for
  ‘write.table’
backgroundCorrect.SNP : delta.vec: no visible global function
  definition for ‘quantile’
backgroundCorrect.SNP: no visible global function definition for
  ‘normexp.fit’
backgroundCorrect.SNP: no visible global function definition for
  ‘normexp.signal’
backgroundCorrect.SNP: no visible binding for global variable
  ‘bg.adjust’
backgroundEstimate : intminBG: no visible global function definition
  for ‘lm’
backgroundEstimate: no visible global function definition for ‘density’
calculateLair: no visible global function definition for ‘quantile’
calculateQCarray: no visible global function definition for ‘median’
convert2aCGH: no visible global function definition for ‘create.aCGH’
createCNSummary: no visible global function definition for ‘aggregate’
dist.GT: no visible global function definition for ‘as.dist’
heterozygousSNPs: no visible binding for global variable ‘quantile’
interactiveCNselect: no visible global function definition for
  ‘locator’
interactiveCNselect: no visible global function definition for ‘text’
normalizeBetweenAlleles.SNP: no visible global function definition for
  ‘normalizeQuantiles’
normalizeBetweenSubsamples.SNP: no visible global function definition
  for ‘normalizeQuantiles’
normalizeLoci.SNP: no visible binding for global variable ‘median’
normalizeLoci.SNP: no visible global function definition for ‘coef’
normalizeLoci.SNP: no visible global function definition for ‘lm’
normalizeWithinArrays.SNP: no visible global function definition for
  ‘quantile’
pdfChromosomeGainLossLOH: no visible global function definition for
  ‘pdf’
pdfChromosomeGainLossLOH: no visible global function definition for
  ‘par’
pdfChromosomeGainLossLOH: no visible global function definition for
  ‘dev.off’
pdfChromosomesSmoothCopyNumber: no visible global function definition
  for ‘pdf’
pdfChromosomesSmoothCopyNumber: no visible global function definition
  for ‘par’
pdfChromosomesSmoothCopyNumber: no visible global function definition
  for ‘dev.off’
pdfQC : reportSingleObject: no visible global function definition for
  ‘par’
pdfQC : reportSingleObject: no visible global function definition for
  ‘mtext’
pdfQC: no visible global function definition for ‘pdf’
pdfQC: no visible global function definition for ‘dev.off’
pdfSamplesSmoothCopyNumber: no visible global function definition for
  ‘pdf’
pdfSamplesSmoothCopyNumber: no visible global function definition for
  ‘dev.off’
plotGenomePanels: no visible global function definition for ‘par’
plotGenomePanels: no visible global function definition for ‘abline’
plotGenomePanels: no visible global function definition for ‘points’
plotGenomePanels: no visible global function definition for ‘text’
plotGenomePanels: no visible global function definition for ‘axis’
plotGenomePanels: no visible global function definition for ‘segments’
plotGenomePanels: no visible global function definition for ‘rect’
plotGoldenGate4OPA: no visible global function definition for ‘par’
plotGoldenGate4OPA: no visible global function definition for ‘abline’
plotGoldenGate4OPA: no visible global function definition for ‘points’
plotGoldenGate4OPA: no visible global function definition for ‘text’
plotGoldenGate4OPA: no visible global function definition for ‘axis’
plotGoldenGate4OPA: no visible global function definition for
  ‘segments’
plotGoldenGate4OPA: no visible global function definition for ‘rect’
plotGroupZygosity: no visible global function definition for ‘points’
read.SnpSetIllumina: no visible global function definition for
  ‘read.table’
read.SnpSetIllumina: no visible global function definition for
  ‘readIllumina’
read.SnpSetIllumina: no visible global function definition for
  ‘summarize’
read.SnpSetIllumina: no visible global function definition for
  ‘aggregate’
read.SnpSetIllumina: no visible binding for global variable ‘median’
read.SnpSetIllumina: no visible binding for global variable ‘sd’
read.SnpSetIllumina: no visible global function definition for
  ‘type.convert’
readReportfile: no visible global function definition for ‘read.table’
removeLowQualityProbes: no visible global function definition for
  ‘median’
removeLowQualityProbes: no visible binding for global variable ‘median’
removeLowQualitySamples: no visible binding for global variable
  ‘median’
reportChromosomeGainLossLOH: no visible global function definition for
  ‘par’
reportChromosomeGainLossLOH: no visible global function definition for
  ‘rect’
reportChromosomeGainLossLOH: no visible global function definition for
  ‘axis’
reportChromosomeGainLossLOH: no visible global function definition for
  ‘abline’
reportChromosomesSmoothCopyNumber: no visible global function
  definition for ‘par’
reportChromosomesSmoothCopyNumber: no visible global function
  definition for ‘legend’
reportChromosomesSmoothCopyNumber: no visible global function
  definition for ‘abline’
reportChromosomesSmoothCopyNumber: no visible global function
  definition for ‘rect’
reportChromosomesSmoothCopyNumber: no visible global function
  definition for ‘points’
reportChromosomesSmoothCopyNumber: no visible global function
  definition for ‘lines’
reportGenomeGainLossLOH: no visible global function definition for
  ‘par’
reportGenomeGainLossLOH: no visible global function definition for
  ‘rect’
reportGenomeGainLossLOH: no visible global function definition for
  ‘abline’
reportGenomeGainLossLOH: no visible global function definition for
  ‘axis’
reportGenomeIntensityPlot: no visible global function definition for
  ‘aggregate’
reportGenomeIntensityPlot: no visible global function definition for
  ‘par’
reportGenomeIntensityPlot: no visible global function definition for
  ‘abline’
reportGenomeIntensityPlot: no visible global function definition for
  ‘axis’
reportGenomeIntensityPlot: no visible global function definition for
  ‘points’
reportGenomeIntensityPlot: no visible global function definition for
  ‘segments’
reportGenomeIntensityPlot: no visible global function definition for
  ‘lines’
reportGenotypeSegmentation: no visible global function definition for
  ‘par’
reportGenotypeSegmentation: no visible global function definition for
  ‘points’
reportGenotypeSegmentation: no visible global function definition for
  ‘axis’
reportGenotypeSegmentation: no visible global function definition for
  ‘abline’
reportGenotypeSegmentation: no visible global function definition for
  ‘segments’
reportGroupZygosity: no visible global function definition for ‘pdf’
reportGroupZygosity: no visible global function definition for ‘par’
reportGroupZygosity: no visible global function definition for
  ‘dev.off’
reportSamplesSmoothCopyNumber: no visible global function definition
  for ‘par’
reportSamplesSmoothCopyNumber: no visible global function definition
  for ‘lines’
reportSamplesSmoothCopyNumber: no visible global function definition
  for ‘rect’
reportSamplesSmoothCopyNumber: no visible global function definition
  for ‘points’
reportSamplesSmoothCopyNumber: no visible global function definition
  for ‘legend’
segmentate: no visible global function definition for ‘smooth.CNA’
segmentate: no visible global function definition for ‘CNA’
segmentate: no visible global function definition for ‘aggregate’
segmentate.old: no visible global function definition for ‘runDNAcopy’
segmentate.old: no visible global function definition for ‘runHomHMM’
segmentate.old: no visible global function definition for ‘runBioHMM’
segmentate.old: no visible global function definition for ‘runGLAD’
segmentate.old: no visible global function definition for ‘mergeStates’
plotQC,QCIllumina : image.plate: no visible global function definition
  for ‘gray’
plotQC,QCIllumina : image.plate: no visible global function definition
  for ‘image’
plotQC,QCIllumina : checkerboard: no visible global function definition
  for ‘strwidth’
plotQC,QCIllumina : checkerboard: no visible global function definition
  for ‘text’
plotQC,QCIllumina: no visible global function definition for ‘rgb’
reportSamplePanelQC,QCIllumina: no visible global function definition
  for ‘rgb’
reportSamplePanelQC,QCIllumina: no visible global function definition
  for ‘barplot’
Undefined global functions or variables:
  CNA abline aggregate as.dist axis barplot bg.adjust coef create.aCGH
  density dev.off gray image legend lines lm locator median mergeStates
  mtext normalizeQuantiles normexp.fit normexp.signal par pdf points
  quantile read.table readIllumina rect rgb runBioHMM runDNAcopy
  runGLAD runHomHMM sd segments smooth.CNA strwidth summarize text
  type.convert write.table
Consider adding
  importFrom("grDevices", "dev.off", "gray", "pdf", "rgb")
  importFrom("graphics", "abline", "axis", "barplot", "image", "legend",
             "lines", "locator", "mtext", "par", "points", "rect",
             "segments", "strwidth", "text")
  importFrom("stats", "aggregate", "as.dist", "coef", "density", "lm",
             "median", "quantile", "sd")
  importFrom("utils", "read.table", "type.convert", "write.table")
to your NAMESPACE file.
* checking Rd files ... OK
* checking Rd metadata ... OK
* checking Rd cross-references ... OK
* checking for missing documentation entries ... OK
* checking for code/documentation mismatches ... OK
* checking Rd \usage sections ... OK
* checking Rd contents ... OK
* checking for unstated dependencies in examples ... OK
* checking contents of ‘data’ directory ... OK
* checking data for non-ASCII characters ... OK
* checking data for ASCII and uncompressed saves ... OK
* checking sizes of PDF files under ‘inst/doc’ ... OK
* checking files in ‘vignettes’ ... OK
* checking examples ... OK
* checking for unstated dependencies in vignettes ... OK
* checking package vignettes in ‘inst/doc’ ... OK
* checking running R code from vignettes ... SKIPPED
* checking re-building of vignette outputs ... SKIPPED
* checking PDF version of manual ... OK
* DONE

Status: 2 NOTEs
See
  ‘/Users/biocbuild/bbs-3.12-bioc/meat/beadarraySNP.Rcheck/00check.log’
for details.



Installation output

beadarraySNP.Rcheck/00install.out

##############################################################################
##############################################################################
###
### Running command:
###
###   /Library/Frameworks/R.framework/Versions/Current/Resources/bin/R CMD INSTALL beadarraySNP
###
##############################################################################
##############################################################################


* installing to library ‘/Library/Frameworks/R.framework/Versions/4.0/Resources/library’
* installing *source* package ‘beadarraySNP’ ...
** using staged installation
** R
** data
** inst
** byte-compile and prepare package for lazy loading
** help
*** installing help indices
** building package indices
** installing vignettes
** testing if installed package can be loaded from temporary location
** testing if installed package can be loaded from final location
** testing if installed package keeps a record of temporary installation path
* DONE (beadarraySNP)

Tests output


Example timings

beadarraySNP.Rcheck/beadarraySNP-Ex.timings

nameusersystemelapsed
GenomicReports2.6480.1042.758
PolarTransforms0.0490.0090.057
SnpSetSegments-class0.0020.0010.003
backgroundCorrect.SNP0.0000.0000.001
calculateQCarray000
compareGenotypes0.0060.0030.009
dist.GT0.1230.0060.129
heterozygosity0.0160.0040.019
heterozygousSNPs0.0470.0040.051
normalizeBetweenAlleles.SNP0.0370.0030.041
normalizeBetweenSubsamples.SNP0.0260.0040.029
normalizeLoci.SNP0.0180.0020.020
normalizeWithinArrays.SNP0.0250.0020.027
pdfChromosomesSmoothCopyNumber000
plotQC0.0090.0020.011
read.SnpSetIllumina0.6880.0140.705
removeLowQualitySamples0.0300.0020.032
reportSamplePanelQC-methods0.0110.0040.014
standardNormalization0.0900.0030.093