Back to Multiple platform build/check report for BioC 3.12
A[B]CDEFGHIJKLMNOPQRSTUVWXYZ

BUILD BIN report for basecallQC on tokay1

This page was generated on 2020-09-19 10:20:27 -0400 (Sat, 19 Sep 2020).

TO THE DEVELOPERS/MAINTAINERS OF THE basecallQC PACKAGE: Please make sure to use the following settings in order to reproduce any error or warning you see on this page.
Package 110/1912HostnameOS / ArchINSTALLBUILDCHECKBUILD BIN
basecallQC 1.13.0
Thomas Carroll
Snapshot Date: 2020-09-18 14:43:25 -0400 (Fri, 18 Sep 2020)
URL: https://git.bioconductor.org/packages/basecallQC
Branch: master
Last Commit: 63dc0f4
Last Changed Date: 2020-04-27 15:06:59 -0400 (Mon, 27 Apr 2020)
malbec1 Linux (Ubuntu 18.04.4 LTS) / x86_64  OK  OK  OK UNNEEDED, same version exists in internal repository
nebbiolo1 Linux (Ubuntu 20.04.1 LTS) / x86_64  OK  OK  OK 
tokay1 Windows Server 2012 R2 Standard / x64  OK  OK  OK [ OK ]UNNEEDED, same version exists in internal repository
riesling1 Windows Server 2019 Standard / x64  OK  OK  OK  OK 
merida1 macOS 10.14.6 Mojave / x86_64  OK  OK  OK  OK UNNEEDED, same version exists in internal repository

Summary

Package: basecallQC
Version: 1.13.0
Command: rm -rf basecallQC.buildbin-libdir && mkdir basecallQC.buildbin-libdir && C:\Users\biocbuild\bbs-3.12-bioc\R\bin\R.exe CMD INSTALL --merge-multiarch --build --library=basecallQC.buildbin-libdir basecallQC_1.13.0.tar.gz
StartedAt: 2020-09-19 09:07:29 -0400 (Sat, 19 Sep 2020)
EndedAt: 2020-09-19 09:08:18 -0400 (Sat, 19 Sep 2020)
EllapsedTime: 49.3 seconds
RetCode: 0
Status:  OK  
PackageFile: basecallQC_1.13.0.zip
PackageFileSize: 1.147 MiB

Command output

##############################################################################
##############################################################################
###
### Running command:
###
###   rm -rf basecallQC.buildbin-libdir && mkdir basecallQC.buildbin-libdir && C:\Users\biocbuild\bbs-3.12-bioc\R\bin\R.exe CMD INSTALL --merge-multiarch --build --library=basecallQC.buildbin-libdir basecallQC_1.13.0.tar.gz
###
##############################################################################
##############################################################################



install for i386

* installing *source* package 'basecallQC' ...
** using staged installation
** R
** inst
** byte-compile and prepare package for lazy loading
** help
*** installing help indices
  converting help for package 'basecallQC'
    finding HTML links ... done
    BCL2FastQparams                         html  
    baseCallMetrics                         html  
    basecallQC                              html  
    createBCLcommand                        html  
    createBasemasks                         html  
    demultiplexMetrics                      html  
    demuxBarplot                            html  
    demuxBoxplot                            html  
    indexlengths                            html  
    interOpsReport                          html  
    makeFQTable                             html  
    passFilterBar                           html  
    passFilterBoxplot                       html  
    passFilterTileplot                      html  
    readlengths                             html  
    reportBCL                               html  
    summaryConvStatsTable                   html  
    summaryDemuxTable                       html  
    validateBCLSheet                        html  
** building package indices
** installing vignettes
** testing if installed package can be loaded from temporary location
** testing if installed package can be loaded from final location
** testing if installed package keeps a record of temporary installation path

install for x64

* installing *source* package 'basecallQC' ...
** testing if installed package can be loaded
* MD5 sums
packaged installation of 'basecallQC' as basecallQC_1.13.0.zip
* DONE (basecallQC)