Back to Multiple platform build/check report for BioC 3.12
A[B]CDEFGHIJKLMNOPQRSTUVWXYZ

INSTALL report for BioTIP on malbec1

This page was generated on 2020-08-07 11:49:32 -0400 (Fri, 07 Aug 2020).

TO THE DEVELOPERS/MAINTAINERS OF THE BioTIP PACKAGE: Please make sure to use the following settings in order to reproduce any error or warning you see on this page.
Package 178/1882HostnameOS / ArchINSTALLBUILDCHECKBUILD BIN
BioTIP 1.3.0
Zhezhen Wang , X Holly Yang < xyang2@uchicago> and Yuxi (Jennifer) Sun
Snapshot Date: 2020-08-06 14:50:46 -0400 (Thu, 06 Aug 2020)
URL: https://git.bioconductor.org/packages/BioTIP
Branch: master
Last Commit: 0d9b301
Last Changed Date: 2020-07-28 18:56:33 -0400 (Tue, 28 Jul 2020)
malbec1 Linux (Ubuntu 18.04.4 LTS) / x86_64 [ OK ] ERROR  skipped 
tokay1 Windows Server 2012 R2 Standard / x64  OK  ERROR  skipped  skipped 
merida1 macOS 10.14.6 Mojave / x86_64  OK  ERROR  skipped  skipped 

Summary

Package: BioTIP
Version: 1.3.0
Command: /home/biocbuild/bbs-3.12-bioc/R/bin/R CMD INSTALL BioTIP
StartedAt: 2020-08-06 16:36:08 -0400 (Thu, 06 Aug 2020)
EndedAt: 2020-08-06 16:36:21 -0400 (Thu, 06 Aug 2020)
EllapsedTime: 13.0 seconds
RetCode: 0
Status:  OK 

Command output

##############################################################################
##############################################################################
###
### Running command:
###
###   /home/biocbuild/bbs-3.12-bioc/R/bin/R CMD INSTALL BioTIP
###
##############################################################################
##############################################################################


* installing to library ‘/home/biocbuild/bbs-3.12-bioc/R/library’
* installing *source* package ‘BioTIP’ ...
** using staged installation
** R
** data
*** moving datasets to lazyload DB
** byte-compile and prepare package for lazy loading
** help
Warning: /home/biocbuild/bbs-3.12-bioc/meat/BioTIP/man/optimize.sd_selection.Rd:40: unknown macro '\item'
Warning: /home/biocbuild/bbs-3.12-bioc/meat/BioTIP/man/optimize.sd_selection.Rd:52: unknown macro '\item'
Warning: /home/biocbuild/bbs-3.12-bioc/meat/BioTIP/man/optimize.sd_selection.Rd:55: unknown macro '\item'
Warning: /home/biocbuild/bbs-3.12-bioc/meat/BioTIP/man/optimize.sd_selection.Rd:58: unexpected section header '\value'
Warning: /home/biocbuild/bbs-3.12-bioc/meat/BioTIP/man/optimize.sd_selection.Rd:63: unexpected section header '\description'
Warning: /home/biocbuild/bbs-3.12-bioc/meat/BioTIP/man/optimize.sd_selection.Rd:68: unexpected section header '\examples'
Warning: /home/biocbuild/bbs-3.12-bioc/meat/BioTIP/man/optimize.sd_selection.Rd:78: unexpected section header '\seealso'
Warning: /home/biocbuild/bbs-3.12-bioc/meat/BioTIP/man/optimize.sd_selection.Rd:81: unexpected section header '\author'
Warning: /home/biocbuild/bbs-3.12-bioc/meat/BioTIP/man/optimize.sd_selection.Rd:84: unexpected END_OF_INPUT '
'
Warning: /home/biocbuild/bbs-3.12-bioc/meat/BioTIP/man/sd_selection.Rd:29: unknown macro '\item'
Warning: /home/biocbuild/bbs-3.12-bioc/meat/BioTIP/man/sd_selection.Rd:41: unknown macro '\item'
Warning: /home/biocbuild/bbs-3.12-bioc/meat/BioTIP/man/sd_selection.Rd:44: unknown macro '\item'
Warning: /home/biocbuild/bbs-3.12-bioc/meat/BioTIP/man/sd_selection.Rd:47: unexpected section header '\value'
Warning: /home/biocbuild/bbs-3.12-bioc/meat/BioTIP/man/sd_selection.Rd:54: unexpected section header '\description'
Warning: /home/biocbuild/bbs-3.12-bioc/meat/BioTIP/man/sd_selection.Rd:61: unexpected section header '\examples'
Warning: /home/biocbuild/bbs-3.12-bioc/meat/BioTIP/man/sd_selection.Rd:71: unexpected section header '\seealso'
Warning: /home/biocbuild/bbs-3.12-bioc/meat/BioTIP/man/sd_selection.Rd:74: unexpected section header '\author'
Warning: /home/biocbuild/bbs-3.12-bioc/meat/BioTIP/man/sd_selection.Rd:77: unexpected END_OF_INPUT '
'
*** installing help indices
** building package indices
** installing vignettes
** testing if installed package can be loaded from temporary location
** testing if installed package can be loaded from final location
** testing if installed package keeps a record of temporary installation path
* DONE (BioTIP)