Back to Multiple platform build/check report for BioC 3.12
ABCDEFGHIJKLMNOPQ[R]STUVWXYZ

INSTALL report for R4RNA on tokay1

This page was generated on 2021-01-19 11:56:10 -0500 (Tue, 19 Jan 2021).

TO THE DEVELOPERS/MAINTAINERS OF THE R4RNA PACKAGE: Please make sure to use the following settings in order to reproduce any error or warning you see on this page.
Package 1444/1974HostnameOS / ArchINSTALLBUILDCHECKBUILD BIN
R4RNA 1.18.0
Daniel Lai
Snapshot Date: 2021-01-18 14:42:24 -0500 (Mon, 18 Jan 2021)
URL: https://git.bioconductor.org/packages/R4RNA
Branch: RELEASE_3_12
Last Commit: c4de6f4
Last Changed Date: 2020-10-27 11:09:24 -0500 (Tue, 27 Oct 2020)
malbec1 Linux (Ubuntu 18.04.5 LTS) / x86_64  OK  OK  OK UNNEEDED, same version exists in internal repository
nebbiolo1 Linux (Ubuntu 20.04.1 LTS) / x86_64  OK  OK  OK 
tokay1 Windows Server 2012 R2 Standard / x64 [ OK ] OK  OK  OK UNNEEDED, same version exists in internal repository
merida1 macOS 10.14.6 Mojave / x86_64  OK  OK  OK  OK UNNEEDED, same version exists in internal repository

Summary

Package: R4RNA
Version: 1.18.0
Command: C:\cygwin\bin\curl.exe -O https://malbec1.bioconductor.org/BBS/3.12/bioc/src/contrib/R4RNA_1.18.0.tar.gz && rm -rf R4RNA.buildbin-libdir && mkdir R4RNA.buildbin-libdir && C:\Users\biocbuild\bbs-3.12-bioc\R\bin\R.exe CMD INSTALL --merge-multiarch --build --library=R4RNA.buildbin-libdir R4RNA_1.18.0.tar.gz && C:\Users\biocbuild\bbs-3.12-bioc\R\bin\R.exe CMD INSTALL R4RNA_1.18.0.zip && rm R4RNA_1.18.0.tar.gz R4RNA_1.18.0.zip
StartedAt: 2021-01-18 17:09:07 -0500 (Mon, 18 Jan 2021)
EndedAt: 2021-01-18 17:09:40 -0500 (Mon, 18 Jan 2021)
EllapsedTime: 33.3 seconds
RetCode: 0
Status:  OK  

Command output

##############################################################################
##############################################################################
###
### Running command:
###
###   C:\cygwin\bin\curl.exe -O https://malbec1.bioconductor.org/BBS/3.12/bioc/src/contrib/R4RNA_1.18.0.tar.gz && rm -rf R4RNA.buildbin-libdir && mkdir R4RNA.buildbin-libdir && C:\Users\biocbuild\bbs-3.12-bioc\R\bin\R.exe CMD INSTALL --merge-multiarch --build --library=R4RNA.buildbin-libdir R4RNA_1.18.0.tar.gz && C:\Users\biocbuild\bbs-3.12-bioc\R\bin\R.exe CMD INSTALL R4RNA_1.18.0.zip && rm R4RNA_1.18.0.tar.gz R4RNA_1.18.0.zip
###
##############################################################################
##############################################################################


  % Total    % Received % Xferd  Average Speed   Time    Time     Time  Current
                                 Dload  Upload   Total   Spent    Left  Speed

  0     0    0     0    0     0      0      0 --:--:-- --:--:-- --:--:--     0
100 37499  100 37499    0     0  1453k      0 --:--:-- --:--:-- --:--:-- 1743k

install for i386

* installing *source* package 'R4RNA' ...
** using staged installation
** R
** data
** inst
** byte-compile and prepare package for lazy loading
** help
*** installing help indices
  converting help for package 'R4RNA'
    finding HTML links ... done
    R4RNA-package                           html  
    alignmentStatistics                     html  
    as.helix                                html  
    basepairFrequency                       html  
    blankPlot                               html  
    colourHelices                           html  
    expandCollapseHelix                     html  
    helix                                   html  
    logicalHelix                            html  
    logseq                                  html  
    plotCovariance                          html  
    plotHelix                               html  
    readStructure                           html  
    structureMismatchScore                  html  
    unknottedGroups                         html  
    viennaToHelix                           html  
    writeHelix                              html  
** building package indices
** installing vignettes
** testing if installed package can be loaded from temporary location
** testing if installed package can be loaded from final location
** testing if installed package keeps a record of temporary installation path

install for x64

* installing *source* package 'R4RNA' ...
** testing if installed package can be loaded
* MD5 sums
packaged installation of 'R4RNA' as R4RNA_1.18.0.zip
* DONE (R4RNA)
* installing to library 'C:/Users/biocbuild/bbs-3.12-bioc/R/library'
package 'R4RNA' successfully unpacked and MD5 sums checked