Back to Multiple platform build/check report for BioC 3.12
A[B]CDEFGHIJKLMNOPQRSTUVWXYZ

BUILD BIN report for breakpointR on merida1

This page was generated on 2020-08-07 12:39:18 -0400 (Fri, 07 Aug 2020).

TO THE DEVELOPERS/MAINTAINERS OF THE breakpointR PACKAGE: Please make sure to use the following settings in order to reproduce any error or warning you see on this page.
Package 196/1882HostnameOS / ArchINSTALLBUILDCHECKBUILD BIN
breakpointR 1.7.1
David Porubsky
Snapshot Date: 2020-08-06 14:50:46 -0400 (Thu, 06 Aug 2020)
URL: https://git.bioconductor.org/packages/breakpointR
Branch: master
Last Commit: 30030d4
Last Changed Date: 2020-06-03 19:12:11 -0400 (Wed, 03 Jun 2020)
malbec1 Linux (Ubuntu 18.04.4 LTS) / x86_64  OK  OK  OK UNNEEDED, same version exists in internal repository
tokay1 Windows Server 2012 R2 Standard / x64  OK  OK  OK  OK UNNEEDED, same version exists in internal repository
merida1 macOS 10.14.6 Mojave / x86_64  OK  OK  OK [ OK ]UNNEEDED, same version exists in internal repository

Summary

Package: breakpointR
Version: 1.7.1
Command: rm -rf breakpointR.buildbin-libdir && mkdir breakpointR.buildbin-libdir && /Users/biocbuild/BBS/utils/build-universal.sh breakpointR_1.7.1.tar.gz /Library/Frameworks/R.framework/Versions/Current/Resources/bin/R breakpointR.buildbin-libdir
StartedAt: 2020-08-07 07:38:49 -0400 (Fri, 07 Aug 2020)
EndedAt: 2020-08-07 07:39:46 -0400 (Fri, 07 Aug 2020)
EllapsedTime: 57.0 seconds
RetCode: 0
Status:  OK 
PackageFile: breakpointR_1.7.1.tgz
PackageFileSize: 537.5 KiB

Command output

##############################################################################
##############################################################################
###
### Running command:
###
###   rm -rf breakpointR.buildbin-libdir && mkdir breakpointR.buildbin-libdir && /Users/biocbuild/BBS/utils/build-universal.sh breakpointR_1.7.1.tar.gz /Library/Frameworks/R.framework/Versions/Current/Resources/bin/R breakpointR.buildbin-libdir
###
##############################################################################
##############################################################################


>>>>>>> 
>>>>>>> INSTALLATION WITH 'R CMD INSTALL --preclean --no-multiarch --library=breakpointR.buildbin-libdir breakpointR_1.7.1.tar.gz'
>>>>>>> 

* installing *source* package ‘breakpointR’ ...
** using staged installation
** R
** inst
** byte-compile and prepare package for lazy loading
** help
*** installing help indices
** building package indices
** installing vignettes
** testing if installed package can be loaded from temporary location
** testing if installed package can be loaded from final location
** testing if installed package keeps a record of temporary installation path
* DONE (breakpointR)