Back to Multiple platform build/check report for BioC 3.12
[A]BCDEFGHIJKLMNOPQRSTUVWXYZ

BUILD report for ANF on merida1

This page was generated on 2020-08-09 12:37:55 -0400 (Sun, 09 Aug 2020).

TO THE DEVELOPERS/MAINTAINERS OF THE ANF PACKAGE: Please make sure to use the following settings in order to reproduce any error or warning you see on this page.
Package 53/1882HostnameOS / ArchINSTALLBUILDCHECKBUILD BIN
ANF 1.11.0
Tianle Ma
Snapshot Date: 2020-08-08 14:51:01 -0400 (Sat, 08 Aug 2020)
URL: https://git.bioconductor.org/packages/ANF
Branch: master
Last Commit: 0117a4f
Last Changed Date: 2020-04-27 15:11:11 -0400 (Mon, 27 Apr 2020)
malbec1 Linux (Ubuntu 18.04.4 LTS) / x86_64  OK  OK  OK UNNEEDED, same version exists in internal repository
nebbiolo1 Linux (Ubuntu 20.04.1 LTS) / x86_64  OK  OK  OK 
tokay1 Windows Server 2012 R2 Standard / x64  OK  OK  OK  OK UNNEEDED, same version exists in internal repository
merida1 macOS 10.14.6 Mojave / x86_64  OK [ OK ] OK  OK UNNEEDED, same version exists in internal repository

Summary

Package: ANF
Version: 1.11.0
Command: /Library/Frameworks/R.framework/Versions/Current/Resources/bin/R CMD build --keep-empty-dirs --no-resave-data ANF
StartedAt: 2020-08-08 20:38:32 -0400 (Sat, 08 Aug 2020)
EndedAt: 2020-08-08 20:39:25 -0400 (Sat, 08 Aug 2020)
EllapsedTime: 53.6 seconds
RetCode: 0
Status:  OK 
PackageFile: ANF_1.11.0.tar.gz
PackageFileSize: 684.8 KiB

Command output

##############################################################################
##############################################################################
###
### Running command:
###
###   /Library/Frameworks/R.framework/Versions/Current/Resources/bin/R CMD build --keep-empty-dirs --no-resave-data ANF
###
##############################################################################
##############################################################################


* checking for file ‘ANF/DESCRIPTION’ ... OK
* preparing ‘ANF’:
* checking DESCRIPTION meta-information ... OK
* installing the package to build vignettes
* creating vignettes ... OK
* checking for LF line-endings in source and make files and shell scripts
* checking for empty or unneeded directories
* building ‘ANF_1.11.0.tar.gz’