Back to Multiple platform build/check report for BioC 3.12
A[B]CDEFGHIJKLMNOPQRSTUVWXYZ

BUILD report for BiocVersion on tokay1

This page was generated on 2020-08-06 12:07:33 -0400 (Thu, 06 Aug 2020).

TO THE DEVELOPERS/MAINTAINERS OF THE BiocVersion PACKAGE: Please make sure to use the following settings in order to reproduce any error or warning you see on this page.
Package 163/1882HostnameOS / ArchINSTALLBUILDCHECKBUILD BIN
BiocVersion 3.12.0
Bioconductor Package Maintainer
Snapshot Date: 2020-08-05 14:50:59 -0400 (Wed, 05 Aug 2020)
URL: https://git.bioconductor.org/packages/BiocVersion
Branch: master
Last Commit: 23b9719
Last Changed Date: 2020-04-27 15:16:58 -0400 (Mon, 27 Apr 2020)
malbec1 Linux (Ubuntu 18.04.4 LTS) / x86_64  OK  OK  OK UNNEEDED, same version exists in internal repository
tokay1 Windows Server 2012 R2 Standard / x64  OK [ OK ] OK  OK UNNEEDED, same version exists in internal repository
merida1 macOS 10.14.6 Mojave / x86_64  OK  OK  OK  OK UNNEEDED, same version exists in internal repository

Summary

Package: BiocVersion
Version: 3.12.0
Command: chmod a+r BiocVersion -R && C:\Users\biocbuild\bbs-3.12-bioc\R\bin\R.exe CMD build --keep-empty-dirs --no-resave-data BiocVersion
StartedAt: 2020-08-05 22:12:57 -0400 (Wed, 05 Aug 2020)
EndedAt: 2020-08-05 22:13:01 -0400 (Wed, 05 Aug 2020)
EllapsedTime: 4.3 seconds
RetCode: 0
Status:  OK  
PackageFile: BiocVersion_3.12.0.tar.gz
PackageFileSize: 988 bytes

Command output

##############################################################################
##############################################################################
###
### Running command:
###
###   chmod a+r BiocVersion -R && C:\Users\biocbuild\bbs-3.12-bioc\R\bin\R.exe CMD build --keep-empty-dirs --no-resave-data BiocVersion
###
##############################################################################
##############################################################################


* checking for file 'BiocVersion/DESCRIPTION' ... OK
* preparing 'BiocVersion':
* checking DESCRIPTION meta-information ... OK
* checking for LF line-endings in source and make files and shell scripts
* checking for empty or unneeded directories
* creating default NAMESPACE file
* building 'BiocVersion_3.12.0.tar.gz'