Back to Multiple platform build/check report for BioC 3.12
[A]BCDEFGHIJKLMNOPQRSTUVWXYZ

INSTALL report for alpine on merida1

This page was generated on 2020-09-20 10:22:19 -0400 (Sun, 20 Sep 2020).

TO THE DEVELOPERS/MAINTAINERS OF THE alpine PACKAGE: Please make sure to use the following settings in order to reproduce any error or warning you see on this page.
Package 44/1912HostnameOS / ArchINSTALLBUILDCHECKBUILD BIN
alpine 1.15.0
Michael Love
Snapshot Date: 2020-09-19 14:40:23 -0400 (Sat, 19 Sep 2020)
URL: https://git.bioconductor.org/packages/alpine
Branch: master
Last Commit: ba310e3
Last Changed Date: 2020-04-27 15:00:57 -0400 (Mon, 27 Apr 2020)
malbec1 Linux (Ubuntu 18.04.4 LTS) / x86_64  OK  OK  OK UNNEEDED, same version exists in internal repository
nebbiolo1 Linux (Ubuntu 20.04.1 LTS) / x86_64  OK  OK  OK 
tokay1 Windows Server 2012 R2 Standard / x64  OK  OK  OK  OK UNNEEDED, same version exists in internal repository
riesling1 Windows Server 2019 Standard / x64  OK  OK  OK  OK 
merida1 macOS 10.14.6 Mojave / x86_64 [ OK ] OK  OK  OK UNNEEDED, same version exists in internal repository

Summary

Package: alpine
Version: 1.15.0
Command: /Library/Frameworks/R.framework/Versions/Current/Resources/bin/R CMD INSTALL alpine
StartedAt: 2020-09-19 17:02:05 -0400 (Sat, 19 Sep 2020)
EndedAt: 2020-09-19 17:02:46 -0400 (Sat, 19 Sep 2020)
EllapsedTime: 40.8 seconds
RetCode: 0
Status:  OK 

Command output

##############################################################################
##############################################################################
###
### Running command:
###
###   /Library/Frameworks/R.framework/Versions/Current/Resources/bin/R CMD INSTALL alpine
###
##############################################################################
##############################################################################


* installing to library ‘/Library/Frameworks/R.framework/Versions/4.0/Resources/library’
* installing *source* package ‘alpine’ ...
** using staged installation
** R
** data
** inst
** byte-compile and prepare package for lazy loading
** help
*** installing help indices
** building package indices
** installing vignettes
** testing if installed package can be loaded from temporary location
** testing if installed package can be loaded from final location
** testing if installed package keeps a record of temporary installation path
* DONE (alpine)