Back to Multiple platform build/check report for BioC 3.12
A[B]CDEFGHIJKLMNOPQRSTUVWXYZ

BUILD BIN report for BioMVCClass on merida1

This page was generated on 2020-09-21 11:23:43 -0400 (Mon, 21 Sep 2020).

TO THE DEVELOPERS/MAINTAINERS OF THE BioMVCClass PACKAGE: Please make sure to use the following settings in order to reproduce any error or warning you see on this page.
Package 172/1912HostnameOS / ArchINSTALLBUILDCHECKBUILD BIN
BioMVCClass 1.57.0
Elizabeth Whalen
Snapshot Date: 2020-09-20 14:41:51 -0400 (Sun, 20 Sep 2020)
URL: https://git.bioconductor.org/packages/BioMVCClass
Branch: master
Last Commit: a6772db
Last Changed Date: 2020-04-27 14:13:46 -0400 (Mon, 27 Apr 2020)
malbec1 Linux (Ubuntu 18.04.4 LTS) / x86_64  OK  OK  OK UNNEEDED, same version exists in internal repository
nebbiolo1 Linux (Ubuntu 20.04.1 LTS) / x86_64  OK  OK  OK 
tokay1 Windows Server 2012 R2 Standard / x64  OK  OK  OK  OK UNNEEDED, same version exists in internal repository
riesling1 Windows Server 2019 Standard / x64  OK  OK  OK  OK 
merida1 macOS 10.14.6 Mojave / x86_64  OK  OK  OK [ OK ]UNNEEDED, same version exists in internal repository

Summary

Package: BioMVCClass
Version: 1.57.0
Command: rm -rf BioMVCClass.buildbin-libdir && mkdir BioMVCClass.buildbin-libdir && /Users/biocbuild/BBS/utils/build-universal.sh BioMVCClass_1.57.0.tar.gz /Library/Frameworks/R.framework/Versions/Current/Resources/bin/R BioMVCClass.buildbin-libdir
StartedAt: 2020-09-21 07:50:02 -0400 (Mon, 21 Sep 2020)
EndedAt: 2020-09-21 07:51:05 -0400 (Mon, 21 Sep 2020)
EllapsedTime: 63.2 seconds
RetCode: 0
Status:  OK 
PackageFile: BioMVCClass_1.57.0.tgz
PackageFileSize: 174.1 KiB

Command output

##############################################################################
##############################################################################
###
### Running command:
###
###   rm -rf BioMVCClass.buildbin-libdir && mkdir BioMVCClass.buildbin-libdir && /Users/biocbuild/BBS/utils/build-universal.sh BioMVCClass_1.57.0.tar.gz /Library/Frameworks/R.framework/Versions/Current/Resources/bin/R BioMVCClass.buildbin-libdir
###
##############################################################################
##############################################################################


>>>>>>> 
>>>>>>> INSTALLATION WITH 'R CMD INSTALL --preclean --no-multiarch --library=BioMVCClass.buildbin-libdir BioMVCClass_1.57.0.tar.gz'
>>>>>>> 

* installing *source* package ‘BioMVCClass’ ...
** using staged installation
** R
** inst
** byte-compile and prepare package for lazy loading
** help
*** installing help indices
** building package indices
** installing vignettes
** testing if installed package can be loaded from temporary location
** testing if installed package can be loaded from final location
** testing if installed package keeps a record of temporary installation path
* DONE (BioMVCClass)