Back to Multiple platform build/check report for BioC 3.12
AB[C]DEFGHIJKLMNOPQRSTUVWXYZ

BUILD report for canceR on tokay1

This page was generated on 2021-04-18 12:05:21 -0400 (Sun, 18 Apr 2021).

To the developers/maintainers of the canceR package:
Please make sure to use the following settings in order to reproduce any error or warning you see on this page.
Package 227/1974HostnameOS / ArchINSTALLBUILDCHECKBUILD BIN
canceR 1.24.0  (landing page)
Karim Mezhoud
Snapshot Date: 2021-04-17 14:51:09 -0400 (Sat, 17 Apr 2021)
URL: https://git.bioconductor.org/packages/canceR
Branch: RELEASE_3_12
Last Commit: 84f757f
Last Changed Date: 2020-10-27 11:03:04 -0400 (Tue, 27 Oct 2020)
malbec1Linux (Ubuntu 18.04.5 LTS) / x86_64  OK    OK    OK  UNNEEDED, same version exists in internal repository
tokay1Windows Server 2012 R2 Standard / x64  OK    OK    OK    OK  UNNEEDED, same version exists in internal repository
merida1macOS 10.14.6 Mojave / x86_64  OK    OK    OK    OK  UNNEEDED, same version exists in internal repository

Summary

Package: canceR
Version: 1.24.0
Command: chmod a+r canceR -R && C:\Users\biocbuild\bbs-3.12-bioc\R\bin\R.exe CMD build --keep-empty-dirs --no-resave-data canceR
StartedAt: 2021-04-17 19:52:59 -0400 (Sat, 17 Apr 2021)
EndedAt: 2021-04-17 19:53:08 -0400 (Sat, 17 Apr 2021)
EllapsedTime: 9.0 seconds
RetCode: 0
Status:   OK   
PackageFile: canceR_1.24.0.tar.gz
PackageFileSize: 28.38 MiB

Command output

##############################################################################
##############################################################################
###
### Running command:
###
###   chmod a+r canceR -R && C:\Users\biocbuild\bbs-3.12-bioc\R\bin\R.exe CMD build --keep-empty-dirs --no-resave-data canceR
###
##############################################################################
##############################################################################


* checking for file 'canceR/DESCRIPTION' ... OK
* preparing 'canceR':
* checking DESCRIPTION meta-information ... OK
* checking for LF line-endings in source and make files and shell scripts
* checking for empty or unneeded directories
* building 'canceR_1.24.0.tar.gz'