Back to Multiple platform build/check report for BioC 3.12
AB[C]DEFGHIJKLMNOPQRSTUVWXYZ

BUILD report for CellTrails on merida1

This page was generated on 2021-04-12 12:32:55 -0400 (Mon, 12 Apr 2021).

To the developers/maintainers of the CellTrails package:
Please make sure to use the following settings in order to reproduce any error or warning you see on this page.
Package 259/1974HostnameOS / ArchINSTALLBUILDCHECKBUILD BIN
CellTrails 1.8.0  (landing page)
Daniel Ellwanger
Snapshot Date: 2021-04-11 14:51:36 -0400 (Sun, 11 Apr 2021)
URL: https://git.bioconductor.org/packages/CellTrails
Branch: RELEASE_3_12
Last Commit: f0ce473
Last Changed Date: 2020-10-27 11:36:23 -0400 (Tue, 27 Oct 2020)
malbec1Linux (Ubuntu 18.04.5 LTS) / x86_64  OK    OK    OK  UNNEEDED, same version exists in internal repository
tokay1Windows Server 2012 R2 Standard / x64  OK    OK    OK    OK  UNNEEDED, same version exists in internal repository
merida1macOS 10.14.6 Mojave / x86_64  OK    OK    OK    OK  UNNEEDED, same version exists in internal repository

Summary

Package: CellTrails
Version: 1.8.0
Command: /Library/Frameworks/R.framework/Versions/Current/Resources/bin/R CMD build --keep-empty-dirs --no-resave-data CellTrails
StartedAt: 2021-04-11 18:37:39 -0400 (Sun, 11 Apr 2021)
EndedAt: 2021-04-11 18:38:32 -0400 (Sun, 11 Apr 2021)
EllapsedTime: 53.1 seconds
RetCode: 0
Status:   OK  
PackageFile: CellTrails_1.8.0.tar.gz
PackageFileSize: 2.112 MiB

Command output

##############################################################################
##############################################################################
###
### Running command:
###
###   /Library/Frameworks/R.framework/Versions/Current/Resources/bin/R CMD build --keep-empty-dirs --no-resave-data CellTrails
###
##############################################################################
##############################################################################


* checking for file ‘CellTrails/DESCRIPTION’ ... OK
* preparing ‘CellTrails’:
* checking DESCRIPTION meta-information ... OK
* installing the package to build vignettes
* creating vignettes ... OK
* checking for LF line-endings in source and make files and shell scripts
* checking for empty or unneeded directories
* looking to see if a ‘data/datalist’ file should be added
* building ‘CellTrails_1.8.0.tar.gz’