Back to Multiple platform build/check report for BioC 3.12
[A]BCDEFGHIJKLMNOPQRSTUVWXYZ

INSTALL report for ACE on tokay1

This page was generated on 2020-08-14 11:05:46 -0400 (Fri, 14 Aug 2020).

TO THE DEVELOPERS/MAINTAINERS OF THE ACE PACKAGE: Please make sure to use the following settings in order to reproduce any error or warning you see on this page.
Package 12/1889HostnameOS / ArchINSTALLBUILDCHECKBUILD BIN
ACE 1.7.0
Jos B Poell
Snapshot Date: 2020-08-13 14:54:37 -0400 (Thu, 13 Aug 2020)
URL: https://git.bioconductor.org/packages/ACE
Branch: master
Last Commit: f89d2ab
Last Changed Date: 2020-04-27 15:18:09 -0400 (Mon, 27 Apr 2020)
malbec1 Linux (Ubuntu 18.04.4 LTS) / x86_64  OK  OK  OK UNNEEDED, same version exists in internal repository
nebbiolo1 Linux (Ubuntu 20.04.1 LTS) / x86_64  OK  OK  OK 
tokay1 Windows Server 2012 R2 Standard / x64 [ OK ] OK  OK  OK UNNEEDED, same version exists in internal repository
merida1 macOS 10.14.6 Mojave / x86_64  OK  OK  OK  OK UNNEEDED, same version exists in internal repository

Summary

Package: ACE
Version: 1.7.0
Command: C:\cygwin\bin\curl.exe -O https://malbec1.bioconductor.org/BBS/3.12/bioc/src/contrib/ACE_1.7.0.tar.gz && rm -rf ACE.buildbin-libdir && mkdir ACE.buildbin-libdir && C:\Users\biocbuild\bbs-3.12-bioc\R\bin\R.exe CMD INSTALL --merge-multiarch --build --library=ACE.buildbin-libdir ACE_1.7.0.tar.gz && C:\Users\biocbuild\bbs-3.12-bioc\R\bin\R.exe CMD INSTALL ACE_1.7.0.zip && rm ACE_1.7.0.tar.gz ACE_1.7.0.zip
StartedAt: 2020-08-13 18:14:46 -0400 (Thu, 13 Aug 2020)
EndedAt: 2020-08-13 18:15:26 -0400 (Thu, 13 Aug 2020)
EllapsedTime: 39.6 seconds
RetCode: 0
Status:  OK  

Command output

##############################################################################
##############################################################################
###
### Running command:
###
###   C:\cygwin\bin\curl.exe -O https://malbec1.bioconductor.org/BBS/3.12/bioc/src/contrib/ACE_1.7.0.tar.gz && rm -rf ACE.buildbin-libdir && mkdir ACE.buildbin-libdir && C:\Users\biocbuild\bbs-3.12-bioc\R\bin\R.exe CMD INSTALL --merge-multiarch --build --library=ACE.buildbin-libdir ACE_1.7.0.tar.gz && C:\Users\biocbuild\bbs-3.12-bioc\R\bin\R.exe CMD INSTALL ACE_1.7.0.zip && rm ACE_1.7.0.tar.gz ACE_1.7.0.zip
###
##############################################################################
##############################################################################


  % Total    % Received % Xferd  Average Speed   Time    Time     Time  Current
                                 Dload  Upload   Total   Spent    Left  Speed

  0     0    0     0    0     0      0      0 --:--:-- --:--:-- --:--:--     0
100  163k  100  163k    0     0  3720k      0 --:--:-- --:--:-- --:--:-- 4082k

install for i386

* installing *source* package 'ACE' ...
** using staged installation
** R
** data
*** moving datasets to lazyload DB
** inst
** byte-compile and prepare package for lazy loading
** help
*** installing help indices
  converting help for package 'ACE'
    finding HTML links ... done
    ACE-package                             html  
    ACEcall                                 html  
    analyzegenomiclocations                 html  
    compresstemplate                        html  
    copyNumbersSegmented                    html  
    correlationmatrix                       html  
    forcesegmentsontemplate                 html  
    getadjustedsegments                     html  
    linkvariants                            html  
    loopsquaremodel                         html  
    objectsampletotemplate                  html  
    postanalysisloop                        html  
    runACE                                  html  
    segmentstotemplate                      html  
    singlemodel                             html  
    singleplot                              html  
    squaremodel                             html  
    squaremodelsummary                      html  
    templatefromequalsegments               html  
    twosamplecompare                        html  
** building package indices
** installing vignettes
** testing if installed package can be loaded from temporary location
** testing if installed package can be loaded from final location
** testing if installed package keeps a record of temporary installation path

install for x64

* installing *source* package 'ACE' ...
** testing if installed package can be loaded
* MD5 sums
packaged installation of 'ACE' as ACE_1.7.0.zip
* DONE (ACE)
* installing to library 'C:/Users/biocbuild/bbs-3.12-bioc/R/library'
package 'ACE' successfully unpacked and MD5 sums checked