Back to Multiple platform build/check report for BioC 3.12
ABCDEFGHIJKLMNOPQ[R]STUVWXYZ

BUILD BIN report for rTRMui on tokay1

This page was generated on 2021-02-22 12:40:35 -0500 (Mon, 22 Feb 2021).

To the developers/maintainers of the rTRMui package:
Please make sure to use the following settings in order to reproduce any error or warning you see on this page.
Package 1601/1974HostnameOS / ArchINSTALLBUILDCHECKBUILD BIN
rTRMui 1.28.0
Diego Diez
Snapshot Date: 2021-02-21 14:52:07 -0500 (Sun, 21 Feb 2021)
URL: https://git.bioconductor.org/packages/rTRMui
Branch: RELEASE_3_12
Last Commit: ea680aa
Last Changed Date: 2020-10-27 10:53:00 -0500 (Tue, 27 Oct 2020)
malbec1Linux (Ubuntu 18.04.5 LTS) / x86_64  OK    OK    OK  UNNEEDED, same version exists in internal repository
nebbiolo1Linux (Ubuntu 20.04.2 LTS) / x86_64  OK    OK    OK  
tokay1Windows Server 2012 R2 Standard / x64  OK    OK    OK    OK  UNNEEDED, same version exists in internal repository
merida1macOS 10.14.6 Mojave / x86_64  OK    OK    OK    OK  UNNEEDED, same version exists in internal repository

Summary

Package: rTRMui
Version: 1.28.0
Command: rm -rf rTRMui.buildbin-libdir && mkdir rTRMui.buildbin-libdir && C:\Users\biocbuild\bbs-3.12-bioc\R\bin\R.exe CMD INSTALL --merge-multiarch --build --library=rTRMui.buildbin-libdir rTRMui_1.28.0.tar.gz
StartedAt: 2021-02-22 10:14:07 -0500 (Mon, 22 Feb 2021)
EndedAt: 2021-02-22 10:15:14 -0500 (Mon, 22 Feb 2021)
EllapsedTime: 67.3 seconds
RetCode: 0
Status:   OK   
PackageFile: rTRMui_1.28.0.zip
PackageFileSize: 792 KiB

Command output

##############################################################################
##############################################################################
###
### Running command:
###
###   rm -rf rTRMui.buildbin-libdir && mkdir rTRMui.buildbin-libdir && C:\Users\biocbuild\bbs-3.12-bioc\R\bin\R.exe CMD INSTALL --merge-multiarch --build --library=rTRMui.buildbin-libdir rTRMui_1.28.0.tar.gz
###
##############################################################################
##############################################################################



install for i386

* installing *source* package 'rTRMui' ...
** using staged installation
** R
** inst
** byte-compile and prepare package for lazy loading
See system.file("LICENSE", package="MotifDb") for use restrictions.
** help
*** installing help indices
  converting help for package 'rTRMui'
    finding HTML links ... done
    rTRMui-package                          html  
    runTRM                                  html  
** building package indices
** installing vignettes
** testing if installed package can be loaded from temporary location
See system.file("LICENSE", package="MotifDb") for use restrictions.
** testing if installed package can be loaded from final location
See system.file("LICENSE", package="MotifDb") for use restrictions.
** testing if installed package keeps a record of temporary installation path

install for x64

* installing *source* package 'rTRMui' ...
** testing if installed package can be loaded
See system.file("LICENSE", package="MotifDb") for use restrictions.
* MD5 sums
packaged installation of 'rTRMui' as rTRMui_1.28.0.zip
* DONE (rTRMui)