Back to Multiple platform build/check report for BioC 3.12
[A]BCDEFGHIJKLMNOPQRSTUVWXYZ

BUILD report for agilp on malbec1

This page was generated on 2020-08-11 11:18:53 -0400 (Tue, 11 Aug 2020).

TO THE DEVELOPERS/MAINTAINERS OF THE agilp PACKAGE: Please make sure to use the following settings in order to reproduce any error or warning you see on this page.
Package 37/1885HostnameOS / ArchINSTALLBUILDCHECKBUILD BIN
agilp 3.21.0
Benny Chain
Snapshot Date: 2020-08-10 14:50:56 -0400 (Mon, 10 Aug 2020)
URL: https://git.bioconductor.org/packages/agilp
Branch: master
Last Commit: 653f88f
Last Changed Date: 2020-04-27 14:31:27 -0400 (Mon, 27 Apr 2020)
malbec1 Linux (Ubuntu 18.04.4 LTS) / x86_64  OK [ OK ] OK UNNEEDED, same version exists in internal repository
nebbiolo1 Linux (Ubuntu 20.04.1 LTS) / x86_64  OK  OK  NA 
tokay1 Windows Server 2012 R2 Standard / x64  OK  OK  OK  OK UNNEEDED, same version exists in internal repository
merida1 macOS 10.14.6 Mojave / x86_64  OK  OK  OK  OK UNNEEDED, same version exists in internal repository

Summary

Package: agilp
Version: 3.21.0
Command: /home/biocbuild/bbs-3.12-bioc/R/bin/R CMD build --keep-empty-dirs --no-resave-data agilp
StartedAt: 2020-08-10 18:31:54 -0400 (Mon, 10 Aug 2020)
EndedAt: 2020-08-10 18:31:59 -0400 (Mon, 10 Aug 2020)
EllapsedTime: 5.5 seconds
RetCode: 0
Status:  OK 
PackageFile: agilp_3.21.0.tar.gz
PackageFileSize: 408.1 KiB

Command output

##############################################################################
##############################################################################
###
### Running command:
###
###   /home/biocbuild/bbs-3.12-bioc/R/bin/R CMD build --keep-empty-dirs --no-resave-data agilp
###
##############################################################################
##############################################################################


* checking for file ‘agilp/DESCRIPTION’ ... OK
* preparing ‘agilp’:
* checking DESCRIPTION meta-information ... OK
* installing the package to build vignettes
* creating vignettes ... OK
* checking for LF line-endings in source and make files and shell scripts
* checking for empty or unneeded directories
* building ‘agilp_3.21.0.tar.gz’