Back to Multiple platform build/check report for BioC 3.12
AB[C]DEFGHIJKLMNOPQRSTUVWXYZ

INSTALL report for Cardinal on tokay1

This page was generated on 2020-08-12 11:42:52 -0400 (Wed, 12 Aug 2020).

TO THE DEVELOPERS/MAINTAINERS OF THE Cardinal PACKAGE: Please make sure to use the following settings in order to reproduce any error or warning you see on this page.
Package 224/1885HostnameOS / ArchINSTALLBUILDCHECKBUILD BIN
Cardinal 2.7.1
Kylie A. Bemis
Snapshot Date: 2020-08-11 14:50:16 -0400 (Tue, 11 Aug 2020)
URL: https://git.bioconductor.org/packages/Cardinal
Branch: master
Last Commit: 8fcee13
Last Changed Date: 2020-05-02 02:24:20 -0400 (Sat, 02 May 2020)
malbec1 Linux (Ubuntu 18.04.4 LTS) / x86_64  ERROR  ERROR  skipped 
nebbiolo1 Linux (Ubuntu 20.04.1 LTS) / x86_64  ERROR  ERROR  skipped 
tokay1 Windows Server 2012 R2 Standard / x64 [ ERROR ] ERROR  skipped  skipped 
merida1 macOS 10.14.6 Mojave / x86_64  ERROR  ERROR  skipped  skipped 

Summary

Package: Cardinal
Version: 2.7.1
Command: C:\cygwin\bin\curl.exe -O https://malbec1.bioconductor.org/BBS/3.12/bioc/src/contrib/Cardinal_2.7.1.tar.gz && rm -rf Cardinal.buildbin-libdir && mkdir Cardinal.buildbin-libdir && C:\Users\biocbuild\bbs-3.12-bioc\R\bin\R.exe CMD INSTALL --merge-multiarch --build --library=Cardinal.buildbin-libdir Cardinal_2.7.1.tar.gz && C:\Users\biocbuild\bbs-3.12-bioc\R\bin\R.exe CMD INSTALL Cardinal_2.7.1.zip && rm Cardinal_2.7.1.tar.gz Cardinal_2.7.1.zip
StartedAt: 2020-08-11 17:56:20 -0400 (Tue, 11 Aug 2020)
EndedAt: 2020-08-11 17:56:27 -0400 (Tue, 11 Aug 2020)
EllapsedTime: 7.5 seconds
RetCode: 1
Status:  ERROR  

Command output

##############################################################################
##############################################################################
###
### Running command:
###
###   C:\cygwin\bin\curl.exe -O https://malbec1.bioconductor.org/BBS/3.12/bioc/src/contrib/Cardinal_2.7.1.tar.gz && rm -rf Cardinal.buildbin-libdir && mkdir Cardinal.buildbin-libdir && C:\Users\biocbuild\bbs-3.12-bioc\R\bin\R.exe CMD INSTALL --merge-multiarch --build --library=Cardinal.buildbin-libdir Cardinal_2.7.1.tar.gz && C:\Users\biocbuild\bbs-3.12-bioc\R\bin\R.exe CMD INSTALL Cardinal_2.7.1.zip && rm Cardinal_2.7.1.tar.gz Cardinal_2.7.1.zip
###
##############################################################################
##############################################################################


  % Total    % Received % Xferd  Average Speed   Time    Time     Time  Current
                                 Dload  Upload   Total   Spent    Left  Speed

  0     0    0     0    0     0      0      0 --:--:-- --:--:-- --:--:--     0
100 1093k  100 1093k    0     0  20.1M      0 --:--:-- --:--:-- --:--:-- 21.7M

install for i386

ERROR: dependency 'matter' is not available for package 'Cardinal'
* removing 'C:/Users/biocbuild/bbs-3.12-bioc/meat/Cardinal.buildbin-libdir/Cardinal'