Back to Multiple platform build/check report for BioC 3.12
AB[C]DEFGHIJKLMNOPQRSTUVWXYZ

BUILD report for Category on malbec1

This page was generated on 2020-08-07 11:15:22 -0400 (Fri, 07 Aug 2020).

TO THE DEVELOPERS/MAINTAINERS OF THE Category PACKAGE: Please make sure to use the following settings in order to reproduce any error or warning you see on this page.
Package 228/1882HostnameOS / ArchINSTALLBUILDCHECKBUILD BIN
Category 2.55.0
Bioconductor Package Maintainer
Snapshot Date: 2020-08-06 14:50:46 -0400 (Thu, 06 Aug 2020)
URL: https://git.bioconductor.org/packages/Category
Branch: master
Last Commit: de14c93
Last Changed Date: 2020-04-27 14:11:31 -0400 (Mon, 27 Apr 2020)
malbec1 Linux (Ubuntu 18.04.4 LTS) / x86_64  OK [ OK ] OK UNNEEDED, same version exists in internal repository
tokay1 Windows Server 2012 R2 Standard / x64  OK  OK  OK  OK UNNEEDED, same version exists in internal repository
merida1 macOS 10.14.6 Mojave / x86_64  OK  OK  OK  OK UNNEEDED, same version exists in internal repository

Summary

Package: Category
Version: 2.55.0
Command: /home/biocbuild/bbs-3.12-bioc/R/bin/R CMD build --keep-empty-dirs --no-resave-data Category
StartedAt: 2020-08-06 17:34:42 -0400 (Thu, 06 Aug 2020)
EndedAt: 2020-08-06 17:35:59 -0400 (Thu, 06 Aug 2020)
EllapsedTime: 76.3 seconds
RetCode: 0
Status:  OK 
PackageFile: Category_2.55.0.tar.gz
PackageFileSize: 901 KiB

Command output

##############################################################################
##############################################################################
###
### Running command:
###
###   /home/biocbuild/bbs-3.12-bioc/R/bin/R CMD build --keep-empty-dirs --no-resave-data Category
###
##############################################################################
##############################################################################


* checking for file ‘Category/DESCRIPTION’ ... OK
* preparing ‘Category’:
* checking DESCRIPTION meta-information ... OK
* installing the package to build vignettes
* creating vignettes ... OK
* checking for LF line-endings in source and make files and shell scripts
* checking for empty or unneeded directories
* building ‘Category_2.55.0.tar.gz’