Back to Multiple platform build/check report for BioC 3.12
[A]BCDEFGHIJKLMNOPQRSTUVWXYZ

BUILD BIN report for ASpli on merida1

This page was generated on 2020-08-06 12:22:44 -0400 (Thu, 06 Aug 2020).

TO THE DEVELOPERS/MAINTAINERS OF THE ASpli PACKAGE: Please make sure to use the following settings in order to reproduce any error or warning you see on this page.
Package 89/1882HostnameOS / ArchINSTALLBUILDCHECKBUILD BIN
ASpli 1.99.2
Estefania Mancini
Snapshot Date: 2020-08-05 14:50:59 -0400 (Wed, 05 Aug 2020)
URL: https://git.bioconductor.org/packages/ASpli
Branch: master
Last Commit: dda9b82
Last Changed Date: 2020-07-21 10:22:53 -0400 (Tue, 21 Jul 2020)
malbec1 Linux (Ubuntu 18.04.4 LTS) / x86_64  OK  OK  OK UNNEEDED, same version exists in internal repository
tokay1 Windows Server 2012 R2 Standard / x64  OK  OK  OK  OK UNNEEDED, same version exists in internal repository
merida1 macOS 10.14.6 Mojave / x86_64  OK  OK  OK [ OK ]UNNEEDED, same version exists in internal repository

Summary

Package: ASpli
Version: 1.99.2
Command: rm -rf ASpli.buildbin-libdir && mkdir ASpli.buildbin-libdir && /Users/biocbuild/BBS/utils/build-universal.sh ASpli_1.99.2.tar.gz /Library/Frameworks/R.framework/Versions/Current/Resources/bin/R ASpli.buildbin-libdir
StartedAt: 2020-08-06 07:10:26 -0400 (Thu, 06 Aug 2020)
EndedAt: 2020-08-06 07:12:08 -0400 (Thu, 06 Aug 2020)
EllapsedTime: 103.0 seconds
RetCode: 0
Status:  OK 
PackageFile: ASpli_1.99.2.tgz
PackageFileSize: 2.732 MiB

Command output

##############################################################################
##############################################################################
###
### Running command:
###
###   rm -rf ASpli.buildbin-libdir && mkdir ASpli.buildbin-libdir && /Users/biocbuild/BBS/utils/build-universal.sh ASpli_1.99.2.tar.gz /Library/Frameworks/R.framework/Versions/Current/Resources/bin/R ASpli.buildbin-libdir
###
##############################################################################
##############################################################################


>>>>>>> 
>>>>>>> INSTALLATION WITH 'R CMD INSTALL --preclean --no-multiarch --library=ASpli.buildbin-libdir ASpli_1.99.2.tar.gz'
>>>>>>> 

* installing *source* package ‘ASpli’ ...
** using staged installation
** R
** inst
** byte-compile and prepare package for lazy loading
** help
*** installing help indices
** building package indices
** installing vignettes
** testing if installed package can be loaded from temporary location
** testing if installed package can be loaded from final location
** testing if installed package keeps a record of temporary installation path
* DONE (ASpli)