Back to Multiple platform build/check report for BioC 3.12
ABCDEFGHIJKLMNOPQ[R]STUVWXYZ

INSTALL report for rTRMui on merida1

This page was generated on 2021-04-22 12:36:51 -0400 (Thu, 22 Apr 2021).

To the developers/maintainers of the rTRMui package:
Please make sure to use the following settings in order to reproduce any error or warning you see on this page.
Package 1601/1974HostnameOS / ArchINSTALLBUILDCHECKBUILD BIN
rTRMui 1.28.0  (landing page)
Diego Diez
Snapshot Date: 2021-04-21 14:50:06 -0400 (Wed, 21 Apr 2021)
URL: https://git.bioconductor.org/packages/rTRMui
Branch: RELEASE_3_12
Last Commit: ea680aa
Last Changed Date: 2020-10-27 10:53:00 -0400 (Tue, 27 Oct 2020)
malbec1Linux (Ubuntu 18.04.5 LTS) / x86_64  OK    OK    OK  UNNEEDED, same version exists in internal repository
tokay1Windows Server 2012 R2 Standard / x64  OK    OK    OK    OK  UNNEEDED, same version exists in internal repository
merida1macOS 10.14.6 Mojave / x86_64  OK    OK    OK    OK  UNNEEDED, same version exists in internal repository

Summary

Package: rTRMui
Version: 1.28.0
Command: /Library/Frameworks/R.framework/Versions/Current/Resources/bin/R CMD INSTALL rTRMui
StartedAt: 2021-04-21 17:13:57 -0400 (Wed, 21 Apr 2021)
EndedAt: 2021-04-21 17:14:51 -0400 (Wed, 21 Apr 2021)
EllapsedTime: 53.5 seconds
RetCode: 0
Status:   OK  

Command output

##############################################################################
##############################################################################
###
### Running command:
###
###   /Library/Frameworks/R.framework/Versions/Current/Resources/bin/R CMD INSTALL rTRMui
###
##############################################################################
##############################################################################


* installing to library ‘/Library/Frameworks/R.framework/Versions/4.0/Resources/library’
* installing *source* package ‘rTRMui’ ...
** using staged installation
** R
** inst
** byte-compile and prepare package for lazy loading
See system.file("LICENSE", package="MotifDb") for use restrictions.
** help
*** installing help indices
** building package indices
** installing vignettes
** testing if installed package can be loaded from temporary location
See system.file("LICENSE", package="MotifDb") for use restrictions.
** testing if installed package can be loaded from final location
See system.file("LICENSE", package="MotifDb") for use restrictions.
** testing if installed package keeps a record of temporary installation path
* DONE (rTRMui)