Back to Multiple platform build/check report for BioC 3.12
A[B]CDEFGHIJKLMNOPQRSTUVWXYZ

BUILD BIN report for BiocOncoTK on merida1

This page was generated on 2020-08-07 12:38:39 -0400 (Fri, 07 Aug 2020).

TO THE DEVELOPERS/MAINTAINERS OF THE BiocOncoTK PACKAGE: Please make sure to use the following settings in order to reproduce any error or warning you see on this page.
Package 155/1882HostnameOS / ArchINSTALLBUILDCHECKBUILD BIN
BiocOncoTK 1.9.0
VJ Carey
Snapshot Date: 2020-08-06 14:50:46 -0400 (Thu, 06 Aug 2020)
URL: https://git.bioconductor.org/packages/BiocOncoTK
Branch: master
Last Commit: e08ae5b
Last Changed Date: 2020-04-27 15:16:30 -0400 (Mon, 27 Apr 2020)
malbec1 Linux (Ubuntu 18.04.4 LTS) / x86_64  OK  OK  OK UNNEEDED, same version exists in internal repository
tokay1 Windows Server 2012 R2 Standard / x64  OK  OK  WARNINGS  OK UNNEEDED, same version exists in internal repository
merida1 macOS 10.14.6 Mojave / x86_64  OK  OK  OK [ OK ]UNNEEDED, same version exists in internal repository

Summary

Package: BiocOncoTK
Version: 1.9.0
Command: rm -rf BiocOncoTK.buildbin-libdir && mkdir BiocOncoTK.buildbin-libdir && /Users/biocbuild/BBS/utils/build-universal.sh BiocOncoTK_1.9.0.tar.gz /Library/Frameworks/R.framework/Versions/Current/Resources/bin/R BiocOncoTK.buildbin-libdir
StartedAt: 2020-08-07 07:34:22 -0400 (Fri, 07 Aug 2020)
EndedAt: 2020-08-07 07:35:55 -0400 (Fri, 07 Aug 2020)
EllapsedTime: 92.9 seconds
RetCode: 0
Status:  OK 
PackageFile: BiocOncoTK_1.9.0.tgz
PackageFileSize: 10.66 MiB

Command output

##############################################################################
##############################################################################
###
### Running command:
###
###   rm -rf BiocOncoTK.buildbin-libdir && mkdir BiocOncoTK.buildbin-libdir && /Users/biocbuild/BBS/utils/build-universal.sh BiocOncoTK_1.9.0.tar.gz /Library/Frameworks/R.framework/Versions/Current/Resources/bin/R BiocOncoTK.buildbin-libdir
###
##############################################################################
##############################################################################


>>>>>>> 
>>>>>>> INSTALLATION WITH 'R CMD INSTALL --preclean --no-multiarch --library=BiocOncoTK.buildbin-libdir BiocOncoTK_1.9.0.tar.gz'
>>>>>>> 

* installing *source* package ‘BiocOncoTK’ ...
** using staged installation
** R
** data
*** moving datasets to lazyload DB
** inst
** byte-compile and prepare package for lazy loading
** help
*** installing help indices
** building package indices
** installing vignettes
** testing if installed package can be loaded from temporary location
** testing if installed package can be loaded from final location
** testing if installed package keeps a record of temporary installation path
* DONE (BiocOncoTK)