Back to Multiple platform build/check report for BioC 3.12
AB[C]DEFGHIJKLMNOPQRSTUVWXYZ

BUILD report for celaref on malbec1

This page was generated on 2020-08-13 11:20:28 -0400 (Thu, 13 Aug 2020).

TO THE DEVELOPERS/MAINTAINERS OF THE celaref PACKAGE: Please make sure to use the following settings in order to reproduce any error or warning you see on this page.
Package 237/1885HostnameOS / ArchINSTALLBUILDCHECKBUILD BIN
celaref 1.7.0
Sarah Williams
Snapshot Date: 2020-08-12 14:52:00 -0400 (Wed, 12 Aug 2020)
URL: https://git.bioconductor.org/packages/celaref
Branch: master
Last Commit: 03fcc15
Last Changed Date: 2020-04-27 15:18:36 -0400 (Mon, 27 Apr 2020)
malbec1 Linux (Ubuntu 18.04.4 LTS) / x86_64  OK [ OK ] OK UNNEEDED, same version exists in internal repository
nebbiolo1 Linux (Ubuntu 20.04.1 LTS) / x86_64  OK  OK  OK 
tokay1 Windows Server 2012 R2 Standard / x64  OK  OK  OK  OK UNNEEDED, same version exists in internal repository
merida1 macOS 10.14.6 Mojave / x86_64  OK  OK  OK  OK UNNEEDED, same version exists in internal repository

Summary

Package: celaref
Version: 1.7.0
Command: /home/biocbuild/bbs-3.12-bioc/R/bin/R CMD build --keep-empty-dirs --no-resave-data celaref
StartedAt: 2020-08-12 21:46:57 -0400 (Wed, 12 Aug 2020)
EndedAt: 2020-08-12 21:50:26 -0400 (Wed, 12 Aug 2020)
EllapsedTime: 208.9 seconds
RetCode: 0
Status:  OK 
PackageFile: celaref_1.7.0.tar.gz
PackageFileSize: 3.177 MiB

Command output

##############################################################################
##############################################################################
###
### Running command:
###
###   /home/biocbuild/bbs-3.12-bioc/R/bin/R CMD build --keep-empty-dirs --no-resave-data celaref
###
##############################################################################
##############################################################################


* checking for file ‘celaref/DESCRIPTION’ ... OK
* preparing ‘celaref’:
* checking DESCRIPTION meta-information ... OK
* installing the package to build vignettes
* creating vignettes ... OK
* checking for LF line-endings in source and make files and shell scripts
* checking for empty or unneeded directories
* building ‘celaref_1.7.0.tar.gz’